BEGIN:VCALENDAR
VERSION:2.0
PRODID:-//Livehouse Wall - ECPv6.15.20//NONSGML v1.0//EN
CALSCALE:GREGORIAN
METHOD:PUBLISH
X-WR-CALNAME:Livehouse Wall
X-ORIGINAL-URL:https://nakano-dynamite.com/wall
X-WR-CALDESC:Livehouse Wall のイベント
REFRESH-INTERVAL;VALUE=DURATION:PT1H
X-Robots-Tag:noindex
X-PUBLISHED-TTL:PT1H
BEGIN:VTIMEZONE
TZID:Asia/Tokyo
BEGIN:STANDARD
TZOFFSETFROM:+0900
TZOFFSETTO:+0900
TZNAME:JST
DTSTART:20220101T000000
END:STANDARD
END:VTIMEZONE
BEGIN:VEVENT
DTSTART;TZID=Asia/Tokyo:20230831T180000
DTEND;TZID=Asia/Tokyo:20230831T220000
DTSTAMP:20260422T083650
CREATED:20230628T102302Z
LAST-MODIFIED:20230628T105350Z
UID:1391-1693504800-1693519200@nakano-dynamite.com
SUMMARY:Tiger Snakes Japan Tour
DESCRIPTION:2023.08.31 (Thu)\nOPEN 18:00  START 18:30\nADV ¥2400 DOOR ¥2900+1D\n\nTiger Snakes(AUS) \nHOW \nTRES \nJESSY \nDOING LIFE \nSOBUT\n\nWALL pre\nTiger Snakes Japan Tour\n@初台WALL
URL:https://nakano-dynamite.com/wall/event/2023-08-31/
LOCATION:初台WALL\, 西新宿　3-15-8-B1\, 新宿区\, 東京都\, 160-0023\, Japan
ATTACH;FMTTYPE=image/jpeg:https://nakano-dynamite.com/wall/wp-content/uploads/2023/06/20230831.jpg
END:VEVENT
BEGIN:VEVENT
DTSTART;TZID=Asia/Tokyo:20230511T183000
DTEND;TZID=Asia/Tokyo:20230511T220000
DTSTAMP:20260422T083650
CREATED:20230407T082927Z
LAST-MODIFIED:20230407T082927Z
UID:1165-1683829800-1683842400@nakano-dynamite.com
SUMMARY:砕けねー壁なんてねー vol.1　
DESCRIPTION:2023.05.11 (tue)\nOPEN 18:30 START 19:00\nADV ￥1900+1D  DOOR　¥2400+1D\n\nAYAFUYA\nダーハマ\nHOW\nクーズーズ\nDOING LIFE\n\nダーハマ×ヤスイpre\n砕けねー壁なんてねー vol.1　\n＠初台WALL
URL:https://nakano-dynamite.com/wall/event/2023-05-11/
LOCATION:初台WALL\, 西新宿　3-15-8-B1\, 新宿区\, 東京都\, 160-0023\, Japan
ATTACH;FMTTYPE=image/jpeg:https://nakano-dynamite.com/wall/wp-content/uploads/2023/04/20230511.jpg
END:VEVENT
END:VCALENDAR