BEGIN:VCALENDAR
VERSION:2.0
PRODID:-//Livehouse Wall - ECPv6.15.20//NONSGML v1.0//EN
CALSCALE:GREGORIAN
METHOD:PUBLISH
X-WR-CALNAME:Livehouse Wall
X-ORIGINAL-URL:https://nakano-dynamite.com/wall
X-WR-CALDESC:Livehouse Wall のイベント
REFRESH-INTERVAL;VALUE=DURATION:PT1H
X-Robots-Tag:noindex
X-PUBLISHED-TTL:PT1H
BEGIN:VTIMEZONE
TZID:Asia/Tokyo
BEGIN:STANDARD
TZOFFSETFROM:+0900
TZOFFSETTO:+0900
TZNAME:JST
DTSTART:20220101T000000
END:STANDARD
END:VTIMEZONE
BEGIN:VEVENT
DTSTART;TZID=Asia/Tokyo:20231015T183000
DTEND;TZID=Asia/Tokyo:20231015T220000
DTSTAMP:20260422T102528
CREATED:20230803T090033Z
LAST-MODIFIED:20230806T121057Z
UID:1510-1697394600-1697407200@nakano-dynamite.com
SUMMARY:沈黙の西新宿
DESCRIPTION:2023.10.15　(sun)\nOPEN 18:30  START 19:00\nDOOR ￥3500(1D込)\n\nSHINING MOMENTS　 \nNoizegoat　(京都) \nDiktator　(仙台) \nDozeone　 \nDownward\n\n\nWALL pre\n沈黙の西新宿\n@初台WALL
URL:https://nakano-dynamite.com/wall/event/2023-10-15/
LOCATION:初台WALL\, 西新宿　3-15-8-B1\, 新宿区\, 東京都\, 160-0023\, Japan
ATTACH;FMTTYPE=image/jpeg:https://nakano-dynamite.com/wall/wp-content/uploads/2023/08/1015-5.jpg
END:VEVENT
BEGIN:VEVENT
DTSTART;TZID=Asia/Tokyo:20231001T160000
DTEND;TZID=Asia/Tokyo:20231001T220000
DTSTAMP:20260422T102528
CREATED:20230822T042835Z
LAST-MODIFIED:20230822T042835Z
UID:1546-1696176000-1696197600@nakano-dynamite.com
SUMMARY:SUNDAY UN-FES
DESCRIPTION:2023.10.01 (sun)\nOPEN 16:00  START 16:30\nDOOR ￥2000＋1D\n\nABOS \nNO TIME TO PRAY \nHOW \nTWO FACE \nTHORN \nLIVE IT DOWN \nDOWNWARD \nUNDONE\n\n\nUNDONE pre\nSUNDAY UN-FES\n＠初台WALL
URL:https://nakano-dynamite.com/wall/event/2023-10-01/
LOCATION:初台WALL\, 西新宿　3-15-8-B1\, 新宿区\, 東京都\, 160-0023\, Japan
ATTACH;FMTTYPE=image/jpeg:https://nakano-dynamite.com/wall/wp-content/uploads/2023/08/20231001.jpg
END:VEVENT
BEGIN:VEVENT
DTSTART;TZID=Asia/Tokyo:20230415T170000
DTEND;TZID=Asia/Tokyo:20230415T220000
DTSTAMP:20260422T102528
CREATED:20230302T082902Z
LAST-MODIFIED:20230302T082902Z
UID:1057-1681578000-1681596000@nakano-dynamite.com
SUMMARY:make other meaning
DESCRIPTION:2023.04.15(sat)\nOPEN 17:00 START 17:30\nDOOR ONLY ¥2000+1D\n\n\n0.001DAY\nBRING ARROW\nCUT-RATE DRUGGIST(from Oakland)\nDownward\nFRACTURE\nNO VALUE\n \n001DAY狂平 pre\n『make other meaning』\n0.001DAY 『Divide in two』release party‼️\n@初台WALL
URL:https://nakano-dynamite.com/wall/event/2023-04-15/
LOCATION:初台WALL\, 西新宿　3-15-8-B1\, 新宿区\, 東京都\, 160-0023\, Japan
ATTACH;FMTTYPE=image/jpeg:https://nakano-dynamite.com/wall/wp-content/uploads/2023/03/20230415.jpg
END:VEVENT
BEGIN:VEVENT
DTSTART;TZID=Asia/Tokyo:20230319T170000
DTEND;TZID=Asia/Tokyo:20230319T220000
DTSTAMP:20260422T102528
CREATED:20230204T132228Z
LAST-MODIFIED:20230204T132955Z
UID:938-1679245200-1679263200@nakano-dynamite.com
SUMMARY:Die right party
DESCRIPTION:2023.03.19(Sun)\nOPEN 17:00\nDOOR ￥2000+1D\n\n<BAND> \nSECONDARMS \nDownward\nABOS \nBumped his head \n9991 \n\n<DJ> \nKEI \n床松 \nONCEMORE \n\nDieright crew pre\nDie right party\n@初台WALL
URL:https://nakano-dynamite.com/wall/event/2023-03-19/
LOCATION:初台WALL\, 西新宿　3-15-8-B1\, 新宿区\, 東京都\, 160-0023\, Japan
ATTACH;FMTTYPE=image/jpeg:https://nakano-dynamite.com/wall/wp-content/uploads/2023/02/20230319.jpg
END:VEVENT
END:VCALENDAR