BEGIN:VCALENDAR
VERSION:2.0
PRODID:-//Livehouse Wall - ECPv6.15.20//NONSGML v1.0//EN
CALSCALE:GREGORIAN
METHOD:PUBLISH
X-WR-CALNAME:Livehouse Wall
X-ORIGINAL-URL:https://nakano-dynamite.com/wall
X-WR-CALDESC:Livehouse Wall のイベント
REFRESH-INTERVAL;VALUE=DURATION:PT1H
X-Robots-Tag:noindex
X-PUBLISHED-TTL:PT1H
BEGIN:VTIMEZONE
TZID:Asia/Tokyo
BEGIN:STANDARD
TZOFFSETFROM:+0900
TZOFFSETTO:+0900
TZNAME:JST
DTSTART:20230101T000000
END:STANDARD
END:VTIMEZONE
BEGIN:VEVENT
DTSTART;TZID=Asia/Tokyo:20240719T183000
DTEND;TZID=Asia/Tokyo:20240719T220000
DTSTAMP:20260420T044521
CREATED:20240711T110235Z
LAST-MODIFIED:20240711T110235Z
UID:2757-1721413800-1721426400@nakano-dynamite.com
SUMMARY:Still Dreaming -Til I Die- TOUR2024
DESCRIPTION:2024.07.19(fri)\nOPEN 18:30\nSTART 19:00\n※一般発売終了\n\ndustbox\nMEANING\n\ndustbox pre.\nStill Dreaming -Til I Die-tour2024\n@初台WALL
URL:https://nakano-dynamite.com/wall/event/2024-07-19/
LOCATION:初台WALL\, 西新宿　3-15-8-B1\, 新宿区\, 東京都\, 160-0023\, Japan
ATTACH;FMTTYPE=image/jpeg:https://nakano-dynamite.com/wall/wp-content/uploads/2024/07/2024dustboxtour.jpg
END:VEVENT
END:VCALENDAR