BEGIN:VCALENDAR
VERSION:2.0
PRODID:-//Livehouse Wall - ECPv6.15.20//NONSGML v1.0//EN
CALSCALE:GREGORIAN
METHOD:PUBLISH
X-WR-CALNAME:Livehouse Wall
X-ORIGINAL-URL:https://nakano-dynamite.com/wall
X-WR-CALDESC:Livehouse Wall のイベント
REFRESH-INTERVAL;VALUE=DURATION:PT1H
X-Robots-Tag:noindex
X-PUBLISHED-TTL:PT1H
BEGIN:VTIMEZONE
TZID:Asia/Tokyo
BEGIN:STANDARD
TZOFFSETFROM:+0900
TZOFFSETTO:+0900
TZNAME:JST
DTSTART:20220101T000000
END:STANDARD
END:VTIMEZONE
BEGIN:VEVENT
DTSTART;TZID=Asia/Tokyo:20240114T120000
DTEND;TZID=Asia/Tokyo:20240114T180000
DTSTAMP:20260426T115926
CREATED:20231224T075348Z
LAST-MODIFIED:20231224T075348Z
UID:2196-1705233600-1705255200@nakano-dynamite.com
SUMMARY:OVER ALL
DESCRIPTION:2024.01.14 (sun)\nOPEN 12:00  START 12:30\nDOOR ￥1900＋1D\n\nHOW \nRYDEEN \nEL NUDO \nFLIPOUT A.A \nLAST RIGHT BRIGADE \n\n\nOVER ALL CREW pre\nOVER ALL\n@初台WALL
URL:https://nakano-dynamite.com/wall/event/2024-01-14/
LOCATION:初台WALL\, 西新宿　3-15-8-B1\, 新宿区\, 東京都\, 160-0023\, Japan
ATTACH;FMTTYPE=image/jpeg:https://nakano-dynamite.com/wall/wp-content/uploads/2023/12/20240114.jpg
END:VEVENT
BEGIN:VEVENT
DTSTART;TZID=Asia/Tokyo:20230717T160000
DTEND;TZID=Asia/Tokyo:20230717T220000
DTSTAMP:20260426T115926
CREATED:20230608T083800Z
LAST-MODIFIED:20230608T083800Z
UID:1341-1689609600-1689631200@nakano-dynamite.com
SUMMARY:ALCOHOL BREAK
DESCRIPTION:2023.07.17 (mon)\nOPEN 16:00 START 16:30\nDOOR ¥2400+1D\n\nVxNx \nEL NUDO \nFASTner \nアシックス★ブーメランズ \nMASSPRESS(会津) \nmolamola \nFUCK ON THE BEACH \nブラジル人(水戸) \nNK6\n\n\nWALL pre\nALCOHOL BREAK\n@初台WALL
URL:https://nakano-dynamite.com/wall/event/2023-07-17/
LOCATION:初台WALL\, 西新宿　3-15-8-B1\, 新宿区\, 東京都\, 160-0023\, Japan
ATTACH;FMTTYPE=image/jpeg:https://nakano-dynamite.com/wall/wp-content/uploads/2023/06/20230717.jpg
END:VEVENT
BEGIN:VEVENT
DTSTART;TZID=Asia/Tokyo:20230311T170000
DTEND;TZID=Asia/Tokyo:20230311T220000
DTSTAMP:20260426T115926
CREATED:20230126T101229Z
LAST-MODIFIED:20230215T020258Z
UID:791-1678554000-1678572000@nakano-dynamite.com
SUMMARY:OVER ALL
DESCRIPTION:2023.03.11(sat)\nOPEN 17:00 START 17:30\n¥2\,000 + 1D\n\nHOW\nHEXO\ntable\nstench\nNAMASTE\nEL NUDO\nマドハンド(群馬)\n\nOVER ALL CREW presents\nOVER ALL @初台WALL
URL:https://nakano-dynamite.com/wall/event/2023-03-11/
LOCATION:初台WALL\, 西新宿　3-15-8-B1\, 新宿区\, 東京都\, 160-0023\, Japan
CATEGORIES:OVER ALL
ATTACH;FMTTYPE=image/jpeg:https://nakano-dynamite.com/wall/wp-content/uploads/2023/01/20230311.jpg
END:VEVENT
BEGIN:VEVENT
DTSTART;TZID=Asia/Tokyo:20230218T153000
DTEND;TZID=Asia/Tokyo:20230218T220000
DTSTAMP:20260426T115926
CREATED:20230203T115049Z
LAST-MODIFIED:20230203T174248Z
UID:882-1676734200-1676757600@nakano-dynamite.com
SUMMARY:RADICAL HOUR vol.1
DESCRIPTION:2023.02.18(sat)\nOPEN 15:30 START 16:00\nDOOR ¥2000+1D\n\n\nFUROUJI\nFRACTURE\nIMPARA\nVAD\nTOKYO MENTAL PICTURES SESSION BAND\nCRISPY NUTS\nEL NUDO\nTRES\nDJ TANMA(REDNECKS/HAAVA)\nFOOD ササノのごはん\n\nFUROUJI＆TRES pre\nRADICAL HOUR Vol.1\n@初台WALL
URL:https://nakano-dynamite.com/wall/event/2023-2-18/
LOCATION:初台WALL\, 西新宿　3-15-8-B1\, 新宿区\, 東京都\, 160-0023\, Japan
ATTACH;FMTTYPE=image/jpeg:https://nakano-dynamite.com/wall/wp-content/uploads/2023/02/20230218.jpg
END:VEVENT
END:VCALENDAR