BEGIN:VCALENDAR
VERSION:2.0
PRODID:-//Livehouse Wall - ECPv6.15.20//NONSGML v1.0//EN
CALSCALE:GREGORIAN
METHOD:PUBLISH
X-WR-CALNAME:Livehouse Wall
X-ORIGINAL-URL:https://nakano-dynamite.com/wall
X-WR-CALDESC:Livehouse Wall のイベント
REFRESH-INTERVAL;VALUE=DURATION:PT1H
X-Robots-Tag:noindex
X-PUBLISHED-TTL:PT1H
BEGIN:VTIMEZONE
TZID:Asia/Tokyo
BEGIN:STANDARD
TZOFFSETFROM:+0900
TZOFFSETTO:+0900
TZNAME:JST
DTSTART:20220101T000000
END:STANDARD
END:VTIMEZONE
BEGIN:VEVENT
DTSTART;TZID=Asia/Tokyo:20251122T140000
DTEND;TZID=Asia/Tokyo:20251122T220000
DTSTAMP:20260419T235713
CREATED:20251007T110016Z
LAST-MODIFIED:20251007T024534Z
UID:4264-1763820000-1763848800@nakano-dynamite.com
SUMMARY:DEAR
DESCRIPTION:OPEN TBA\nSTART TBA\nTICKET ¥3\,000\n+1Drink Charge\n\nabiuro\nDECASION\nELMO\nMurakuMo\nNoLA\nYENFOR\nDJ\nMark Loafer(DOGBITE)\nKonosu City Lonely Evil \nFOOD\nTACO ES LA HOSTIA \n \nJORIKO & ZAMO Presents.\nDEAR\n@初台WALL
URL:https://nakano-dynamite.com/wall/event/2025-11-22/
LOCATION:初台WALL\, 西新宿　3-15-8-B1\, 新宿区\, 東京都\, 160-0023\, Japan
CATEGORIES:ALCOHOL BREAK
ATTACH;FMTTYPE=image/jpeg:https://nakano-dynamite.com/wall/wp-content/uploads/2025/10/S__118784042.jpg
END:VEVENT
BEGIN:VEVENT
DTSTART;TZID=Asia/Tokyo:20250928T173000
DTEND;TZID=Asia/Tokyo:20250928T220000
DTSTAMP:20260419T235713
CREATED:20250909T025405Z
LAST-MODIFIED:20250909T025405Z
UID:4189-1759080600-1759096800@nakano-dynamite.com
SUMMARY:NO MODEL & SOUR. Play In TOKYO
DESCRIPTION:2025.09.28(sun)\nOPEN 17:30\nSTART 18:00\nADV ¥3000\nDOOR ¥3500\n+1D\nNO MODEL from NJ\, MD\, MA\, PA\nSOUR. from OHIO\nELMO\nMEA CULPA\nSTILL\nTRAGIC FILM\n\n\nblack hole pre.\nNO MODEL & SOUR. Play in TOKYO\n@初台WALL
URL:https://nakano-dynamite.com/wall/event/2025-09-28/
LOCATION:初台WALL\, 西新宿　3-15-8-B1\, 新宿区\, 東京都\, 160-0023\, Japan
ATTACH;FMTTYPE=image/jpeg:https://nakano-dynamite.com/wall/wp-content/uploads/2025/09/20250928.jpg
END:VEVENT
BEGIN:VEVENT
DTSTART;TZID=Asia/Tokyo:20241005T170000
DTEND;TZID=Asia/Tokyo:20241005T220000
DTSTAMP:20260419T235713
CREATED:20240906T142717Z
LAST-MODIFIED:20240906T142717Z
UID:2974-1728147600-1728165600@nakano-dynamite.com
SUMMARY:ENDLESS SWARM JAPAN TOUR 2024
DESCRIPTION:2024.10.05(sat)\nOPEN 17:00\nSTART 17:30\nADV ¥2500\nDOOR ¥3000\n+1D\n\nENDLESS SWARM(scotland)\nMEA CULPA\nILL JOE\nFINAL EXIT\nELMO\nDoomsday \n\n\nWALL pre.\nENDLESS SWARM JAPAN TOUR 2024\n@初台WALL
URL:https://nakano-dynamite.com/wall/event/2024-10-05/
LOCATION:初台WALL\, 西新宿　3-15-8-B1\, 新宿区\, 東京都\, 160-0023\, Japan
ATTACH;FMTTYPE=image/jpeg:https://nakano-dynamite.com/wall/wp-content/uploads/2024/09/20241005.jpg
END:VEVENT
BEGIN:VEVENT
DTSTART;TZID=Asia/Tokyo:20230902T150000
DTEND;TZID=Asia/Tokyo:20230902T220000
DTSTAMP:20260419T235713
CREATED:20230725T095635Z
LAST-MODIFIED:20230725T095742Z
UID:1471-1693666800-1693692000@nakano-dynamite.com
SUMMARY:CONVINIUM vol.7
DESCRIPTION:2023.09.02 (sat)\nOPEN 15:00  START 15:30\nDOOR ￥2400＋1D\n\nAbiuro \nand more(静岡) \nBELMADIGULA \ncemment \nDxIxE \nELMO \nNEGATIVE SUN \nSithter \nTODESTRIEB\n\n\nabiuro pre\nCONVINIUM vol.7\n＠初台WALL
URL:https://nakano-dynamite.com/wall/event/2023-09-02/
LOCATION:初台WALL\, 西新宿　3-15-8-B1\, 新宿区\, 東京都\, 160-0023\, Japan
ATTACH;FMTTYPE=image/jpeg:https://nakano-dynamite.com/wall/wp-content/uploads/2023/07/20230902.jpg
END:VEVENT
END:VCALENDAR