BEGIN:VCALENDAR
VERSION:2.0
PRODID:-//Livehouse Wall - ECPv6.15.20//NONSGML v1.0//EN
CALSCALE:GREGORIAN
METHOD:PUBLISH
X-WR-CALNAME:Livehouse Wall
X-ORIGINAL-URL:https://nakano-dynamite.com/wall
X-WR-CALDESC:Livehouse Wall のイベント
REFRESH-INTERVAL;VALUE=DURATION:PT1H
X-Robots-Tag:noindex
X-PUBLISHED-TTL:PT1H
BEGIN:VTIMEZONE
TZID:Asia/Tokyo
BEGIN:STANDARD
TZOFFSETFROM:+0900
TZOFFSETTO:+0900
TZNAME:JST
DTSTART:20240101T000000
END:STANDARD
END:VTIMEZONE
BEGIN:VEVENT
DTSTART;TZID=Asia/Tokyo:20250531T150000
DTEND;TZID=Asia/Tokyo:20250531T220000
DTSTAMP:20260422T095946
CREATED:20250506T032836Z
LAST-MODIFIED:20250506T032836Z
UID:3722-1748703600-1748728800@nakano-dynamite.com
SUMMARY:pain killer
DESCRIPTION:2025.05.31(sat)\nOPEN 15:00\nSTART 15:30\nDOOR ¥2900\n+1D\n\nCUSPER\nSMAP\nPASTORAL\nAS A SKETCH PAD\nやっほー\nHAGACHONG\n九蓮宝燈\nFIRE BOYS\nFLESH ON STAGE\nSAD FUK\nGUIDO\nINJURY TAPE\n\n-DJ-\nSun Emoji\nBluemew\n便器\nBig Factor\nVery_lovely\n\n\npain killer\n@初台WALL
URL:https://nakano-dynamite.com/wall/event/2025-05-31/
LOCATION:初台WALL\, 西新宿　3-15-8-B1\, 新宿区\, 東京都\, 160-0023\, Japan
ATTACH;FMTTYPE=image/jpeg:https://nakano-dynamite.com/wall/wp-content/uploads/2025/05/20250531.jpg
END:VEVENT
BEGIN:VEVENT
DTSTART;TZID=Asia/Tokyo:20250430T180000
DTEND;TZID=Asia/Tokyo:20250430T220000
DTSTAMP:20260422T095946
CREATED:20250410T083142Z
LAST-MODIFIED:20250410T083143Z
UID:3618-1746036000-1746050400@nakano-dynamite.com
SUMMARY:TANKTOP
DESCRIPTION:2025.04.30(wed)\nOPEN 18:00\nSTART 18:30\nDOOR ¥2400\nU23 ¥1400\n+1D\n\nSOCCER.\nFIRE BOYS\nゆっくり走れ\nサヨナラボーイ\n煩悩バイブ\nペガサス団\n兄兄\n朽\n\n\nWALL pre.\nTANKTOP\n@初台WALL
URL:https://nakano-dynamite.com/wall/event/2025-04-30/
LOCATION:初台WALL\, 西新宿　3-15-8-B1\, 新宿区\, 東京都\, 160-0023\, Japan
ATTACH;FMTTYPE=image/jpeg:https://nakano-dynamite.com/wall/wp-content/uploads/2025/04/20250430.jpg
END:VEVENT
BEGIN:VEVENT
DTSTART;TZID=Asia/Tokyo:20250329T170000
DTEND;TZID=Asia/Tokyo:20250329T220000
DTSTAMP:20260422T095946
CREATED:20250222T065017Z
LAST-MODIFIED:20250222T065017Z
UID:3494-1743267600-1743285600@nakano-dynamite.com
SUMMARY:ピーポーズのパピプペポパペパピー3
DESCRIPTION:2025.03.29(sat)\nOPEN 17:30\nSTART 17:45\nDOOR ¥1900\nU-23 ¥400\n+1D\nABOS\nbaduerykah\nFIRE BOYS\nmisaki!!\n黄倉未来\nでぶコーネリアスEX\nピーポーズ\n\n\n\nピーポーズ pre.\nピーポーズのパピプペポパペパピー3\n@初台WALL
URL:https://nakano-dynamite.com/wall/event/2025-03-29/
LOCATION:初台WALL\, 西新宿　3-15-8-B1\, 新宿区\, 東京都\, 160-0023\, Japan
ATTACH;FMTTYPE=image/jpeg:https://nakano-dynamite.com/wall/wp-content/uploads/2025/02/20250329.jpg
END:VEVENT
BEGIN:VEVENT
DTSTART;TZID=Asia/Tokyo:20250224T160000
DTEND;TZID=Asia/Tokyo:20250224T220000
DTSTAMP:20260422T095946
CREATED:20250127T144805Z
LAST-MODIFIED:20250127T144805Z
UID:3374-1740412800-1740434400@nakano-dynamite.com
SUMMARY:MAKING FRIENDS vol.9
DESCRIPTION:2025.02.24(mon)\nOPEN 16:00\nSTART 16:30\nDOOR ¥2400\n+1D\nTHPY\nhouse of the blood choir(大阪)\nLimited express(has gone?)\nHazy sour cherry\nFIRE BOYS\nWAR/ZIT\nTHE JUNGLES!!!\n煩悩バイブ\n\n\n\nWALL pre.\nMAKING FRIENDS vol.9\n@初台WALL
URL:https://nakano-dynamite.com/wall/event/2025-02-24/
LOCATION:初台WALL\, 西新宿　3-15-8-B1\, 新宿区\, 東京都\, 160-0023\, Japan
ATTACH;FMTTYPE=image/jpeg:https://nakano-dynamite.com/wall/wp-content/uploads/2025/01/20250224.jpg
END:VEVENT
BEGIN:VEVENT
DTSTART;TZID=Asia/Tokyo:20250125T160000
DTEND;TZID=Asia/Tokyo:20250125T220000
DTSTAMP:20260422T095946
CREATED:20241222T110232Z
LAST-MODIFIED:20241222T111023Z
UID:3276-1737820800-1737842400@nakano-dynamite.com
SUMMARY:PAIN KILLER pre.
DESCRIPTION:2025.01.25(sat)\nOPEN 16:00\nSTART 16:30\nADV/DOOR ¥3000\n+1D\n\nLipstick\nat field of school\nNastie\nFire Boys\nANALSKULLFUCK\n未来電波基地\nas a sketch pad\nPenisboys\n\n-DJ-\n便器\n岩井慎吾\nM4NIC\n安全第一\netc...\n\n\n\nPAIN KILLER pre.\n\n@初台WALL
URL:https://nakano-dynamite.com/wall/event/2025-01-25/
LOCATION:初台WALL\, 西新宿　3-15-8-B1\, 新宿区\, 東京都\, 160-0023\, Japan
ATTACH;FMTTYPE=image/jpeg:https://nakano-dynamite.com/wall/wp-content/uploads/2024/12/20250125.jpg
END:VEVENT
END:VCALENDAR