BEGIN:VCALENDAR
VERSION:2.0
PRODID:-//Livehouse Wall - ECPv6.15.20//NONSGML v1.0//EN
CALSCALE:GREGORIAN
METHOD:PUBLISH
X-WR-CALNAME:Livehouse Wall
X-ORIGINAL-URL:https://nakano-dynamite.com/wall
X-WR-CALDESC:Livehouse Wall のイベント
REFRESH-INTERVAL;VALUE=DURATION:PT1H
X-Robots-Tag:noindex
X-PUBLISHED-TTL:PT1H
BEGIN:VTIMEZONE
TZID:Asia/Tokyo
BEGIN:STANDARD
TZOFFSETFROM:+0900
TZOFFSETTO:+0900
TZNAME:JST
DTSTART:20220101T000000
END:STANDARD
END:VTIMEZONE
BEGIN:VEVENT
DTSTART;TZID=Asia/Tokyo:20250211T170000
DTEND;TZID=Asia/Tokyo:20250211T220000
DTSTAMP:20260424T163509
CREATED:20250122T112846Z
LAST-MODIFIED:20250122T112846Z
UID:3330-1739293200-1739311200@nakano-dynamite.com
SUMMARY:RAISE A FLAG "BETTER LATE THAN NEVER" RELEASE GIG at WALL
DESCRIPTION:2025.02.11(tue)\nOPEN 17:00\nSTART 17:30\nADV ¥2400\nDOOR ¥2900\n+1D\n\nRAISE A FLAG\nSHINING MOMENTS\nONE YAH ONE\nTHE DiSCLAPTiES\nFALLING DOWN\nFISHERMAN'S\n\n-DJ-\nハリケーンNEO丸\nセージーガガ\n\n\n\nWALL pre.\nRAISE A FLAG "BETTER LATE THAN NEVER" RELEASE GIG at WALL \n@初台WALL
URL:https://nakano-dynamite.com/wall/event/2025-02-11/
LOCATION:初台WALL\, 西新宿　3-15-8-B1\, 新宿区\, 東京都\, 160-0023\, Japan
ATTACH;FMTTYPE=image/jpeg:https://nakano-dynamite.com/wall/wp-content/uploads/2025/01/20250211.jpg
END:VEVENT
BEGIN:VEVENT
DTSTART;TZID=Asia/Tokyo:20241201T180000
DTEND;TZID=Asia/Tokyo:20241201T220000
DTSTAMP:20260424T163509
CREATED:20241101T130116Z
LAST-MODIFIED:20241101T130116Z
UID:3118-1733076000-1733090400@nakano-dynamite.com
SUMMARY:La Fiesta Loco!!
DESCRIPTION:2024.12.01(sun)\nOPEN 18:00\nSTART 18:30\nADV ¥2000\nDOOR ¥2500\n+1D\nCatch and row(敦賀)\nFrisBeeDog\nFISHERMAN'S\nSmoothy\nyellow gang\n\n\nWALL pre.\nLa Fiesta Loco!!\n@初台WALL
URL:https://nakano-dynamite.com/wall/event/2024-12-01-2/
LOCATION:初台WALL\, 西新宿　3-15-8-B1\, 新宿区\, 東京都\, 160-0023\, Japan
ATTACH;FMTTYPE=image/jpeg:https://nakano-dynamite.com/wall/wp-content/uploads/2024/11/20241201-2.jpg
END:VEVENT
BEGIN:VEVENT
DTSTART;TZID=Asia/Tokyo:20230723T170000
DTEND;TZID=Asia/Tokyo:20230723T220000
DTSTAMP:20260424T163509
CREATED:20230609T074902Z
LAST-MODIFIED:20230609T074902Z
UID:1346-1690131600-1690149600@nakano-dynamite.com
SUMMARY:OVER ALL
DESCRIPTION:2023.07.23 (sun)\nOPEN 17:00  START 17:30\nADV¥2400　DOOR¥2900 +1D\nHOW \nFORMALIN \nFISHERMAN'S \nTHE DiSCLAPTiES \nTOMBOTORI \nember\n\n\nOVER ALL CREW pre\nOVER ALL\n@初台WALL
URL:https://nakano-dynamite.com/wall/event/2023-07-23/
LOCATION:初台WALL\, 西新宿　3-15-8-B1\, 新宿区\, 東京都\, 160-0023\, Japan
ATTACH;FMTTYPE=image/jpeg:https://nakano-dynamite.com/wall/wp-content/uploads/2023/06/20230723.jpg
END:VEVENT
END:VCALENDAR