BEGIN:VCALENDAR
VERSION:2.0
PRODID:-//Livehouse Wall - ECPv6.15.20//NONSGML v1.0//EN
CALSCALE:GREGORIAN
METHOD:PUBLISH
X-WR-CALNAME:Livehouse Wall
X-ORIGINAL-URL:https://nakano-dynamite.com/wall
X-WR-CALDESC:Livehouse Wall のイベント
REFRESH-INTERVAL;VALUE=DURATION:PT1H
X-Robots-Tag:noindex
X-PUBLISHED-TTL:PT1H
BEGIN:VTIMEZONE
TZID:Asia/Tokyo
BEGIN:STANDARD
TZOFFSETFROM:+0900
TZOFFSETTO:+0900
TZNAME:JST
DTSTART:20220101T000000
END:STANDARD
END:VTIMEZONE
BEGIN:VEVENT
DTSTART;TZID=Asia/Tokyo:20251019T163000
DTEND;TZID=Asia/Tokyo:20251019T220000
DTSTAMP:20260420T075042
CREATED:20251003T141045Z
LAST-MODIFIED:20251003T141045Z
UID:4244-1760891400-1760911200@nakano-dynamite.com
SUMMARY:MEANING to be here... vol. 67 "VITAMIN X Japan Tour 2025" Supported by MEANING & Nakano Moon Step
DESCRIPTION:2025.10.19(sun)\nOPEN 16:30\nSTART 17:00\nADV ¥3000\nDOOR ¥3000\n+1D\n\nVITAMIN X\nMEANING\nFLIPOUT A.A\ngeji\nMUT\nWAR/ZIT \n\n\nMEANING to be here... vol. 67\n"VITAMIN X Japan Tour 2025"\nSupported by MEANING & Nakano Moon Step\n@初台WALL
URL:https://nakano-dynamite.com/wall/event/2025-10-19/
LOCATION:初台WALL\, 西新宿　3-15-8-B1\, 新宿区\, 東京都\, 160-0023\, Japan
ATTACH;FMTTYPE=image/jpeg:https://nakano-dynamite.com/wall/wp-content/uploads/2025/10/20251019.jpg
END:VEVENT
BEGIN:VEVENT
DTSTART;TZID=Asia/Tokyo:20250628T160000
DTEND;TZID=Asia/Tokyo:20250628T220000
DTSTAMP:20260420T075042
CREATED:20250515T130932Z
LAST-MODIFIED:20250515T130932Z
UID:3767-1751126400-1751148000@nakano-dynamite.com
SUMMARY:Lunatic Alcohol  Club Japan Special  L.A.C Vol.10
DESCRIPTION:2025.06.28(sat)\nOPEN 16:00\nSTART 16:00\nADV ¥2400\nDOOR ¥2900\n+1D\n\nTHE DEAD PAN SPEAKERS\nPEST\nジャンケンズ\nNASTIE\nKISSSSAKI\n9991\nFLiPOUT A.A\n\n-DJ-\nOK BOY\nセージーガガ\n\n-FOOD-\nZAKURO\n\n\nLunatic Alcohol Club Japan Special L.A.C Vol.10\n@初台WALL
URL:https://nakano-dynamite.com/wall/event/2025-06-28/
LOCATION:初台WALL\, 西新宿　3-15-8-B1\, 新宿区\, 東京都\, 160-0023\, Japan
ATTACH;FMTTYPE=image/jpeg:https://nakano-dynamite.com/wall/wp-content/uploads/2025/05/20250628.jpg
END:VEVENT
BEGIN:VEVENT
DTSTART;TZID=Asia/Tokyo:20250517T173000
DTEND;TZID=Asia/Tokyo:20250517T220000
DTSTAMP:20260420T075042
CREATED:20250410T094540Z
LAST-MODIFIED:20250410T094540Z
UID:3647-1747503000-1747519200@nakano-dynamite.com
SUMMARY:NO WAR! YES WALL! ~CT&VV "same old blues" RELEASE GIG~
DESCRIPTION:2025.05.17(sat)\nOPEN 17:30\nSTART 18:00\nADV ¥2400\nDOOR ¥2900\n+1D\n\nCRITICAL THINKING (大阪)\nVOLT VALIDATION (岐阜)\nLittle Bastards (熊谷)\nCOMMUNiCATES\nFLIPOUT A.A\nBUMPED HIS HEAD \n\n\n\nWALL pre.\nNO WAR! YES WALL! ~CT&VV "same old blues" RELEASE GIG~\n@初台WALL
URL:https://nakano-dynamite.com/wall/event/2025-05-17/
LOCATION:初台WALL\, 西新宿　3-15-8-B1\, 新宿区\, 東京都\, 160-0023\, Japan
ATTACH;FMTTYPE=image/jpeg:https://nakano-dynamite.com/wall/wp-content/uploads/2025/04/20250517.jpg
END:VEVENT
BEGIN:VEVENT
DTSTART;TZID=Asia/Tokyo:20250505T170000
DTEND;TZID=Asia/Tokyo:20250505T220000
DTSTAMP:20260420T075042
CREATED:20250321T090741Z
LAST-MODIFIED:20250321T090741Z
UID:3594-1746464400-1746482400@nakano-dynamite.com
SUMMARY:五臓六腑 vol.13 FIVE NO RISK "MIDNIGHT INVITATION" tour
DESCRIPTION:2025.05.05(mon)\nOPEN 17:00\nSTART 17:30\nADV ¥2900\nDOOR ¥3400\n+1D\nFIVE NO RISK(大阪)\nFLiPOUT A.A\nFPCD\ni's\nNAFT(大阪)\nRatchild\n\n-DJ-\nセージーガガ\n\n-FOOD-\nスタッズひとみ\n\n-SHOP-\nTORANOCO\n\n\nGNDM pre.\n五臓六腑 vol.13 FIVE NO RISK "MIDNIGHT INVITATION" tour \n@初台WALL
URL:https://nakano-dynamite.com/wall/event/2025-05-05/
LOCATION:初台WALL\, 西新宿　3-15-8-B1\, 新宿区\, 東京都\, 160-0023\, Japan
ATTACH;FMTTYPE=image/jpeg:https://nakano-dynamite.com/wall/wp-content/uploads/2025/03/20250505.jpg
END:VEVENT
BEGIN:VEVENT
DTSTART;TZID=Asia/Tokyo:20250330T153000
DTEND;TZID=Asia/Tokyo:20250330T220000
DTSTAMP:20260420T075042
CREATED:20250222T065803Z
LAST-MODIFIED:20250222T065803Z
UID:3497-1743348600-1743372000@nakano-dynamite.com
SUMMARY:WITHOUT SYSTEM & WALL pre.
DESCRIPTION:2025.03.30(sun)\nOPEN 15:30\nSTART 16:00\nDOOR ¥1000\n+1D\n\nWITHOUT SYSTEM\nFALLING DOWN\n133ANDSPEX\nFLiPOUT A.A\nKISSSSAKI\n遊撃\nDE-CULTURES\n\n\n\nWITHOUT SYSTEM & WALL pre.\n@初台WALL
URL:https://nakano-dynamite.com/wall/event/2025-03-30/
LOCATION:初台WALL\, 西新宿　3-15-8-B1\, 新宿区\, 東京都\, 160-0023\, Japan
ATTACH;FMTTYPE=image/jpeg:https://nakano-dynamite.com/wall/wp-content/uploads/2025/02/20250330.jpg
END:VEVENT
BEGIN:VEVENT
DTSTART;TZID=Asia/Tokyo:20240914T170000
DTEND;TZID=Asia/Tokyo:20240914T220000
DTSTAMP:20260420T075042
CREATED:20240810T130251Z
LAST-MODIFIED:20240810T130645Z
UID:2921-1726333200-1726351200@nakano-dynamite.com
SUMMARY:GOLERS JAPAN TOUR 2024
DESCRIPTION:2024.09.14(sat)\nOPEN 17:00\nSTART 17:30\nADV ¥2400\nDOOR ¥3000\n+1D\n\nGOLERS(Vancouver\,CANADA)\nFLIPOUT A.A\nMORENOISE FOR LIFE\nDxIxE\n六根\nROCCON\n0.001DAY\n心臓レコード\n\n\nWALL pre.\nGOLERS Japan Tour 2024\n@初台WALL
URL:https://nakano-dynamite.com/wall/event/2024-09-14/
LOCATION:初台WALL\, 西新宿　3-15-8-B1\, 新宿区\, 東京都\, 160-0023\, Japan
ATTACH;FMTTYPE=image/jpeg:https://nakano-dynamite.com/wall/wp-content/uploads/2024/08/20240914.jpg
END:VEVENT
BEGIN:VEVENT
DTSTART;TZID=Asia/Tokyo:20240428T140000
DTEND;TZID=Asia/Tokyo:20240428T220000
DTSTAMP:20260420T075042
CREATED:20240329T073429Z
LAST-MODIFIED:20240419T070126Z
UID:2506-1714312800-1714341600@nakano-dynamite.com
SUMMARY:GOOD WORLD PARTY Vol.3
DESCRIPTION:2024.04.28(sun)\nOPEN 14:00\nDOOR￥1900\n+1D\n\nABOS\nBumped his head\nDiscavil\nFLIPOUT A.A\nHOW\nIL BASTARDO\nMEXICAN AGE\nSECONDARMS\nSHINING MOMENTS\n9991\n天龍-Tenru-\n\n-DJ-\nThree-CODE\n床松\n\nflyer by Eric Goodman\n\nWALL pre\nGOOD WORLD PARTY Vol.3\n@初台WALL
URL:https://nakano-dynamite.com/wall/event/2024-04-28/
LOCATION:初台WALL\, 西新宿　3-15-8-B1\, 新宿区\, 東京都\, 160-0023\, Japan
ATTACH;FMTTYPE=image/jpeg:https://nakano-dynamite.com/wall/wp-content/uploads/2024/03/20240428.jpg
END:VEVENT
BEGIN:VEVENT
DTSTART;TZID=Asia/Tokyo:20240114T120000
DTEND;TZID=Asia/Tokyo:20240114T180000
DTSTAMP:20260420T075042
CREATED:20231224T075348Z
LAST-MODIFIED:20231224T075348Z
UID:2196-1705233600-1705255200@nakano-dynamite.com
SUMMARY:OVER ALL
DESCRIPTION:2024.01.14 (sun)\nOPEN 12:00  START 12:30\nDOOR ￥1900＋1D\n\nHOW \nRYDEEN \nEL NUDO \nFLIPOUT A.A \nLAST RIGHT BRIGADE \n\n\nOVER ALL CREW pre\nOVER ALL\n@初台WALL
URL:https://nakano-dynamite.com/wall/event/2024-01-14/
LOCATION:初台WALL\, 西新宿　3-15-8-B1\, 新宿区\, 東京都\, 160-0023\, Japan
ATTACH;FMTTYPE=image/jpeg:https://nakano-dynamite.com/wall/wp-content/uploads/2023/12/20240114.jpg
END:VEVENT
BEGIN:VEVENT
DTSTART;TZID=Asia/Tokyo:20231012T183000
DTEND;TZID=Asia/Tokyo:20231012T220000
DTSTAMP:20260420T075042
CREATED:20230921T090438Z
LAST-MODIFIED:20230921T090438Z
UID:1593-1697135400-1697148000@nakano-dynamite.com
SUMMARY:13th Legion JAPAN TOUR 2023
DESCRIPTION:2023.10.12 (thu)\nOPEN 18:30 START 19:00\nADV ¥2400 DOOR ¥2900+1D \n\n13th Legion(Hawaii)\nDOINGLIFE \nFLIPOUT A.A \nIL BASTARDO \nNASTIE\n\n\nWALL pre\n13th Legion JAPAN TOUR 2023\n@初台WALL
URL:https://nakano-dynamite.com/wall/event/2023-10-12/
LOCATION:初台WALL\, 西新宿　3-15-8-B1\, 新宿区\, 東京都\, 160-0023\, Japan
CATEGORIES:来日
ATTACH;FMTTYPE=image/jpeg:https://nakano-dynamite.com/wall/wp-content/uploads/2023/09/20231012.jpg
END:VEVENT
BEGIN:VEVENT
DTSTART;TZID=Asia/Tokyo:20230909T173000
DTEND;TZID=Asia/Tokyo:20230909T220000
DTSTAMP:20260420T075042
CREATED:20230720T093705Z
LAST-MODIFIED:20230720T093705Z
UID:1428-1694280600-1694296800@nakano-dynamite.com
SUMMARY:馬鹿穴 vol.5
DESCRIPTION:2023.09.09 (sat)\nOPEN 17:30  START 18:00\nADV ¥2000  DOOR ¥2500 +1D\n\nONA SNOP from UK\nLIFE\nHORSE＆DEER\nHIMO\nFLIPOUT A.A\nALPSBOYS\nGEVABOW\n\n\nHORSE＆DEER pre\n馬鹿穴　vol.5\n@初台WALL
URL:https://nakano-dynamite.com/wall/event/2023-09-09/
LOCATION:初台WALL\, 西新宿　3-15-8-B1\, 新宿区\, 東京都\, 160-0023\, Japan
ATTACH;FMTTYPE=image/jpeg:https://nakano-dynamite.com/wall/wp-content/uploads/2023/07/20230909.jpg
END:VEVENT
BEGIN:VEVENT
DTSTART;TZID=Asia/Tokyo:20230623T170000
DTEND;TZID=Asia/Tokyo:20230623T220000
DTSTAMP:20260420T075042
CREATED:20230507T071958Z
LAST-MODIFIED:20230507T071958Z
UID:1266-1687539600-1687557600@nakano-dynamite.com
SUMMARY:店員inthesun
DESCRIPTION:2023.06.23 (sun)\nOPEN/START 17:00\nDOOR ￥2000+1D\n\nアップリケ\nHOW\nABOS\nえんだぶあ\nendress summer\nFLIPOUT A.A\n\nWALL pre\n店員inthesun\n@初台WALL
URL:https://nakano-dynamite.com/wall/event/2023-06-23/
LOCATION:初台WALL\, 西新宿　3-15-8-B1\, 新宿区\, 東京都\, 160-0023\, Japan
ATTACH;FMTTYPE=image/jpeg:https://nakano-dynamite.com/wall/wp-content/uploads/2023/05/20230623.jpg
END:VEVENT
BEGIN:VEVENT
DTSTART;TZID=Asia/Tokyo:20230601T173000
DTEND;TZID=Asia/Tokyo:20230601T220000
DTSTAMP:20260420T075042
CREATED:20230510T102720Z
LAST-MODIFIED:20230510T102721Z
UID:1271-1685640600-1685656800@nakano-dynamite.com
SUMMARY:Octopoulpe JAPAN TOUR 2023
DESCRIPTION:2023.06.01 (Thu)\nOPEN 17:30  START 18:00\nADV ￥2900  DOOR 2900 +1D\n\nGREEN MILK FROM PLANET ORANGE\nPISS MOAT\nFLIPOUT A.A\nOCTOPOULPE\nDxIxE\nAfterDismantling\n\nWALL pre\nOctopoulpe JAPAN TOUR 2023\n＠初台WALL
URL:https://nakano-dynamite.com/wall/event/2023-06-01/
LOCATION:初台WALL\, 西新宿　3-15-8-B1\, 新宿区\, 東京都\, 160-0023\, Japan
ATTACH;FMTTYPE=image/jpeg:https://nakano-dynamite.com/wall/wp-content/uploads/2023/05/20230601.jpg
END:VEVENT
BEGIN:VEVENT
DTSTART;TZID=Asia/Tokyo:20230401T170000
DTEND;TZID=Asia/Tokyo:20230401T220000
DTSTAMP:20260420T075042
CREATED:20230302T060007Z
LAST-MODIFIED:20230302T061000Z
UID:1001-1680368400-1680386400@nakano-dynamite.com
SUMMARY:STAY DRUNK\,STAY FOOLiSH
DESCRIPTION:2023.04.01(sat)\n\nOPEN 17:00 START 17:30\nDOOR ONLY ¥2000+1D\nKAiMMENTAi\nSLIDE \nFLIPOUT A.A\nTHORN \nGYRO\nPAIN IN THA NECK\nFOOD ササノのごはん\n\n\nKAiMMENTAi & WALL presents\nSTAY DRUNK\,STAY FOOLiSH\n@初台WALL
URL:https://nakano-dynamite.com/wall/event/20230401/
LOCATION:初台WALL\, 西新宿　3-15-8-B1\, 新宿区\, 東京都\, 160-0023\, Japan
ATTACH;FMTTYPE=image/jpeg:https://nakano-dynamite.com/wall/wp-content/uploads/2023/03/20230401-1.jpg
END:VEVENT
END:VCALENDAR