BEGIN:VCALENDAR
VERSION:2.0
PRODID:-//Livehouse Wall - ECPv6.15.20//NONSGML v1.0//EN
CALSCALE:GREGORIAN
METHOD:PUBLISH
X-ORIGINAL-URL:https://nakano-dynamite.com/wall
X-WR-CALDESC:Livehouse Wall のイベント
REFRESH-INTERVAL;VALUE=DURATION:PT1H
X-Robots-Tag:noindex
X-PUBLISHED-TTL:PT1H
BEGIN:VTIMEZONE
TZID:Asia/Tokyo
BEGIN:STANDARD
TZOFFSETFROM:+0900
TZOFFSETTO:+0900
TZNAME:JST
DTSTART:20220101T000000
END:STANDARD
END:VTIMEZONE
BEGIN:VEVENT
DTSTART;TZID=Asia/Tokyo:20250823T180000
DTEND;TZID=Asia/Tokyo:20250823T220000
DTSTAMP:20260423T100615
CREATED:20250709T130317Z
LAST-MODIFIED:20250709T130317Z
UID:3956-1755972000-1755986400@nakano-dynamite.com
SUMMARY:"JUNKPOT32"
DESCRIPTION:2025.08.23(sat)\nOPEN/START 18:00\nDOOR ONLY ¥2400\n+1D\n-LIVE-\nBLONDnewHALF\n秘部痺れ\nshuhari\nghettos \n\n-DJs-\nMUM\noqbo\nkun\n\n\n"JUNKPOT32" \n@初台WALL
URL:https://nakano-dynamite.com/wall/event/2025-08-23/
LOCATION:初台WALL\, 西新宿　3-15-8-B1\, 新宿区\, 東京都\, 160-0023\, Japan
ATTACH;FMTTYPE=image/jpeg:https://nakano-dynamite.com/wall/wp-content/uploads/2025/07/20250823.jpg
END:VEVENT
BEGIN:VEVENT
DTSTART;TZID=Asia/Tokyo:20250218T180000
DTEND;TZID=Asia/Tokyo:20250218T220000
DTSTAMP:20260423T100615
CREATED:20250122T123245Z
LAST-MODIFIED:20250127T141521Z
UID:3348-1739901600-1739916000@nakano-dynamite.com
SUMMARY:Theo Mizú & Banda JAPAN TOUR 2025
DESCRIPTION:2025.02.18(tue)\nOPEN 18:00\nSTART 18:30\nADV ¥2400\nDOOR ¥2900\n+1D\n\nTheo Mizú & Banda(from Brazil)\nghettos\nチェ・アリサ(MÜCHAMÜCHA)\n良夢音(スーパージェットキノコ)\n岩木山満夫と彼の衆 \n\n\nWALL pre.\nTheo Mizú & Banda JAPAN TOUR 2025\n@初台WALL
URL:https://nakano-dynamite.com/wall/event/2025-02-18/
LOCATION:初台WALL\, 西新宿　3-15-8-B1\, 新宿区\, 東京都\, 160-0023\, Japan
ATTACH;FMTTYPE=image/jpeg:https://nakano-dynamite.com/wall/wp-content/uploads/2025/01/20250218-1.jpg
END:VEVENT
BEGIN:VEVENT
DTSTART;TZID=Asia/Tokyo:20240107T170000
DTEND;TZID=Asia/Tokyo:20240107T220000
DTSTAMP:20260423T100615
CREATED:20231215T075749Z
LAST-MODIFIED:20231216T065217Z
UID:2174-1704646800-1704664800@nakano-dynamite.com
SUMMARY:ラ.リ.ル
DESCRIPTION:2024.01.07　(sun)\nOPEN 17:00  START 17:30\nDOOR ￥2400＋1D\n\nghettos \nBUMPED HIS HEAD \nABOS \nMASTER PEACE \nバビロンブレイカーズ \nNO PROBLEM\n\n\nWALL pre\nラ.リ.ル\n@初台WALL
URL:https://nakano-dynamite.com/wall/event/2024-01-07/
LOCATION:初台WALL\, 西新宿　3-15-8-B1\, 新宿区\, 東京都\, 160-0023\, Japan
ATTACH;FMTTYPE=image/jpeg:https://nakano-dynamite.com/wall/wp-content/uploads/2023/12/20240107.jpg
END:VEVENT
BEGIN:VEVENT
DTSTART;TZID=Asia/Tokyo:20230728T190000
DTEND;TZID=Asia/Tokyo:20230728T220000
DTSTAMP:20260423T100615
CREATED:20230624T045143Z
LAST-MODIFIED:20230624T045143Z
UID:1383-1690570800-1690581600@nakano-dynamite.com
SUMMARY:SAMBO
DESCRIPTION:2023.07.28 (Fri)\nOPEN 19:00  START 19:30\nDOOR ¥2000+1D\n\nローライフサーファー \nghettos \nやさぐれ\nMUM\n\n\nWALL pre\nSAMBO\n@初台WALL
URL:https://nakano-dynamite.com/wall/event/2023-07-28/
LOCATION:初台WALL\, 西新宿　3-15-8-B1\, 新宿区\, 東京都\, 160-0023\, Japan
ATTACH;FMTTYPE=image/jpeg:https://nakano-dynamite.com/wall/wp-content/uploads/2023/06/202307286.jpg
END:VEVENT
BEGIN:VEVENT
DTSTART;TZID=Asia/Tokyo:20230107T160000
DTEND;TZID=Asia/Tokyo:20230107T220000
DTSTAMP:20260423T100615
CREATED:20221122T040847Z
LAST-MODIFIED:20221216T021200Z
UID:167-1673107200-1673128800@nakano-dynamite.com
SUMMARY:WALL pre: ラ.リ.ル
DESCRIPTION:2023.01.07(sat)\nOPEN 16:00 / START 16:30\nADV/DOOR ¥1\,500+1D\nWORMS MEAT\nghettos\nRYDEEN\nぐうたら狂(神戸)\nえんだぶあ\nABOS\nHOW\n \nWALL pre 【ラ.リ.ル】\n@初台WALL
URL:https://nakano-dynamite.com/wall/event/2023-01-07/
LOCATION:初台WALL\, 西新宿　3-15-8-B1\, 新宿区\, 東京都\, 160-0023\, Japan
ATTACH;FMTTYPE=image/jpeg:https://nakano-dynamite.com/wall/wp-content/uploads/2022/11/2023-01-07.jpeg
END:VEVENT
END:VCALENDAR