BEGIN:VCALENDAR
VERSION:2.0
PRODID:-//Livehouse Wall - ECPv6.15.20//NONSGML v1.0//EN
CALSCALE:GREGORIAN
METHOD:PUBLISH
X-WR-CALNAME:Livehouse Wall
X-ORIGINAL-URL:https://nakano-dynamite.com/wall
X-WR-CALDESC:Livehouse Wall のイベント
REFRESH-INTERVAL;VALUE=DURATION:PT1H
X-Robots-Tag:noindex
X-PUBLISHED-TTL:PT1H
BEGIN:VTIMEZONE
TZID:Asia/Tokyo
BEGIN:STANDARD
TZOFFSETFROM:+0900
TZOFFSETTO:+0900
TZNAME:JST
DTSTART:20220101T000000
END:STANDARD
END:VTIMEZONE
BEGIN:VEVENT
DTSTART;TZID=Asia/Tokyo:20240320T180000
DTEND;TZID=Asia/Tokyo:20240320T220000
DTSTAMP:20260420T050618
CREATED:20240221T130906Z
LAST-MODIFIED:20240221T130906Z
UID:2385-1710957600-1710972000@nakano-dynamite.com
SUMMARY:ラ.リ.ル
DESCRIPTION:2024.03.20(wed)\nOPEN 18:00\nSTART 18:30\nDOOR￥2000\n+1D\n\nIL BASTARDO\nAND BELIEVE\nSHINING MOMENTS\nNK6\n\n\n\n\nWALL pre\nラ.リ.ル\n@初台WALL
URL:https://nakano-dynamite.com/wall/event/2024-03-20/
LOCATION:初台WALL\, 西新宿　3-15-8-B1\, 新宿区\, 東京都\, 160-0023\, Japan
CATEGORIES:ラ.リ.ル
ATTACH;FMTTYPE=image/jpeg:https://nakano-dynamite.com/wall/wp-content/uploads/2024/02/20240320.jpg
END:VEVENT
BEGIN:VEVENT
DTSTART;TZID=Asia/Tokyo:20240222T183000
DTEND;TZID=Asia/Tokyo:20240222T220000
DTSTAMP:20260420T050618
CREATED:20240209T093524Z
LAST-MODIFIED:20240209T093524Z
UID:2309-1708626600-1708639200@nakano-dynamite.com
SUMMARY:222
DESCRIPTION:2024.02.22(thu)\nOPEN 18:30 \nSTART 19:00\nDOOR￥2000+1D\n\nTRES\nTORO\nIL BASTARDO\nサヨナラボーイ\n9991\n\n\n\nSHIMADA pre\n222\n@初台WALL
URL:https://nakano-dynamite.com/wall/event/2024-02-22/
LOCATION:初台WALL\, 西新宿　3-15-8-B1\, 新宿区\, 東京都\, 160-0023\, Japan
ATTACH;FMTTYPE=image/jpeg:https://nakano-dynamite.com/wall/wp-content/uploads/2024/02/20240222.jpg
END:VEVENT
BEGIN:VEVENT
DTSTART;TZID=Asia/Tokyo:20231012T183000
DTEND;TZID=Asia/Tokyo:20231012T220000
DTSTAMP:20260420T050618
CREATED:20230921T090438Z
LAST-MODIFIED:20230921T090438Z
UID:1593-1697135400-1697148000@nakano-dynamite.com
SUMMARY:13th Legion JAPAN TOUR 2023
DESCRIPTION:2023.10.12 (thu)\nOPEN 18:30 START 19:00\nADV ¥2400 DOOR ¥2900+1D \n\n13th Legion(Hawaii)\nDOINGLIFE \nFLIPOUT A.A \nIL BASTARDO \nNASTIE\n\n\nWALL pre\n13th Legion JAPAN TOUR 2023\n@初台WALL
URL:https://nakano-dynamite.com/wall/event/2023-10-12/
LOCATION:初台WALL\, 西新宿　3-15-8-B1\, 新宿区\, 東京都\, 160-0023\, Japan
CATEGORIES:来日
ATTACH;FMTTYPE=image/jpeg:https://nakano-dynamite.com/wall/wp-content/uploads/2023/09/20231012.jpg
END:VEVENT
BEGIN:VEVENT
DTSTART;TZID=Asia/Tokyo:20230916T170000
DTEND;TZID=Asia/Tokyo:20230916T220000
DTSTAMP:20260420T050618
CREATED:20230803T080132Z
LAST-MODIFIED:20230803T080132Z
UID:1493-1694883600-1694901600@nakano-dynamite.com
SUMMARY:BATTLE OF HATSUDAI　 TILL EWING BEYOND EP RELEASE SHOW
DESCRIPTION:2023.09.16 (sat)\nOPEN 17:00  START 17:30\nDOOR ￥2400＋1D\n\n[LIVE] \nTILL EWING \nLIVE CLEAN STAY YOUNG \nCROCODILE COX AND THE DISASTER \nRatchild \nTHROW YOUR LIGHTS \nMexican Age \nHOW \nIL BASTARDO \n\n[DJ] \nONCE MORE \nY2NO \n床松 \nセージーガガ \n\n[LIVE TATTOO] MERGE'S TATTOO\n\n\n2∞3 pre\nBATTLE OF HATSUDAI　 TILL EWING BEYOND EP RELEASE SHOW\n＠初台WALL
URL:https://nakano-dynamite.com/wall/event/2023-09-16-2/
LOCATION:初台WALL\, 西新宿　3-15-8-B1\, 新宿区\, 東京都\, 160-0023\, Japan
ATTACH;FMTTYPE=image/jpeg:https://nakano-dynamite.com/wall/wp-content/uploads/2023/08/20230916.jpg
END:VEVENT
END:VCALENDAR