BEGIN:VCALENDAR
VERSION:2.0
PRODID:-//Livehouse Wall - ECPv6.15.20//NONSGML v1.0//EN
CALSCALE:GREGORIAN
METHOD:PUBLISH
X-WR-CALNAME:Livehouse Wall
X-ORIGINAL-URL:https://nakano-dynamite.com/wall
X-WR-CALDESC:Livehouse Wall のイベント
REFRESH-INTERVAL;VALUE=DURATION:PT1H
X-Robots-Tag:noindex
X-PUBLISHED-TTL:PT1H
BEGIN:VTIMEZONE
TZID:Asia/Tokyo
BEGIN:STANDARD
TZOFFSETFROM:+0900
TZOFFSETTO:+0900
TZNAME:JST
DTSTART:20240101T000000
END:STANDARD
END:VTIMEZONE
BEGIN:VEVENT
DTSTART;TZID=Asia/Tokyo:20251030T183000
DTEND;TZID=Asia/Tokyo:20251030T220000
DTSTAMP:20260420T103257
CREATED:20251009T093153Z
LAST-MODIFIED:20251009T093153Z
UID:4271-1761849000-1761861600@nakano-dynamite.com
SUMMARY:PANIC SHOW~HALLOWEEN 2025~
DESCRIPTION:2025.10.30(thu)\nOPEN 18:30\nSTART 18:50\nDOOR ¥1900\n仮装割引 ¥900\n+1D\n\nJ-BOYz\nElmo Aoyama (from AUS)\n野村秀直\nご飯DEATHよ\nはいから\nサザンクロズ\nドラゴン岩村\n\n-DJ-\nセージーガガ\nオッケーボーイ \n\n\nJ-BOYz pre.\nPANIC SHOW\n@初台WALL
URL:https://nakano-dynamite.com/wall/event/2025-10-30/
LOCATION:初台WALL\, 西新宿　3-15-8-B1\, 新宿区\, 東京都\, 160-0023\, Japan
ATTACH;FMTTYPE=image/jpeg:https://nakano-dynamite.com/wall/wp-content/uploads/2025/10/20251030.jpg
END:VEVENT
BEGIN:VEVENT
DTSTART;TZID=Asia/Tokyo:20251224T185000
DTEND;TZID=Asia/Tokyo:20251224T220000
DTSTAMP:20260420T103257
CREATED:20251205T140324Z
LAST-MODIFIED:20251205T140324Z
UID:4426-1766602200-1766613600@nakano-dynamite.com
SUMMARY:WALL'S HOLY NIGHT
DESCRIPTION:2025.12.24(wed)\nOPEN 18:50\nSTART 19:20\nADV ¥1900\nDOOR ¥2400\n+1D\n\nJ-BOYz\ngloptin\nThe Foremost\nThe 四十八手's\n坂本ケンタ\n\n-DJ-\n雷蔵\n\n\nWALL pre.\nWALL'S HOLY NIGHT\n@初台WALL
URL:https://nakano-dynamite.com/wall/event/2025-12-24/
LOCATION:初台WALL\, 西新宿　3-15-8-B1\, 新宿区\, 東京都\, 160-0023\, Japan
ATTACH;FMTTYPE=image/jpeg:https://nakano-dynamite.com/wall/wp-content/uploads/2025/12/20251224.jpg
END:VEVENT
BEGIN:VEVENT
DTSTART;TZID=Asia/Tokyo:20260401T180000
DTEND;TZID=Asia/Tokyo:20260401T220000
DTSTAMP:20260420T103257
CREATED:20260326T081635Z
LAST-MODIFIED:20260326T081635Z
UID:4720-1775066400-1775080800@nakano-dynamite.com
SUMMARY:APRIL FOOL MEN
DESCRIPTION:2026.04.01(wed)\nOPEN 18:00\nSTART 18:30\nENTRANCE FREE\n\nHEXO\nドラゴン岩村\nJ-BOYz\nÖRDER\n\n-DJs-\nムコヤン\n小野ボーイ\nくんバカ\nテルライザー\n\n\n\nWALL pre.\nAPRIL FOOL MEN\n@初台WALL
URL:https://nakano-dynamite.com/wall/event/2026-04-01/
LOCATION:初台WALL\, 西新宿　3-15-8-B1\, 新宿区\, 東京都\, 160-0023\, Japan
ATTACH;FMTTYPE=image/jpeg:https://nakano-dynamite.com/wall/wp-content/uploads/2026/03/20260401.jpg
END:VEVENT
END:VCALENDAR