BEGIN:VCALENDAR
VERSION:2.0
PRODID:-//Livehouse Wall - ECPv6.15.20//NONSGML v1.0//EN
CALSCALE:GREGORIAN
METHOD:PUBLISH
X-WR-CALNAME:Livehouse Wall
X-ORIGINAL-URL:https://nakano-dynamite.com/wall
X-WR-CALDESC:Livehouse Wall のイベント
REFRESH-INTERVAL;VALUE=DURATION:PT1H
X-Robots-Tag:noindex
X-PUBLISHED-TTL:PT1H
BEGIN:VTIMEZONE
TZID:Asia/Tokyo
BEGIN:STANDARD
TZOFFSETFROM:+0900
TZOFFSETTO:+0900
TZNAME:JST
DTSTART:20220101T000000
END:STANDARD
END:VTIMEZONE
BEGIN:VEVENT
DTSTART;TZID=Asia/Tokyo:20230408T170000
DTEND;TZID=Asia/Tokyo:20230408T220000
DTSTAMP:20260424T041710
CREATED:20230302T063910Z
LAST-MODIFIED:20230302T072725Z
UID:1019-1680973200-1680991200@nakano-dynamite.com
SUMMARY:ハツダイウラバナシ　第6話
DESCRIPTION:2023.04.08 (sat)\nOPEN 17:00 START 17:30\nDOORONLY ￥2500+1D\n\nONE YAH ONE\nNK6\nKAMISORI\nG-3PUNK\nATARAXIA (茨木)\nSoldera\nTHE DiSCLAPTiES\nxiamen＆the lifestyles\n\nONE YAH ONE x KAMISORI pre\nハツダイウラバナシ　第6話\n＠初台WALL
URL:https://nakano-dynamite.com/wall/event/2023-04-08/
LOCATION:初台WALL\, 西新宿　3-15-8-B1\, 新宿区\, 東京都\, 160-0023\, Japan
ATTACH;FMTTYPE=image/jpeg:https://nakano-dynamite.com/wall/wp-content/uploads/2023/03/TimeTree_2023-03-02-15-17-16.jpg
END:VEVENT
END:VCALENDAR