BEGIN:VCALENDAR
VERSION:2.0
PRODID:-//Livehouse Wall - ECPv6.15.20//NONSGML v1.0//EN
CALSCALE:GREGORIAN
METHOD:PUBLISH
X-WR-CALNAME:Livehouse Wall
X-ORIGINAL-URL:https://nakano-dynamite.com/wall
X-WR-CALDESC:Livehouse Wall のイベント
REFRESH-INTERVAL;VALUE=DURATION:PT1H
X-Robots-Tag:noindex
X-PUBLISHED-TTL:PT1H
BEGIN:VTIMEZONE
TZID:Asia/Tokyo
BEGIN:STANDARD
TZOFFSETFROM:+0900
TZOFFSETTO:+0900
TZNAME:JST
DTSTART:20230101T000000
END:STANDARD
END:VTIMEZONE
BEGIN:VEVENT
DTSTART;TZID=Asia/Tokyo:20240926T190000
DTEND;TZID=Asia/Tokyo:20240926T220000
DTSTAMP:20260424T232108
CREATED:20240905T093507Z
LAST-MODIFIED:20240905T093507Z
UID:2957-1727377200-1727388000@nakano-dynamite.com
SUMMARY:桃源郷
DESCRIPTION:2024.09.26(thu)\nOPEN 19:00\nSTART 19:30\nDOOR ¥2000+1D\nkill me Elk\nKILLERS MATE\nDEEPFREEZEMANIA\ngloptin\n\nWALL pre.\n桃源郷\n@初台WALL
URL:https://nakano-dynamite.com/wall/event/2024-09-26/
LOCATION:初台WALL\, 西新宿　3-15-8-B1\, 新宿区\, 東京都\, 160-0023\, Japan
ATTACH;FMTTYPE=image/jpeg:https://nakano-dynamite.com/wall/wp-content/uploads/2024/09/20240926.jpg
END:VEVENT
END:VCALENDAR