BEGIN:VCALENDAR
VERSION:2.0
PRODID:-//Livehouse Wall - ECPv6.15.20//NONSGML v1.0//EN
CALSCALE:GREGORIAN
METHOD:PUBLISH
X-WR-CALNAME:Livehouse Wall
X-ORIGINAL-URL:https://nakano-dynamite.com/wall
X-WR-CALDESC:Livehouse Wall のイベント
REFRESH-INTERVAL;VALUE=DURATION:PT1H
X-Robots-Tag:noindex
X-PUBLISHED-TTL:PT1H
BEGIN:VTIMEZONE
TZID:Asia/Tokyo
BEGIN:STANDARD
TZOFFSETFROM:+0900
TZOFFSETTO:+0900
TZNAME:JST
DTSTART:20240101T000000
END:STANDARD
END:VTIMEZONE
BEGIN:VEVENT
DTSTART;TZID=Asia/Tokyo:20250219T181500
DTEND;TZID=Asia/Tokyo:20250219T220000
DTSTAMP:20260425T130735
CREATED:20250122T125512Z
LAST-MODIFIED:20250122T125512Z
UID:3351-1739988900-1740002400@nakano-dynamite.com
SUMMARY:2 STAGE GIG
DESCRIPTION:2025.02.19(wed)\nOPEN 18:15\nSTART 18:45\nADV ¥1900\nDOOR ¥2400\n+1D\n\nSEWER\nKotsuboku(神戸)\n9991\nDos Quatro\nPATROLTIME\nDiscavil\nUMBRO\nFPCD\n\n\nWALL pre.\n2 STAGE GIG\n@初台WALL
URL:https://nakano-dynamite.com/wall/event/2025-02-19/
LOCATION:初台WALL\, 西新宿　3-15-8-B1\, 新宿区\, 東京都\, 160-0023\, Japan
ATTACH;FMTTYPE=image/jpeg:https://nakano-dynamite.com/wall/wp-content/uploads/2025/01/20250219.jpg
END:VEVENT
END:VCALENDAR