BEGIN:VCALENDAR
VERSION:2.0
PRODID:-//Livehouse Wall - ECPv6.15.20//NONSGML v1.0//EN
CALSCALE:GREGORIAN
METHOD:PUBLISH
X-WR-CALNAME:Livehouse Wall
X-ORIGINAL-URL:https://nakano-dynamite.com/wall
X-WR-CALDESC:Livehouse Wall のイベント
REFRESH-INTERVAL;VALUE=DURATION:PT1H
X-Robots-Tag:noindex
X-PUBLISHED-TTL:PT1H
BEGIN:VTIMEZONE
TZID:Asia/Tokyo
BEGIN:STANDARD
TZOFFSETFROM:+0900
TZOFFSETTO:+0900
TZNAME:JST
DTSTART:20230101T000000
END:STANDARD
END:VTIMEZONE
BEGIN:VEVENT
DTSTART;TZID=Asia/Tokyo:20240605T193000
DTEND;TZID=Asia/Tokyo:20240605T220000
DTSTAMP:20260422T103134
CREATED:20240602T091411Z
LAST-MODIFIED:20240602T091412Z
UID:2546-1717615800-1717624800@nakano-dynamite.com
SUMMARY:KRANG JAPAN TOUR 2024
DESCRIPTION:2024.06.05(wed)\nOPEN TBA\nSTART TBA\nDOOR￥1000\n+1D\n\nKRANG\nAs We Like\n\n\n\nRNR TOURS pre.\nKRANG JAPAN TOUR 2024\n@初台WALL
URL:https://nakano-dynamite.com/wall/event/2024-06-05/
LOCATION:初台WALL\, 西新宿　3-15-8-B1\, 新宿区\, 東京都\, 160-0023\, Japan
ATTACH;FMTTYPE=image/jpeg:https://nakano-dynamite.com/wall/wp-content/uploads/2024/06/20240605.jpg
END:VEVENT
END:VCALENDAR