BEGIN:VCALENDAR
VERSION:2.0
PRODID:-//Livehouse Wall - ECPv6.15.20//NONSGML v1.0//EN
CALSCALE:GREGORIAN
METHOD:PUBLISH
X-WR-CALNAME:Livehouse Wall
X-ORIGINAL-URL:https://nakano-dynamite.com/wall
X-WR-CALDESC:Livehouse Wall のイベント
REFRESH-INTERVAL;VALUE=DURATION:PT1H
X-Robots-Tag:noindex
X-PUBLISHED-TTL:PT1H
BEGIN:VTIMEZONE
TZID:Asia/Tokyo
BEGIN:STANDARD
TZOFFSETFROM:+0900
TZOFFSETTO:+0900
TZNAME:JST
DTSTART:20250101T000000
END:STANDARD
END:VTIMEZONE
BEGIN:VEVENT
DTSTART;TZID=Asia/Tokyo:20260211T173000
DTEND;TZID=Asia/Tokyo:20260211T220000
DTSTAMP:20260422T085558
CREATED:20260116T141300Z
LAST-MODIFIED:20260116T141300Z
UID:4547-1770831000-1770847200@nakano-dynamite.com
SUMMARY:Andrea Brunini Japan Tour 2026
DESCRIPTION:2026.02.11(wed)\nOPEN 17:30\nSTART 18:00\nADV ¥2400\nDOOR ¥2900\n+1D\n\nAndrea Brunini(Italy)\nYujiro Ozaki\nKusabana\nThe French Toast\nFUQA\n\n\n\nWALL pre.\nAndrea Brunini Japan Tour 2026\n@初台WALL
URL:https://nakano-dynamite.com/wall/event/2026-02-11/
LOCATION:初台WALL\, 西新宿　3-15-8-B1\, 新宿区\, 東京都\, 160-0023\, Japan
ATTACH;FMTTYPE=image/jpeg:https://nakano-dynamite.com/wall/wp-content/uploads/2026/01/20260211.jpg
END:VEVENT
END:VCALENDAR