BEGIN:VCALENDAR
VERSION:2.0
PRODID:-//Livehouse Wall - ECPv6.15.20//NONSGML v1.0//EN
CALSCALE:GREGORIAN
METHOD:PUBLISH
X-WR-CALNAME:Livehouse Wall
X-ORIGINAL-URL:https://nakano-dynamite.com/wall
X-WR-CALDESC:Livehouse Wall のイベント
REFRESH-INTERVAL;VALUE=DURATION:PT1H
X-Robots-Tag:noindex
X-PUBLISHED-TTL:PT1H
BEGIN:VTIMEZONE
TZID:Asia/Tokyo
BEGIN:STANDARD
TZOFFSETFROM:+0900
TZOFFSETTO:+0900
TZNAME:JST
DTSTART:20230101T000000
END:STANDARD
END:VTIMEZONE
BEGIN:VEVENT
DTSTART;TZID=Asia/Tokyo:20240403T183000
DTEND;TZID=Asia/Tokyo:20240403T220000
DTSTAMP:20260423T102509
CREATED:20240229T113629Z
LAST-MODIFIED:20240229T113629Z
UID:2414-1712169000-1712181600@nakano-dynamite.com
SUMMARY:PARTY HARD Vol.8 -WALL閉店延期祝いFREE PARTY-
DESCRIPTION:2024.04.03(wed)\nOPEN 18:30\nSTART 19:00\n¥FREE+2D(¥1200)\n\nKYOUDAI\nAll Good Soldiers\n4 Roses\nHOLIDAY\n\n-DJ-\nはっちゃん\n爆アゲPOW太郎\n\n\nKYOUDAI pre\nPARTY HARD Vol.8 -WALL閉店延期祝いFREE PARTY-\n@初台WALL
URL:https://nakano-dynamite.com/wall/event/2024-04-03/
LOCATION:初台WALL\, 西新宿　3-15-8-B1\, 新宿区\, 東京都\, 160-0023\, Japan
ATTACH;FMTTYPE=image/jpeg:https://nakano-dynamite.com/wall/wp-content/uploads/2024/02/20240403.jpg
END:VEVENT
BEGIN:VEVENT
DTSTART;TZID=Asia/Tokyo:20240623T170000
DTEND;TZID=Asia/Tokyo:20240623T220000
DTSTAMP:20260423T102509
CREATED:20240613T091637Z
LAST-MODIFIED:20240613T091637Z
UID:2603-1719162000-1719180000@nakano-dynamite.com
SUMMARY:OVERALL~WALL25周年SHOW~
DESCRIPTION:2024.06.23(sun)\nOPEN 17:00\nSTART 17:30\nADV ¥2400\nDOOR ¥2900\n+1D\n\nHOW\nHEXO\nKYOUDAI\nMERCI MERCI ME\nTake out bright\nMY SHOES MY CAP\n\n-DJ-\nセージーガガ\n爆アゲPOW太郎\n\n\nHOW pre.\nOVERALL\n@初台WALL
URL:https://nakano-dynamite.com/wall/event/2024-06-23/
LOCATION:初台WALL\, 西新宿　3-15-8-B1\, 新宿区\, 東京都\, 160-0023\, Japan
ATTACH;FMTTYPE=image/jpeg:https://nakano-dynamite.com/wall/wp-content/uploads/2024/06/20240623.jpg
END:VEVENT
BEGIN:VEVENT
DTSTART;TZID=Asia/Tokyo:20240727T173000
DTEND;TZID=Asia/Tokyo:20240727T220000
DTSTAMP:20260423T102509
CREATED:20240712T083813Z
LAST-MODIFIED:20240712T083813Z
UID:2771-1722101400-1722117600@nakano-dynamite.com
SUMMARY:"The Maestro" Vol.10 CAL - EP ”超道” Release SxGxS - 1st Full Album "Trajectory" Release tour
DESCRIPTION:2024.07.27(sat)\nOPEN 17:30\nSTART 18:00\nADV ¥2500\nDOOR ¥3000\n+1D\nAudinaries\nBLASTER KID\nCAL\nKYOUDAI\nSmoothy\nSxGxS\n\nAudinaries pre.\n"The Maestro" Vol.10\nCAL - EP ”超道” Release\nSxGxS - 1st Full Album "Trajectory" Release tour \n@初台WALL
URL:https://nakano-dynamite.com/wall/event/2024-07-27/
LOCATION:初台WALL\, 西新宿　3-15-8-B1\, 新宿区\, 東京都\, 160-0023\, Japan
ATTACH;FMTTYPE=image/jpeg:https://nakano-dynamite.com/wall/wp-content/uploads/2024/07/20240727.jpg
END:VEVENT
BEGIN:VEVENT
DTSTART;TZID=Asia/Tokyo:20241205T180000
DTEND;TZID=Asia/Tokyo:20241205T220000
DTSTAMP:20260423T102509
CREATED:20241108T130906Z
LAST-MODIFIED:20241108T130906Z
UID:3143-1733421600-1733436000@nakano-dynamite.com
SUMMARY:PARTY HARD??
DESCRIPTION:2024.12.05(thu)\nOPEN 18:00\nSTART 18:30\nNO CHARGE\n2D(¥1200)\n\nKYOUDAI\nkijin\nザ　ニンクス\n破壊光線\n\nand more...\n\nKYOUDAI pre.\nPARTY HARD??\n@初台WALL
URL:https://nakano-dynamite.com/wall/event/2024-12-05/
LOCATION:初台WALL\, 西新宿　3-15-8-B1\, 新宿区\, 東京都\, 160-0023\, Japan
ATTACH;FMTTYPE=image/jpeg:https://nakano-dynamite.com/wall/wp-content/uploads/2024/11/20241205.jpg
END:VEVENT
BEGIN:VEVENT
DTSTART;TZID=Asia/Tokyo:20241215T133000
DTEND;TZID=Asia/Tokyo:20241215T220000
DTSTAMP:20260423T102509
CREATED:20241120T110747Z
LAST-MODIFIED:20241120T110747Z
UID:3174-1734269400-1734300000@nakano-dynamite.com
SUMMARY:OVERALL忘年会
DESCRIPTION:2024.12.15(sun)\nOPEN 13:30\nSTART 14:00\nADV ¥1900\nDOOR ¥2900\n+1D\nHOW\nTHRASHOUT\nDEVASTATORS\nOJO ROJO\nAudinaries\nHEXO\nupstairs\nSEETHING OF LIFE\nJACK MINDS\nKYOUDAI\n2STRIKE3BALL\n\n-DJ-\nセージーガガ\nKxExMxEx\n\n-FOOD-\nひなこフーズ\n\nOVERALL忘年会\n@初台WALL
URL:https://nakano-dynamite.com/wall/event/2024-12-15/
LOCATION:初台WALL\, 西新宿　3-15-8-B1\, 新宿区\, 東京都\, 160-0023\, Japan
ATTACH;FMTTYPE=image/jpeg:https://nakano-dynamite.com/wall/wp-content/uploads/2024/11/20241215.jpg
END:VEVENT
BEGIN:VEVENT
DTSTART;TZID=Asia/Tokyo:20250129T190000
DTEND;TZID=Asia/Tokyo:20250129T220000
DTSTAMP:20260423T102509
CREATED:20250122T094115Z
LAST-MODIFIED:20250122T094115Z
UID:3305-1738177200-1738188000@nakano-dynamite.com
SUMMARY:KYOUDAI pre.
DESCRIPTION:2025.01.29(wed)\nOPEN 19:00\nSTART 19:30\nNO CHARGE 2D\n(¥1200)\n\nKYOUDAI\n2STRIKE3BALL\nザ　ニンクス\n\n\nKYOUDAI pre.\n@初台WALL
URL:https://nakano-dynamite.com/wall/event/2025-01-29/
LOCATION:初台WALL\, 西新宿　3-15-8-B1\, 新宿区\, 東京都\, 160-0023\, Japan
ATTACH;FMTTYPE=image/jpeg:https://nakano-dynamite.com/wall/wp-content/uploads/2025/01/20250129.jpg
END:VEVENT
END:VCALENDAR