BEGIN:VCALENDAR
VERSION:2.0
PRODID:-//Livehouse Wall - ECPv6.15.20//NONSGML v1.0//EN
CALSCALE:GREGORIAN
METHOD:PUBLISH
X-WR-CALNAME:Livehouse Wall
X-ORIGINAL-URL:https://nakano-dynamite.com/wall
X-WR-CALDESC:Livehouse Wall のイベント
REFRESH-INTERVAL;VALUE=DURATION:PT1H
X-Robots-Tag:noindex
X-PUBLISHED-TTL:PT1H
BEGIN:VTIMEZONE
TZID:Asia/Tokyo
BEGIN:STANDARD
TZOFFSETFROM:+0900
TZOFFSETTO:+0900
TZNAME:JST
DTSTART:20230101T000000
END:STANDARD
END:VTIMEZONE
BEGIN:VEVENT
DTSTART;TZID=Asia/Tokyo:20260228T173000
DTEND;TZID=Asia/Tokyo:20260228T220000
DTSTAMP:20260424T134458
CREATED:20260129T102340Z
LAST-MODIFIED:20260129T102340Z
UID:4596-1772299800-1772316000@nakano-dynamite.com
SUMMARY:Double Betrayal -END OF THE SUMMER SET-
DESCRIPTION:2026.02.28(sat)\nOPEN 17:30\nSTART 18:00\nADAV ¥3000\nDOOR ¥3500\n+1D\n\nLEXT\nank\nBLASTER KID\nSmudge!\n\nand more...\n\nLEXT pre.\nDouble Betrayal\nEND OF THE SUMMER SET\n@初台WALL
URL:https://nakano-dynamite.com/wall/event/2026-02-28/
LOCATION:初台WALL\, 西新宿　3-15-8-B1\, 新宿区\, 東京都\, 160-0023\, Japan
ATTACH;FMTTYPE=image/jpeg:https://nakano-dynamite.com/wall/wp-content/uploads/2026/01/20260228.jpg
END:VEVENT
BEGIN:VEVENT
DTSTART;TZID=Asia/Tokyo:20251108T180000
DTEND;TZID=Asia/Tokyo:20251108T220000
DTSTAMP:20260424T134458
CREATED:20251009T132726Z
LAST-MODIFIED:20251009T132727Z
UID:4290-1762624800-1762639200@nakano-dynamite.com
SUMMARY:STILL VIBRATION
DESCRIPTION:2025.11.08(sat)\nOPEN 18:00\nSTART 18:30\nADV ¥3000\nDOOR ¥3500\n+1D\n\nFIVE NO RISK\nTHE DISASTER POINTS\nLEXT\n\n\n\n\nFIVE NO RISK & THE DISASTER POINTS pre.\nSTILL VIBRATION\n@初台WALL
URL:https://nakano-dynamite.com/wall/event/2025-11-08/
LOCATION:初台WALL\, 西新宿　3-15-8-B1\, 新宿区\, 東京都\, 160-0023\, Japan
ATTACH;FMTTYPE=image/jpeg:https://nakano-dynamite.com/wall/wp-content/uploads/2025/10/20251108.jpg
END:VEVENT
BEGIN:VEVENT
DTSTART;TZID=Asia/Tokyo:20240706T180000
DTEND;TZID=Asia/Tokyo:20240706T220000
DTSTAMP:20260424T134458
CREATED:20240627T121631Z
LAST-MODIFIED:20240627T121631Z
UID:2637-1720288800-1720303200@nakano-dynamite.com
SUMMARY:International You Day 22 "Departures" Release Show
DESCRIPTION:2024.07.06(sat)\nOPEN 18:00\nSTART 18:30\nADV ¥3000\nDOOR ¥3500\nU-20 ¥1000\n+1D\n\nwaterweed\nTHE COASTGUARDS\nLEXT\n\nwaterweed pre.\nInternational You Day 22\n"Departures" Release Show \n@初台WALL
URL:https://nakano-dynamite.com/wall/event/2024-07-06/
LOCATION:初台WALL\, 西新宿　3-15-8-B1\, 新宿区\, 東京都\, 160-0023\, Japan
ATTACH;FMTTYPE=image/jpeg:https://nakano-dynamite.com/wall/wp-content/uploads/2024/06/20240706.jpg
END:VEVENT
END:VCALENDAR