BEGIN:VCALENDAR
VERSION:2.0
PRODID:-//Livehouse Wall - ECPv6.15.20//NONSGML v1.0//EN
CALSCALE:GREGORIAN
METHOD:PUBLISH
X-WR-CALNAME:Livehouse Wall
X-ORIGINAL-URL:https://nakano-dynamite.com/wall
X-WR-CALDESC:Livehouse Wall のイベント
REFRESH-INTERVAL;VALUE=DURATION:PT1H
X-Robots-Tag:noindex
X-PUBLISHED-TTL:PT1H
BEGIN:VTIMEZONE
TZID:Asia/Tokyo
BEGIN:STANDARD
TZOFFSETFROM:+0900
TZOFFSETTO:+0900
TZNAME:JST
DTSTART:20220101T000000
END:STANDARD
END:VTIMEZONE
BEGIN:VEVENT
DTSTART;TZID=Asia/Tokyo:20251101T180000
DTEND;TZID=Asia/Tokyo:20251101T220000
DTSTAMP:20260423T194235
CREATED:20251009T094750Z
LAST-MODIFIED:20251009T094750Z
UID:4274-1762020000-1762034400@nakano-dynamite.com
SUMMARY:POSITIVE FORCE
DESCRIPTION:2025.11.01(sat)\nOPEN 18:00\nSTART 18:30\nADV/DOOR ¥2400\n+1D\n\nBUMPED HIS HEAD\nCROSSFACE\nPEST\nLittle Bastards\n己是（福島）\n\n\n\n\nBUMPED HIS HEAD pre.\nPOSITIVE FORCE \n@初台WALL
URL:https://nakano-dynamite.com/wall/event/2025-11-01/
LOCATION:初台WALL\, 西新宿　3-15-8-B1\, 新宿区\, 東京都\, 160-0023\, Japan
ATTACH;FMTTYPE=image/jpeg:https://nakano-dynamite.com/wall/wp-content/uploads/2025/10/20251101.jpg
END:VEVENT
BEGIN:VEVENT
DTSTART;TZID=Asia/Tokyo:20250504T170000
DTEND;TZID=Asia/Tokyo:20250504T220000
DTSTAMP:20260423T194235
CREATED:20250410T090429Z
LAST-MODIFIED:20250410T090429Z
UID:3630-1746378000-1746396000@nakano-dynamite.com
SUMMARY:DEsperAte THanatology Vol.21
DESCRIPTION:2025.05.04(sun)\nOPEN 17:00\nSTART 17:30\nADV ¥2700\nDOOR ¥3200\n+1D\n\nSPIROKETE(U.S NY)\nAXEHELVETE(広島)\nCAUSEHEATE(仙台)\nLiFE\nLITTLE BASTARDS\nTODESTRIEB\n\n-DISTRO-\nAcclaimCollective \n\n\n\nTODESTRIEB pre.\nDEsperAte THanatology Vol.21 \n@初台WALL
URL:https://nakano-dynamite.com/wall/event/2025-05-04/
LOCATION:初台WALL\, 西新宿　3-15-8-B1\, 新宿区\, 東京都\, 160-0023\, Japan
ATTACH;FMTTYPE=image/jpeg:https://nakano-dynamite.com/wall/wp-content/uploads/2025/04/2020504.jpg
END:VEVENT
BEGIN:VEVENT
DTSTART;TZID=Asia/Tokyo:20230430T170000
DTEND;TZID=Asia/Tokyo:20230430T220000
DTSTAMP:20260423T194235
CREATED:20230323T120831Z
LAST-MODIFIED:20230323T120831Z
UID:1085-1682874000-1682892000@nakano-dynamite.com
SUMMARY:Shameless
DESCRIPTION:2023.04.30　(sun)\nOPEN 17:00 START 17:30\nDOOR ONLY ￥3000(1D込)\n\nLEGEND OF TRUTH \nFASTener \nAPOLOGIST \nLittle Bastards \nStigmatize\nJAMON SERANO\n\n\n\nWALL pre\nShameless\n@初台WALL
URL:https://nakano-dynamite.com/wall/event/2023-04-30/
LOCATION:初台WALL\, 西新宿　3-15-8-B1\, 新宿区\, 東京都\, 160-0023\, Japan
ATTACH;FMTTYPE=image/jpeg:https://nakano-dynamite.com/wall/wp-content/uploads/2023/03/2023-04-30.jpg
END:VEVENT
BEGIN:VEVENT
DTSTART;TZID=Asia/Tokyo:20230304T173000
DTEND;TZID=Asia/Tokyo:20230304T220000
DTSTAMP:20260423T194235
CREATED:20230203T175753Z
LAST-MODIFIED:20230203T175753Z
UID:912-1677951000-1677967200@nakano-dynamite.com
SUMMARY:ラ.リ.ル
DESCRIPTION:2023.03.04(sat)\nOPEN 17:30 START 18:00\n¥2000+1D\n\n\nLittle Bastards \nSPACEGRAINDER(死國松山)\nCunts 　　　　　　\nDxIxE　　　　　\nABOS\n\nWALL presents\nラ.リ.ル\n@初台WALL
URL:https://nakano-dynamite.com/wall/event/2023-03-04/
LOCATION:初台WALL\, 西新宿　3-15-8-B1\, 新宿区\, 東京都\, 160-0023\, Japan
ATTACH;FMTTYPE=image/jpeg:https://nakano-dynamite.com/wall/wp-content/uploads/2023/02/20230304.jpg
END:VEVENT
END:VCALENDAR