BEGIN:VCALENDAR
VERSION:2.0
PRODID:-//Livehouse Wall - ECPv6.15.20//NONSGML v1.0//EN
CALSCALE:GREGORIAN
METHOD:PUBLISH
X-WR-CALNAME:Livehouse Wall
X-ORIGINAL-URL:https://nakano-dynamite.com/wall
X-WR-CALDESC:Livehouse Wall のイベント
REFRESH-INTERVAL;VALUE=DURATION:PT1H
X-Robots-Tag:noindex
X-PUBLISHED-TTL:PT1H
BEGIN:VTIMEZONE
TZID:Asia/Tokyo
BEGIN:STANDARD
TZOFFSETFROM:+0900
TZOFFSETTO:+0900
TZNAME:JST
DTSTART:20230101T000000
END:STANDARD
END:VTIMEZONE
BEGIN:VEVENT
DTSTART;TZID=Asia/Tokyo:20240606T180000
DTEND;TZID=Asia/Tokyo:20240606T220000
DTSTAMP:20260422T000301
CREATED:20240602T092616Z
LAST-MODIFIED:20240602T092704Z
UID:2549-1717696800-1717711200@nakano-dynamite.com
SUMMARY:蜃気楼~PAシンキvol.28~
DESCRIPTION:2024.06.06(thu)\nOPEN 18:00\nSTART 18:30\nDOOR￥2000\n+1D\n\nnastie\nMassMan(台湾)\nTRES\nRYDEEN\nTORO \n\n\nWALL pre.\n蜃気楼-PAシンキ生誕祭vol.28-\n@初台WALL
URL:https://nakano-dynamite.com/wall/event/2024-06-06/
LOCATION:初台WALL\, 西新宿　3-15-8-B1\, 新宿区\, 東京都\, 160-0023\, Japan
ATTACH;FMTTYPE=image/jpeg:https://nakano-dynamite.com/wall/wp-content/uploads/2024/06/20240606.jpg
END:VEVENT
END:VCALENDAR