BEGIN:VCALENDAR
VERSION:2.0
PRODID:-//Livehouse Wall - ECPv6.15.20//NONSGML v1.0//EN
CALSCALE:GREGORIAN
METHOD:PUBLISH
X-WR-CALNAME:Livehouse Wall
X-ORIGINAL-URL:https://nakano-dynamite.com/wall
X-WR-CALDESC:Livehouse Wall のイベント
REFRESH-INTERVAL;VALUE=DURATION:PT1H
X-Robots-Tag:noindex
X-PUBLISHED-TTL:PT1H
BEGIN:VTIMEZONE
TZID:Asia/Tokyo
BEGIN:STANDARD
TZOFFSETFROM:+0900
TZOFFSETTO:+0900
TZNAME:JST
DTSTART:20240101T000000
END:STANDARD
END:VTIMEZONE
BEGIN:VEVENT
DTSTART;TZID=Asia/Tokyo:20250715T193000
DTEND;TZID=Asia/Tokyo:20250715T230000
DTSTAMP:20260422T054808
CREATED:20250604T110031Z
LAST-MODIFIED:20250701T095031Z
UID:3828-1752607800-1752620400@nakano-dynamite.com
SUMMARY:KIMURA (from AUS) JAPAN TOUR 2025
DESCRIPTION:2025.07.15(tue)\nOPEN 19:30\nSTART 20:00\nADV ¥2\,900\nDOOR ¥3\,400\n+1D\n\nKIMURA(AUS)\nCRY\nINFERNO HADES\n\n\n\n・KIMURA - HELL IS COMING (Official Music Video)\n\n\n・CRY 2nd Full Album「弐」Official Teaser\n \n・INFERNO HADES - Discreation Stabilized\n \nWALL pre.\nKIMURA (from AUS) JAPAN TOUR 2025\n@初台WALL
URL:https://nakano-dynamite.com/wall/event/2025-07-15/
LOCATION:初台WALL\, 西新宿　3-15-8-B1\, 新宿区\, 東京都\, 160-0023\, Japan
ATTACH;FMTTYPE=image/png:https://nakano-dynamite.com/wall/wp-content/uploads/2025/06/kimura0715-13-06-2025-17-26-24.png
END:VEVENT
BEGIN:VEVENT
DTSTART;TZID=Asia/Tokyo:20250729T183000
DTEND;TZID=Asia/Tokyo:20250729T220000
DTSTAMP:20260422T054808
CREATED:20250604T110032Z
LAST-MODIFIED:20250701T095736Z
UID:3831-1753813800-1753826400@nakano-dynamite.com
SUMMARY:RUYNED(from Romania) JAPAN TOUR 2025
DESCRIPTION:2025.07.29(tue)\nOPEN TBA\nSTART TBA\nADV ¥2\,900\nDOOR ¥3\,400\n+1D\n\nRUYNED(from Romania)\nThe Art of Mankind\nExitium Of Nemesis\nDATE BACK TO DAWN\n\n\nWALL pre.\nRUYNED(from Romania) JAPAN TOUR 2025\n@初台WALL
URL:https://nakano-dynamite.com/wall/event/2025-07-29/
LOCATION:初台WALL\, 西新宿　3-15-8-B1\, 新宿区\, 東京都\, 160-0023\, Japan
ATTACH;FMTTYPE=image/jpeg:https://nakano-dynamite.com/wall/wp-content/uploads/2025/06/Ruyned-0729_v2.jpg
END:VEVENT
BEGIN:VEVENT
DTSTART;TZID=Asia/Tokyo:20250821T200000
DTEND;TZID=Asia/Tokyo:20250821T230000
DTSTAMP:20260422T054808
CREATED:20250806T103006Z
LAST-MODIFIED:20250806T104734Z
UID:4038-1755806400-1755817200@nakano-dynamite.com
SUMMARY:METAL DJ NIGHT
DESCRIPTION:2025.08.21(Thu)\nSTART 20:00\nCHARGE ¥900+1D\n\n-DJs-\nATAKE(from COFFINS)\nEBI ANIME(from HETEROPSY)\nJune 1(from Her Vomit is Modern... )\nサバス田中 (from Abiuro)\n\n\n\nWALL pre.\nMETAL DJ NIGHT\n@初台WALL
URL:https://nakano-dynamite.com/wall/event/2025-08-21/
LOCATION:初台WALL\, 西新宿　3-15-8-B1\, 新宿区\, 東京都\, 160-0023\, Japan
CATEGORIES:ALCOHOL BREAK,BAR/SNACK NIGHT
ATTACH;FMTTYPE=image/jpeg:https://nakano-dynamite.com/wall/wp-content/uploads/2025/08/0821_flyer.jpeg
END:VEVENT
BEGIN:VEVENT
DTSTART;TZID=Asia/Tokyo:20260203T193000
DTEND;TZID=Asia/Tokyo:20260203T220000
DTSTAMP:20260422T054808
CREATED:20260119T120041Z
LAST-MODIFIED:20260119T094332Z
UID:4566-1770147000-1770156000@nakano-dynamite.com
SUMMARY:WALL pre METAL DJ NIGHT ~Abyss Walker~
DESCRIPTION:OPEN/START 19:30~\nENTRANCE ¥900+1D\n\n【DJ】\nEno (BAR CHITEI)\nJERO(Abigail)\nJUNE 1さん(Her Vomit Is Modern…)\nヤマモト(Green Tripe)\nサバス田中(Abiuro)\nノブ(Hebi Katana)\n\n...and more\n\n\n\nWALL pre\nMETAL DJ NIGHT ~Abyss Walker~\n@初台WALL
URL:https://nakano-dynamite.com/wall/event/2026-02-03/
LOCATION:初台WALL\, 西新宿　3-15-8-B1\, 新宿区\, 東京都\, 160-0023\, Japan
CATEGORIES:Dynamite Justice
ATTACH;FMTTYPE=image/jpeg:https://nakano-dynamite.com/wall/wp-content/uploads/2026/01/0203-2-scaled.jpg
END:VEVENT
END:VCALENDAR