BEGIN:VCALENDAR
VERSION:2.0
PRODID:-//Livehouse Wall - ECPv6.15.20//NONSGML v1.0//EN
CALSCALE:GREGORIAN
METHOD:PUBLISH
X-WR-CALNAME:Livehouse Wall
X-ORIGINAL-URL:https://nakano-dynamite.com/wall
X-WR-CALDESC:Livehouse Wall のイベント
REFRESH-INTERVAL;VALUE=DURATION:PT1H
X-Robots-Tag:noindex
X-PUBLISHED-TTL:PT1H
BEGIN:VTIMEZONE
TZID:Asia/Tokyo
BEGIN:STANDARD
TZOFFSETFROM:+0900
TZOFFSETTO:+0900
TZNAME:JST
DTSTART:20220101T000000
END:STANDARD
END:VTIMEZONE
BEGIN:VEVENT
DTSTART;TZID=Asia/Tokyo:20240210T173000
DTEND;TZID=Asia/Tokyo:20240210T173000
DTSTAMP:20260422T020707
CREATED:20240208T050409Z
LAST-MODIFIED:20240208T125108Z
UID:2272-1707586200-1707586200@nakano-dynamite.com
SUMMARY:Kaos Effect
DESCRIPTION:2024.02.10 (sat)\nOPEN 17:30  START 18:00\nADV ￥2500 DOOR ￥3000＋1D\n\nSAIGAN TERROR\nSECONDARMS\nDIEDRO LOS DIABLOS\nMURAKUMO\nROCKCRIMAZ\n\nDJ\nIt’s all bad(SEKI+TEE SHORT)\nMinor Coaster\nJAH-B\n\nSECONDARMS pre\n KAOS EFFECT\n@初台WALL\n 
URL:https://nakano-dynamite.com/wall/event/2024-02-10/
LOCATION:初台WALL\, 西新宿　3-15-8-B1\, 新宿区\, 東京都\, 160-0023\, Japan
ATTACH;FMTTYPE=image/jpeg:https://nakano-dynamite.com/wall/wp-content/uploads/2024/02/20240210.jpeg
END:VEVENT
BEGIN:VEVENT
DTSTART;TZID=Asia/Tokyo:20231021T170000
DTEND;TZID=Asia/Tokyo:20231021T220000
DTSTAMP:20260422T020707
CREATED:20230921T084342Z
LAST-MODIFIED:20230921T084501Z
UID:1588-1697907600-1697925600@nakano-dynamite.com
SUMMARY:GOOD WORLD PARTY vol.1
DESCRIPTION:2023.10.21(sat)\nOPEN/START 17:00\nDOOR￥2500+1D\n\nSECONDARMS\nABOS\nDiscavil\nBumped his head\nMEXICAN AGE\nDOMINATE\nHORSEHEAD NEBULA\n\n-DJ-\nMUM\nTHREE-CODE\n床松\nMinor Coaster\n\n-LIVE PAINTING-\nMaaji\n\nWALL pre\nGOOD WORLD PARTY vol.1\n＠初台WALL
URL:https://nakano-dynamite.com/wall/event/2023-10-21/
LOCATION:初台WALL\, 西新宿　3-15-8-B1\, 新宿区\, 東京都\, 160-0023\, Japan
ATTACH;FMTTYPE=image/jpeg:https://nakano-dynamite.com/wall/wp-content/uploads/2023/09/20231021.jpg
END:VEVENT
END:VCALENDAR