BEGIN:VCALENDAR
VERSION:2.0
PRODID:-//Livehouse Wall - ECPv6.15.20//NONSGML v1.0//EN
CALSCALE:GREGORIAN
METHOD:PUBLISH
X-WR-CALNAME:Livehouse Wall
X-ORIGINAL-URL:https://nakano-dynamite.com/wall
X-WR-CALDESC:Livehouse Wall のイベント
REFRESH-INTERVAL;VALUE=DURATION:PT1H
X-Robots-Tag:noindex
X-PUBLISHED-TTL:PT1H
BEGIN:VTIMEZONE
TZID:Asia/Tokyo
BEGIN:STANDARD
TZOFFSETFROM:+0900
TZOFFSETTO:+0900
TZNAME:JST
DTSTART:20240101T000000
END:STANDARD
END:VTIMEZONE
BEGIN:VEVENT
DTSTART;TZID=Asia/Tokyo:20250816T190000
DTEND;TZID=Asia/Tokyo:20250816T220000
DTSTAMP:20260424T085743
CREATED:20250813T100055Z
LAST-MODIFIED:20250813T045713Z
UID:4011-1755370800-1755381600@nakano-dynamite.com
SUMMARY:NOTHING IS REAL 2
DESCRIPTION:OPEN 18:30\nSTART 19:00\nADV ¥2\,900\nDOOR ¥3\,400\n\nKaravi Roushi\nmisaki!!\nTAXI DRIVER\nT.M.P\nVOLOJZA\n爆裂ジャイロ\n\n\n\nWALL pre.\nNOTHING IS REAL.\n@初台WALL
URL:https://nakano-dynamite.com/wall/event/2025-08-16/
LOCATION:初台WALL\, 西新宿　3-15-8-B1\, 新宿区\, 東京都\, 160-0023\, Japan
CATEGORIES:ALCOHOL BREAK
ATTACH;FMTTYPE=image/jpeg:https://nakano-dynamite.com/wall/wp-content/uploads/2025/07/0816_TT-1.jpg
END:VEVENT
BEGIN:VEVENT
DTSTART;TZID=Asia/Tokyo:20250620T193000
DTEND;TZID=Asia/Tokyo:20250620T233000
DTSTAMP:20260424T085743
CREATED:20250610T102901Z
LAST-MODIFIED:20250615T112039Z
UID:3846-1750447800-1750462200@nakano-dynamite.com
SUMMARY:SKUM vol.1
DESCRIPTION:2025.06.20(fri)\nOPEN 19:30\nSTART 20:00\nEntrance ¥0\n+5drink order\n\nmisaki!!\nUI from MUGANO\n死球\n\nDJ:\nサバス田中 from Abiuro\n\n\nWALL pre.\nSKUM vol.1\n@初台WALL
URL:https://nakano-dynamite.com/wall/event/2025-06-20/
LOCATION:初台WALL\, 西新宿　3-15-8-B1\, 新宿区\, 東京都\, 160-0023\, Japan
CATEGORIES:ALCOHOL BREAK,BAR/SNACK NIGHT,Dynamite Justice
ATTACH;FMTTYPE=image/jpeg:https://nakano-dynamite.com/wall/wp-content/uploads/2025/06/0620_v2.jpg
END:VEVENT
BEGIN:VEVENT
DTSTART;TZID=Asia/Tokyo:20250523T183000
DTEND;TZID=Asia/Tokyo:20250523T220000
DTSTAMP:20260424T085743
CREATED:20250515T110935Z
LAST-MODIFIED:20250515T110935Z
UID:3745-1748025000-1748037600@nakano-dynamite.com
SUMMARY:MY PENIS JAPAN TOUR
DESCRIPTION:2025.05.23(fri)\nOPEN 18:30\nSTART 19:00\nDOOR ¥1900\n+1D\n\nMY PENIS(US)\nGOOD DREAM\nmisaki!!\nANALSKULLFUCK\nMea Culpa\n\n\n\nWALL Pre.\nMY PENIS JAPAN TOUR\n@初台WALL
URL:https://nakano-dynamite.com/wall/event/2025-05-23/
LOCATION:初台WALL\, 西新宿　3-15-8-B1\, 新宿区\, 東京都\, 160-0023\, Japan
ATTACH;FMTTYPE=image/jpeg:https://nakano-dynamite.com/wall/wp-content/uploads/2025/05/20250523.jpg
END:VEVENT
BEGIN:VEVENT
DTSTART;TZID=Asia/Tokyo:20250329T170000
DTEND;TZID=Asia/Tokyo:20250329T220000
DTSTAMP:20260424T085743
CREATED:20250222T065017Z
LAST-MODIFIED:20250222T065017Z
UID:3494-1743267600-1743285600@nakano-dynamite.com
SUMMARY:ピーポーズのパピプペポパペパピー3
DESCRIPTION:2025.03.29(sat)\nOPEN 17:30\nSTART 17:45\nDOOR ¥1900\nU-23 ¥400\n+1D\nABOS\nbaduerykah\nFIRE BOYS\nmisaki!!\n黄倉未来\nでぶコーネリアスEX\nピーポーズ\n\n\n\nピーポーズ pre.\nピーポーズのパピプペポパペパピー3\n@初台WALL
URL:https://nakano-dynamite.com/wall/event/2025-03-29/
LOCATION:初台WALL\, 西新宿　3-15-8-B1\, 新宿区\, 東京都\, 160-0023\, Japan
ATTACH;FMTTYPE=image/jpeg:https://nakano-dynamite.com/wall/wp-content/uploads/2025/02/20250329.jpg
END:VEVENT
END:VCALENDAR