BEGIN:VCALENDAR
VERSION:2.0
PRODID:-//Livehouse Wall - ECPv6.15.20//NONSGML v1.0//EN
CALSCALE:GREGORIAN
METHOD:PUBLISH
X-ORIGINAL-URL:https://nakano-dynamite.com/wall
X-WR-CALDESC:Livehouse Wall のイベント
REFRESH-INTERVAL;VALUE=DURATION:PT1H
X-Robots-Tag:noindex
X-PUBLISHED-TTL:PT1H
BEGIN:VTIMEZONE
TZID:Asia/Tokyo
BEGIN:STANDARD
TZOFFSETFROM:+0900
TZOFFSETTO:+0900
TZNAME:JST
DTSTART:20220101T000000
END:STANDARD
END:VTIMEZONE
BEGIN:VEVENT
DTSTART;TZID=Asia/Tokyo:20230212T163000
DTEND;TZID=Asia/Tokyo:20230212T220000
DTSTAMP:20260422T193609
CREATED:20230203T111711Z
LAST-MODIFIED:20230203T174001Z
UID:873-1676219400-1676239200@nakano-dynamite.com
SUMMARY:OVERALL
DESCRIPTION:2023.02.12(sun)\nOPEN 16:30 START 17:00\nDOOR ¥2000+1D\nHOW\nNASTIE\nデッドバンビーズ\nMr.Fin and Jake(長野)\nTEENAGE AFTERPARTY\nAkabane Vulgers On Strong Bypass\n\nOVERALL CREW presents\nOVERALL\n＠初台WALL\n\n\n 
URL:https://nakano-dynamite.com/wall/event/2023-02-12-2/
LOCATION:初台WALL\, 西新宿　3-15-8-B1\, 新宿区\, 東京都\, 160-0023\, Japan
CATEGORIES:OVER ALL
ATTACH;FMTTYPE=image/jpeg:https://nakano-dynamite.com/wall/wp-content/uploads/2023/02/20230212.jpg
END:VEVENT
END:VCALENDAR