BEGIN:VCALENDAR
VERSION:2.0
PRODID:-//Livehouse Wall - ECPv6.15.20//NONSGML v1.0//EN
CALSCALE:GREGORIAN
METHOD:PUBLISH
X-WR-CALNAME:Livehouse Wall
X-ORIGINAL-URL:https://nakano-dynamite.com/wall
X-WR-CALDESC:Livehouse Wall のイベント
REFRESH-INTERVAL;VALUE=DURATION:PT1H
X-Robots-Tag:noindex
X-PUBLISHED-TTL:PT1H
BEGIN:VTIMEZONE
TZID:Asia/Tokyo
BEGIN:STANDARD
TZOFFSETFROM:+0900
TZOFFSETTO:+0900
TZNAME:JST
DTSTART:20240101T000000
END:STANDARD
END:VTIMEZONE
BEGIN:VEVENT
DTSTART;TZID=Asia/Tokyo:20250919T180000
DTEND;TZID=Asia/Tokyo:20250919T220000
DTSTAMP:20260422T000247
CREATED:20250808T122847Z
LAST-MODIFIED:20250808T122847Z
UID:4072-1758304800-1758319200@nakano-dynamite.com
SUMMARY:初台にほえろ ~ダルマシンゴ夜鵺生誕祭~lev.37
DESCRIPTION:2025.09.19(fri)\nOPEN 18:00\nWALLA 18:30\nADV ¥1900\nDOOR ¥1900\n+1D\n\nSWD\nアノダイズヘッド\n達磨\nFRACTURE\nTHE VIKING\nnastie\nドカドカ \n\n\n\nダルマシンゴ夜鵺＆WALL pre.\n初台にほえろ\n~ダルマシンゴ夜鵺生誕祭~lev.37\n@初台WALL
URL:https://nakano-dynamite.com/wall/event/2025-09-19/
LOCATION:初台WALL\, 西新宿　3-15-8-B1\, 新宿区\, 東京都\, 160-0023\, Japan
ATTACH;FMTTYPE=image/jpeg:https://nakano-dynamite.com/wall/wp-content/uploads/2025/08/20250919.jpg
END:VEVENT
END:VCALENDAR