BEGIN:VCALENDAR
VERSION:2.0
PRODID:-//Livehouse Wall - ECPv6.15.20//NONSGML v1.0//EN
CALSCALE:GREGORIAN
METHOD:PUBLISH
X-WR-CALNAME:Livehouse Wall
X-ORIGINAL-URL:https://nakano-dynamite.com/wall
X-WR-CALDESC:Livehouse Wall のイベント
REFRESH-INTERVAL;VALUE=DURATION:PT1H
X-Robots-Tag:noindex
X-PUBLISHED-TTL:PT1H
BEGIN:VTIMEZONE
TZID:Asia/Tokyo
BEGIN:STANDARD
TZOFFSETFROM:+0900
TZOFFSETTO:+0900
TZNAME:JST
DTSTART:20240101T000000
END:STANDARD
END:VTIMEZONE
BEGIN:VEVENT
DTSTART;TZID=Asia/Tokyo:20250829T190000
DTEND;TZID=Asia/Tokyo:20250829T220000
DTSTAMP:20260424T170237
CREATED:20250807T111444Z
LAST-MODIFIED:20250807T111444Z
UID:4054-1756494000-1756504800@nakano-dynamite.com
SUMMARY:エチュバリア TOUR
DESCRIPTION:2025.08.29(fri)\nOPEN 19:00\nSTART 19:25\nADV ¥2400\nDOOR ¥2900\n+1D\n\nアノダイズヘッド\nどついたるねん\nOh!Friends\nエチュバリア\n\n\n\nWALL pre.\nエチュバリア TOUR\n@初台WALL
URL:https://nakano-dynamite.com/wall/event/2025-08-29/
LOCATION:初台WALL\, 西新宿　3-15-8-B1\, 新宿区\, 東京都\, 160-0023\, Japan
ATTACH;FMTTYPE=image/jpeg:https://nakano-dynamite.com/wall/wp-content/uploads/2025/08/20250829.jpg
END:VEVENT
BEGIN:VEVENT
DTSTART;TZID=Asia/Tokyo:20250915T183000
DTEND;TZID=Asia/Tokyo:20250915T220000
DTSTAMP:20260424T170237
CREATED:20250816T085412Z
LAST-MODIFIED:20250816T085413Z
UID:4118-1757961000-1757973600@nakano-dynamite.com
SUMMARY:TILL THE END vol.13
DESCRIPTION:2025.09.15(mon)\nOPEN 18:30\nSTART 19:00\nADV ¥2000\nDOOR ¥2500\n+1D\n\n0.001DAY\nUNDONE\nOh!Friends\nstench\ni's\n\n \n\nTM pre.\nTILL THE END vol.13\n@初台WALL
URL:https://nakano-dynamite.com/wall/event/2025-09-15/
LOCATION:初台WALL\, 西新宿　3-15-8-B1\, 新宿区\, 東京都\, 160-0023\, Japan
ATTACH;FMTTYPE=image/jpeg:https://nakano-dynamite.com/wall/wp-content/uploads/2025/08/20250915-1.jpg
END:VEVENT
END:VCALENDAR