BEGIN:VCALENDAR
VERSION:2.0
PRODID:-//Livehouse Wall - ECPv6.15.20//NONSGML v1.0//EN
CALSCALE:GREGORIAN
METHOD:PUBLISH
X-WR-CALNAME:Livehouse Wall
X-ORIGINAL-URL:https://nakano-dynamite.com/wall
X-WR-CALDESC:Livehouse Wall のイベント
REFRESH-INTERVAL;VALUE=DURATION:PT1H
X-Robots-Tag:noindex
X-PUBLISHED-TTL:PT1H
BEGIN:VTIMEZONE
TZID:Asia/Tokyo
BEGIN:STANDARD
TZOFFSETFROM:+0900
TZOFFSETTO:+0900
TZNAME:JST
DTSTART:20230101T000000
END:STANDARD
END:VTIMEZONE
BEGIN:VEVENT
DTSTART;TZID=Asia/Tokyo:20240818T160000
DTEND;TZID=Asia/Tokyo:20240818T220000
DTSTAMP:20260423T200028
CREATED:20240727T100856Z
LAST-MODIFIED:20240730T081314Z
UID:2835-1723996800-1724018400@nakano-dynamite.com
SUMMARY:NEVER ENDING STORY vol.2
DESCRIPTION:2024.08.18(sun)\nOPEN 16:00\nSTART 16:30\nADV ¥2400\nDOOR ¥3000\n+1D\n\nAHOU'S LIFE\nOJO ROJO\ntresflag(群馬)\nfieldstuck\nSMART ALECK\nMyベストテープ\nZENITH ANGLE\n\n\n\nRYUJI(SMART ALECK) pre.\nNEVER ENDING STORY vol.2\n@初台WALL
URL:https://nakano-dynamite.com/wall/event/2024-08-18/
LOCATION:初台WALL\, 西新宿　3-15-8-B1\, 新宿区\, 東京都\, 160-0023\, Japan
ATTACH;FMTTYPE=image/jpeg:https://nakano-dynamite.com/wall/wp-content/uploads/2024/07/20240818.jpg
END:VEVENT
BEGIN:VEVENT
DTSTART;TZID=Asia/Tokyo:20241014T170000
DTEND;TZID=Asia/Tokyo:20241014T220000
DTSTAMP:20260423T200028
CREATED:20240926T103325Z
LAST-MODIFIED:20240926T103325Z
UID:3010-1728925200-1728943200@nakano-dynamite.com
SUMMARY:DUB CONNECTION
DESCRIPTION:2024.10.14(mon)\nOPEN 17:00\nSTART 17:45\nDOOR ¥2000\n+1D\n\n天狗ロッカーズ\nBOBOBO LTD\nLos Tequira Cokes\nNinja wi Ninja\nOJO ROJO\n\n-DJ-\nMASA&MITTUU\n(Militant Ites)\n\n天狗ロッカーズ pre.\nDUB CONNECTION\n@初台WALL
URL:https://nakano-dynamite.com/wall/event/2024-10-14/
LOCATION:初台WALL\, 西新宿　3-15-8-B1\, 新宿区\, 東京都\, 160-0023\, Japan
ATTACH;FMTTYPE=image/jpeg:https://nakano-dynamite.com/wall/wp-content/uploads/2024/09/20241014.jpg
END:VEVENT
BEGIN:VEVENT
DTSTART;TZID=Asia/Tokyo:20241215T133000
DTEND;TZID=Asia/Tokyo:20241215T220000
DTSTAMP:20260423T200028
CREATED:20241120T110747Z
LAST-MODIFIED:20241120T110747Z
UID:3174-1734269400-1734300000@nakano-dynamite.com
SUMMARY:OVERALL忘年会
DESCRIPTION:2024.12.15(sun)\nOPEN 13:30\nSTART 14:00\nADV ¥1900\nDOOR ¥2900\n+1D\nHOW\nTHRASHOUT\nDEVASTATORS\nOJO ROJO\nAudinaries\nHEXO\nupstairs\nSEETHING OF LIFE\nJACK MINDS\nKYOUDAI\n2STRIKE3BALL\n\n-DJ-\nセージーガガ\nKxExMxEx\n\n-FOOD-\nひなこフーズ\n\nOVERALL忘年会\n@初台WALL
URL:https://nakano-dynamite.com/wall/event/2024-12-15/
LOCATION:初台WALL\, 西新宿　3-15-8-B1\, 新宿区\, 東京都\, 160-0023\, Japan
ATTACH;FMTTYPE=image/jpeg:https://nakano-dynamite.com/wall/wp-content/uploads/2024/11/20241215.jpg
END:VEVENT
BEGIN:VEVENT
DTSTART;TZID=Asia/Tokyo:20250210T183000
DTEND;TZID=Asia/Tokyo:20250210T220000
DTSTAMP:20260423T200028
CREATED:20250122T105745Z
LAST-MODIFIED:20250122T105745Z
UID:3327-1739212200-1739224800@nakano-dynamite.com
SUMMARY:IRIE IRIE NIGHT
DESCRIPTION:2025.02.10(mon)\nOPEN 18:30\nSTART 18:50\nADV ¥2900\nDOOR ¥3400\n+1D\n\n☆マーレーズ☆\n天狗ロッカーズ\nSLANG BOOGIE\nThe Rolling Papers\nOJO ROJO\n\n-FOOD-\n杢\n\n\n\nWALL pre.\nIRIE IRIE NIGHT\n@初台WALL
URL:https://nakano-dynamite.com/wall/event/2025-02-10/
LOCATION:初台WALL\, 西新宿　3-15-8-B1\, 新宿区\, 東京都\, 160-0023\, Japan
ATTACH;FMTTYPE=image/jpeg:https://nakano-dynamite.com/wall/wp-content/uploads/2025/01/20250210.jpg
END:VEVENT
END:VCALENDAR