BEGIN:VCALENDAR
VERSION:2.0
PRODID:-//Livehouse Wall - ECPv6.15.20//NONSGML v1.0//EN
CALSCALE:GREGORIAN
METHOD:PUBLISH
X-WR-CALNAME:Livehouse Wall
X-ORIGINAL-URL:https://nakano-dynamite.com/wall
X-WR-CALDESC:Livehouse Wall のイベント
REFRESH-INTERVAL;VALUE=DURATION:PT1H
X-Robots-Tag:noindex
X-PUBLISHED-TTL:PT1H
BEGIN:VTIMEZONE
TZID:Asia/Tokyo
BEGIN:STANDARD
TZOFFSETFROM:+0900
TZOFFSETTO:+0900
TZNAME:JST
DTSTART:20220101T000000
END:STANDARD
END:VTIMEZONE
BEGIN:VEVENT
DTSTART;TZID=Asia/Tokyo:20241114T183000
DTEND;TZID=Asia/Tokyo:20241114T220000
DTSTAMP:20260422T193441
CREATED:20241101T112215Z
LAST-MODIFIED:20241108T081507Z
UID:3103-1731609000-1731621600@nakano-dynamite.com
SUMMARY:西新宿狂想曲
DESCRIPTION:2024.11.14(thu)\nOPEN 18:30\nSTART 19:00\nADV ¥1900+1D\nDOOR ¥2400+1D\n\nSHAPEEN!!\nダルマシンゴ鵺\nトイプードルズ\nシュウジゲンノウズ\nORAMA\n\n\n\nWALL pre.\n西新宿狂想曲\n@初台WALL
URL:https://nakano-dynamite.com/wall/event/2024-11-14/
LOCATION:初台WALL\, 西新宿　3-15-8-B1\, 新宿区\, 東京都\, 160-0023\, Japan
ATTACH;FMTTYPE=image/jpeg:https://nakano-dynamite.com/wall/wp-content/uploads/2024/11/20241114.jpg
END:VEVENT
BEGIN:VEVENT
DTSTART;TZID=Asia/Tokyo:20240825T160000
DTEND;TZID=Asia/Tokyo:20240825T220000
DTSTAMP:20260422T193441
CREATED:20240727T104720Z
LAST-MODIFIED:20240730T081242Z
UID:2844-1724601600-1724623200@nakano-dynamite.com
SUMMARY:SOULFUL SOUP-魂汁-vol.3
DESCRIPTION:2024.08.25(sun)\nOPEN 16:00\nSTART 16:30\nADV ¥1900\nDOOR ¥2400\n+1D\n\nORAMA\nノイジーマイノリティー\n絆創攻\nDrawing Collapse\n爆裂ジャイロ\nIL BASTARDO\nDxIxE\n達磨\n\n-FOOD-\nササノのごはん\n\n\n\nダルマシンゴ鵺 pre.\nSOULFUL SOUP-魂汁-vol.3 \n@初台WALL
URL:https://nakano-dynamite.com/wall/event/2024-08-25/
LOCATION:初台WALL\, 西新宿　3-15-8-B1\, 新宿区\, 東京都\, 160-0023\, Japan
ATTACH;FMTTYPE=image/jpeg:https://nakano-dynamite.com/wall/wp-content/uploads/2024/07/20240825-1.jpg
END:VEVENT
BEGIN:VEVENT
DTSTART;TZID=Asia/Tokyo:20240419T183000
DTEND;TZID=Asia/Tokyo:20240419T220000
DTSTAMP:20260422T193441
CREATED:20240328T134815Z
LAST-MODIFIED:20240419T065257Z
UID:2474-1713551400-1713564000@nakano-dynamite.com
SUMMARY:SAMBO
DESCRIPTION:2024.04.19(fri)\nOPEN 18:30\nSTART 19:00\nDOOR￥2000\n+1D\n\nBIG MOUTH\nRUGGED PEEL\nORAMA\nやさぐれ\n\nWALL pre\nSAMBO\n@初台WALL
URL:https://nakano-dynamite.com/wall/event/2024-04-19/
LOCATION:初台WALL\, 西新宿　3-15-8-B1\, 新宿区\, 東京都\, 160-0023\, Japan
ATTACH;FMTTYPE=image/jpeg:https://nakano-dynamite.com/wall/wp-content/uploads/2024/03/20240419.jpg
END:VEVENT
BEGIN:VEVENT
DTSTART;TZID=Asia/Tokyo:20240112T183000
DTEND;TZID=Asia/Tokyo:20240112T220000
DTSTAMP:20260422T193441
CREATED:20231216T065116Z
LAST-MODIFIED:20231216T065116Z
UID:2179-1705084200-1705096800@nakano-dynamite.com
SUMMARY:一斉検挙
DESCRIPTION:2024.01.12 (fri)\nOPEN 18:30  START 19:00\nDOOR ￥2000＋1D\n\n達磨\nWEIGHT\n絆創攻\nORAMA\n\n\nダルマシンゴ鵺pre\n一斉検挙\n@初台WALL
URL:https://nakano-dynamite.com/wall/event/2023-01-12-2/
LOCATION:初台WALL\, 西新宿　3-15-8-B1\, 新宿区\, 東京都\, 160-0023\, Japan
ATTACH;FMTTYPE=image/jpeg:https://nakano-dynamite.com/wall/wp-content/uploads/2023/12/20240112.jpg
END:VEVENT
BEGIN:VEVENT
DTSTART;TZID=Asia/Tokyo:20231220T183000
DTEND;TZID=Asia/Tokyo:20231220T220000
DTSTAMP:20260422T193441
CREATED:20231201T091327Z
LAST-MODIFIED:20231201T091327Z
UID:2116-1703097000-1703109600@nakano-dynamite.com
SUMMARY:初台にほえろ　第2話
DESCRIPTION:2023.12.20 (wed)\nOPEN 18:30  START 19:00\nDOOR ￥2000＋1D\n\n古那屋錦五郎一座 \nRUBE RACIES \nいち \n劇団たんぽぽ \nORAMA\n\n\nWALL pre\n初台にほえろ　第2話\n@初台WALL
URL:https://nakano-dynamite.com/wall/event/2023-12-20/
LOCATION:初台WALL\, 西新宿　3-15-8-B1\, 新宿区\, 東京都\, 160-0023\, Japan
ATTACH;FMTTYPE=image/jpeg:https://nakano-dynamite.com/wall/wp-content/uploads/2023/12/20231220.jpg
END:VEVENT
END:VCALENDAR