BEGIN:VCALENDAR
VERSION:2.0
PRODID:-//Livehouse Wall - ECPv6.15.20//NONSGML v1.0//EN
CALSCALE:GREGORIAN
METHOD:PUBLISH
X-WR-CALNAME:Livehouse Wall
X-ORIGINAL-URL:https://nakano-dynamite.com/wall
X-WR-CALDESC:Livehouse Wall のイベント
REFRESH-INTERVAL;VALUE=DURATION:PT1H
X-Robots-Tag:noindex
X-PUBLISHED-TTL:PT1H
BEGIN:VTIMEZONE
TZID:Asia/Tokyo
BEGIN:STANDARD
TZOFFSETFROM:+0900
TZOFFSETTO:+0900
TZNAME:JST
DTSTART:20220101T000000
END:STANDARD
END:VTIMEZONE
BEGIN:VEVENT
DTSTART;TZID=Asia/Tokyo:20230622T183000
DTEND;TZID=Asia/Tokyo:20230622T220000
DTSTAMP:20260422T093505
CREATED:20230430T061613Z
LAST-MODIFIED:20230430T061613Z
UID:1228-1687458600-1687471200@nakano-dynamite.com
SUMMARY:乗り鉄Pre. WALL 24th ANNIVERSARY
DESCRIPTION:2023.06.22 (Thu)\nOPEN 18:30  START 19:00\nADV¥2000/DOOR¥2500+1D\n\notsu \ni's \ntetote \nSxGxS \n\nDJ \nオカー・キルミスター \n一反木綿\n\n\n乗り鉄pre\nWALL 24th ANNIVERSARY\n@初台WALL
URL:https://nakano-dynamite.com/wall/event/2023-06-22/
LOCATION:初台WALL\, 西新宿　3-15-8-B1\, 新宿区\, 東京都\, 160-0023\, Japan
ATTACH;FMTTYPE=image/jpeg:https://nakano-dynamite.com/wall/wp-content/uploads/2023/04/20230622.jpg
END:VEVENT
END:VCALENDAR