BEGIN:VCALENDAR
VERSION:2.0
PRODID:-//Livehouse Wall - ECPv6.15.20//NONSGML v1.0//EN
CALSCALE:GREGORIAN
METHOD:PUBLISH
X-WR-CALNAME:Livehouse Wall
X-ORIGINAL-URL:https://nakano-dynamite.com/wall
X-WR-CALDESC:Livehouse Wall のイベント
REFRESH-INTERVAL;VALUE=DURATION:PT1H
X-Robots-Tag:noindex
X-PUBLISHED-TTL:PT1H
BEGIN:VTIMEZONE
TZID:Asia/Tokyo
BEGIN:STANDARD
TZOFFSETFROM:+0900
TZOFFSETTO:+0900
TZNAME:JST
DTSTART:20210101T000000
END:STANDARD
END:VTIMEZONE
BEGIN:VEVENT
DTSTART;TZID=Asia/Tokyo:20230805T140000
DTEND;TZID=Asia/Tokyo:20230805T220000
DTSTAMP:20260422T092531
CREATED:20230721T080441Z
LAST-MODIFIED:20230727T092322Z
UID:1443-1691244000-1691272800@nakano-dynamite.com
SUMMARY:FUTURE VIEW vol.6.5
DESCRIPTION:2023.08.05 (sat)\nOPEN 14:00  START 14:30\nADV ¥2500 DOOR¥3000 +1D\n\n\nPRIZE OF RUST\nneko!\nONLY THE LAST SONG\nFOR LIFE\nTRUE FIGHT\nWRONG STATE\nFredelica\nNUMBERNINE\nOtus\nBlow Your Brains Out\nnoy\n\n\nnoy pre\nFUTURE VIEW vol.6.5\n@初台WALL
URL:https://nakano-dynamite.com/wall/event/2023-08-05/
LOCATION:初台WALL\, 西新宿　3-15-8-B1\, 新宿区\, 東京都\, 160-0023\, Japan
ATTACH;FMTTYPE=image/jpeg:https://nakano-dynamite.com/wall/wp-content/uploads/2023/07/20230805.jpg
END:VEVENT
BEGIN:VEVENT
DTSTART;TZID=Asia/Tokyo:20230326T170000
DTEND;TZID=Asia/Tokyo:20230326T220000
DTSTAMP:20260422T092531
CREATED:20230204T135009Z
LAST-MODIFIED:20230210T025507Z
UID:944-1679850000-1679868000@nakano-dynamite.com
SUMMARY:DEAD HEAT JAPAN TOUR 2023
DESCRIPTION:2023.03.26(Sun)\nOPEN 17:00 START 17:30\nADV¥4000　DOOR¥4500\n\nSAIGAN TERROR \nETERNAL B \nSOUL DISCHARGE \nCOFFINS \nOTUS \nTear da Club Up\n\nDEAD HEAT JAPAN TOUR 2023\n＠初台WALL
URL:https://nakano-dynamite.com/wall/event/2023-03-26/
LOCATION:初台WALL\, 西新宿　3-15-8-B1\, 新宿区\, 東京都\, 160-0023\, Japan
ATTACH;FMTTYPE=image/jpeg:https://nakano-dynamite.com/wall/wp-content/uploads/2023/02/20230326.jpg
END:VEVENT
BEGIN:VEVENT
DTSTART;TZID=Asia/Tokyo:20221211T000000
DTEND;TZID=Asia/Tokyo:20221211T235959
DTSTAMP:20260422T092531
CREATED:20221122T024957Z
LAST-MODIFIED:20221216T015858Z
UID:121-1670716800-1670803199@nakano-dynamite.com
SUMMARY:nervous light of sunday pre: 無数のつながり vol.9
DESCRIPTION:2022.12.11(sun)\nOPEN: 17:00 / START 17:30\nADV: ¥1\,500 / DOOR: ¥2\,000\nnervous light of sunday\nOtus\nuniverse last a ward\nFORBEAR\nSHUT YOUR MOUTH\nNUMB\nBRAVE OUT\n \nnervous light of sunday presents\n無数のつながり vol.9\n@初台WALL
URL:https://nakano-dynamite.com/wall/event/2022-12-11/
LOCATION:初台WALL\, 西新宿　3-15-8-B1\, 新宿区\, 東京都\, 160-0023\, Japan
ATTACH;FMTTYPE=image/jpeg:https://nakano-dynamite.com/wall/wp-content/uploads/2022/11/2022-12-11.jpeg
END:VEVENT
END:VCALENDAR