BEGIN:VCALENDAR
VERSION:2.0
PRODID:-//Livehouse Wall - ECPv6.15.20//NONSGML v1.0//EN
CALSCALE:GREGORIAN
METHOD:PUBLISH
X-WR-CALNAME:Livehouse Wall
X-ORIGINAL-URL:https://nakano-dynamite.com/wall
X-WR-CALDESC:Livehouse Wall のイベント
REFRESH-INTERVAL;VALUE=DURATION:PT1H
X-Robots-Tag:noindex
X-PUBLISHED-TTL:PT1H
BEGIN:VTIMEZONE
TZID:Asia/Tokyo
BEGIN:STANDARD
TZOFFSETFROM:+0900
TZOFFSETTO:+0900
TZNAME:JST
DTSTART:20220101T000000
END:STANDARD
END:VTIMEZONE
BEGIN:VEVENT
DTSTART;TZID=Asia/Tokyo:20230826T173000
DTEND;TZID=Asia/Tokyo:20230826T220000
DTSTAMP:20260424T155858
CREATED:20230617T075902Z
LAST-MODIFIED:20230617T075902Z
UID:1362-1693071000-1693087200@nakano-dynamite.com
SUMMARY:MANPOWER
DESCRIPTION:2023.08.26 (sat)\nOPEN 17:30  START 18:00\nADV¥3000  DOOR¥3500 +1D\n\nFIVE NO RISK\nwaterweed\nbacho\nPALM\n\n\nMAN POWER pre\nMAN POWER\n@初台WALL
URL:https://nakano-dynamite.com/wall/event/2023-08-26/
LOCATION:初台WALL\, 西新宿　3-15-8-B1\, 新宿区\, 東京都\, 160-0023\, Japan
ATTACH;FMTTYPE=image/jpeg:https://nakano-dynamite.com/wall/wp-content/uploads/2023/06/20230826.jpg
END:VEVENT
END:VCALENDAR