BEGIN:VCALENDAR
VERSION:2.0
PRODID:-//Livehouse Wall - ECPv6.15.20//NONSGML v1.0//EN
CALSCALE:GREGORIAN
METHOD:PUBLISH
X-WR-CALNAME:Livehouse Wall
X-ORIGINAL-URL:https://nakano-dynamite.com/wall
X-WR-CALDESC:Livehouse Wall のイベント
REFRESH-INTERVAL;VALUE=DURATION:PT1H
X-Robots-Tag:noindex
X-PUBLISHED-TTL:PT1H
BEGIN:VTIMEZONE
TZID:Asia/Tokyo
BEGIN:STANDARD
TZOFFSETFROM:+0900
TZOFFSETTO:+0900
TZNAME:JST
DTSTART:20240101T000000
END:STANDARD
END:VTIMEZONE
BEGIN:VEVENT
DTSTART;TZID=Asia/Tokyo:20250606T183000
DTEND;TZID=Asia/Tokyo:20250606T220000
DTSTAMP:20260425T234116
CREATED:20250524T123421Z
LAST-MODIFIED:20250524T124154Z
UID:3780-1749234600-1749247200@nakano-dynamite.com
SUMMARY:SHINKI BIRTHDAY BASH LV.29
DESCRIPTION:2025.06.06(fri)\nOPEN 18:30\nSTART 19:00\nDOOR ¥1900\n+1D\n\nTRES\nTHE VIKING\n茄子亭\nワッシー&タッケィ\n\n-DJ-\nPOTATO BUDS\n\n\n\nWALL pre.\nSHINKI BIRTHDAY BASH LV.29\n@初台WALL
URL:https://nakano-dynamite.com/wall/event/2025-06-06/
LOCATION:初台WALL\, 西新宿　3-15-8-B1\, 新宿区\, 東京都\, 160-0023\, Japan
ATTACH;FMTTYPE=image/jpeg:https://nakano-dynamite.com/wall/wp-content/uploads/2025/05/20250606.jpg
END:VEVENT
BEGIN:VEVENT
DTSTART;TZID=Asia/Tokyo:20260227T190000
DTEND;TZID=Asia/Tokyo:20260227T220000
DTSTAMP:20260425T234116
CREATED:20260129T101525Z
LAST-MODIFIED:20260129T101525Z
UID:4562-1772218800-1772229600@nakano-dynamite.com
SUMMARY:SHINING MOMENTS "I believe what I see with my own eyes" Release Show
DESCRIPTION:2026.02.27(fri)\nOPEN 19:00\nSTART 19:30\nDOOR ¥2000\n+1D\n\nSHINING MOMENTS\nDOGGYMAN\n2STRIKE3BALL\n\n-DJ-\nPOTATO BUDS\n白滝\n\n\n\nSHINING MOMENTS pre.\nSHINING MOMENTS \n"I believe what I see with my own eyes"\nRelease Show\n@初台WALL
URL:https://nakano-dynamite.com/wall/event/2026-02-27/
LOCATION:初台WALL\, 西新宿　3-15-8-B1\, 新宿区\, 東京都\, 160-0023\, Japan
ATTACH;FMTTYPE=image/jpeg:https://nakano-dynamite.com/wall/wp-content/uploads/2026/01/20260227.jpg
END:VEVENT
END:VCALENDAR