BEGIN:VCALENDAR
VERSION:2.0
PRODID:-//Livehouse Wall - ECPv6.15.20//NONSGML v1.0//EN
CALSCALE:GREGORIAN
METHOD:PUBLISH
X-WR-CALNAME:Livehouse Wall
X-ORIGINAL-URL:https://nakano-dynamite.com/wall
X-WR-CALDESC:Livehouse Wall のイベント
REFRESH-INTERVAL;VALUE=DURATION:PT1H
X-Robots-Tag:noindex
X-PUBLISHED-TTL:PT1H
BEGIN:VTIMEZONE
TZID:Asia/Tokyo
BEGIN:STANDARD
TZOFFSETFROM:+0900
TZOFFSETTO:+0900
TZNAME:JST
DTSTART:20220101T000000
END:STANDARD
END:VTIMEZONE
BEGIN:VEVENT
DTSTART;TZID=Asia/Tokyo:20230708T140000
DTEND;TZID=Asia/Tokyo:20230708T220000
DTSTAMP:20260422T105622
CREATED:20230501T121227Z
LAST-MODIFIED:20230501T121227Z
UID:1237-1688824800-1688853600@nakano-dynamite.com
SUMMARY:Today is yesterday's tomorrow vol5
DESCRIPTION:2023.07.08 (sat)\nOPEN 14:00  START 14:30\nADV¥2000  DOOR¥2500 +1D\n\nALSEID \nPRESS ON AHEAD(盛岡) \nUPSET ONE SHOT(山口) \nConcealments \nRecollect the nostalgia \nnervous light of sunday\n\n\nALSEID pre\nToday is yesterday's tomorrow vol5\n@初台WALL
URL:https://nakano-dynamite.com/wall/event/2023-07-08/
LOCATION:初台WALL\, 西新宿　3-15-8-B1\, 新宿区\, 東京都\, 160-0023\, Japan
ATTACH;FMTTYPE=image/jpeg:https://nakano-dynamite.com/wall/wp-content/uploads/2023/05/20230708.jpg
END:VEVENT
BEGIN:VEVENT
DTSTART;TZID=Asia/Tokyo:20230527T170000
DTEND;TZID=Asia/Tokyo:20230527T220000
DTSTAMP:20260422T105622
CREATED:20230325T064820Z
LAST-MODIFIED:20230325T064820Z
UID:1121-1685206800-1685224800@nakano-dynamite.com
SUMMARY:STOMP EM OUT
DESCRIPTION:2023.05.27 (sat)\nOPEN 17:00 START 17:30\nADV ¥2500 DOOR ¥3000 \n-チケット予約- http://onl.la/q7nhEMt\n\nFIGHT IT OUT \nPAYBACK BOYS \nRESENTMENT \nSOILED HATE \nSHUT YOUR MOUTH \nPRESS ON AHEAD \n\nDJ \nMASSAN \nAKILLA \n\n\nSTOMP EM OUT   PRESS ON AHEAD "Blizzard Style Core" Tour Final \n@初台WALL
URL:https://nakano-dynamite.com/wall/event/2023-05-27/
LOCATION:初台WALL\, 西新宿　3-15-8-B1\, 新宿区\, 東京都\, 160-0023\, Japan
ATTACH;FMTTYPE=image/jpeg:https://nakano-dynamite.com/wall/wp-content/uploads/2023/03/202305277.jpg
END:VEVENT
END:VCALENDAR