BEGIN:VCALENDAR
VERSION:2.0
PRODID:-//Livehouse Wall - ECPv6.15.20//NONSGML v1.0//EN
CALSCALE:GREGORIAN
METHOD:PUBLISH
X-ORIGINAL-URL:https://nakano-dynamite.com/wall
X-WR-CALDESC:Livehouse Wall のイベント
REFRESH-INTERVAL;VALUE=DURATION:PT1H
X-Robots-Tag:noindex
X-PUBLISHED-TTL:PT1H
BEGIN:VTIMEZONE
TZID:Asia/Tokyo
BEGIN:STANDARD
TZOFFSETFROM:+0900
TZOFFSETTO:+0900
TZNAME:JST
DTSTART:20220101T000000
END:STANDARD
END:VTIMEZONE
BEGIN:VEVENT
DTSTART;TZID=Asia/Tokyo:20260404T170000
DTEND;TZID=Asia/Tokyo:20260404T220000
DTSTAMP:20260423T100845
CREATED:20260326T083243Z
LAST-MODIFIED:20260326T083243Z
UID:4726-1775322000-1775340000@nakano-dynamite.com
SUMMARY:STANDOUT pre. "DEALE 1st Album Release Party”
DESCRIPTION:2026.04.04(sat)\nOPEN 17:00\nSTART 17:30\nADV ¥2500\nDOOR ¥3000\n+1D\n\nDEALE\nSECONDARMS\nSEWER\nSTANDOUT\nPAYBACK BOYS\nQUETZALCOATL\n\nSTANDOUT Pre.\n"DEALE 1st Album Release Party”\n@初台WALL
URL:https://nakano-dynamite.com/wall/event/2026-04-04/
LOCATION:初台WALL\, 西新宿　3-15-8-B1\, 新宿区\, 東京都\, 160-0023\, Japan
ATTACH;FMTTYPE=image/jpeg:https://nakano-dynamite.com/wall/wp-content/uploads/2026/03/20260404.jpg
END:VEVENT
BEGIN:VEVENT
DTSTART;TZID=Asia/Tokyo:20251128T183000
DTEND;TZID=Asia/Tokyo:20251128T220000
DTSTAMP:20260423T100845
CREATED:20251026T064357Z
LAST-MODIFIED:20251026T064357Z
UID:4338-1764354600-1764367200@nakano-dynamite.com
SUMMARY:FANG JAPAN TOUR 2025
DESCRIPTION:2025.11.28(fri)\nOPEN 18:30\nSTART 19:00\nDOOR ¥2900\n+1D\n\nFANG (US)\nNO-ALL\nQuetzalcoatl\nスラングブギー \n\n\nWALL pre.\nFANG JAPAN TOUR 2025\n@初台WALL
URL:https://nakano-dynamite.com/wall/event/2025-11-28/
LOCATION:初台WALL\, 西新宿　3-15-8-B1\, 新宿区\, 東京都\, 160-0023\, Japan
ATTACH;FMTTYPE=image/jpeg:https://nakano-dynamite.com/wall/wp-content/uploads/2025/10/20251128.jpg
END:VEVENT
BEGIN:VEVENT
DTSTART;TZID=Asia/Tokyo:20250419T150000
DTEND;TZID=Asia/Tokyo:20250419T220000
DTSTAMP:20260423T100845
CREATED:20250320T094420Z
LAST-MODIFIED:20250320T094420Z
UID:3573-1745074800-1745100000@nakano-dynamite.com
SUMMARY:SOUND SLAVE
DESCRIPTION:2025.04.19(sat)\nOPEN 15:00\nSTART 15:30\nADV ¥3000\nDOOR ¥3400\n+1D\nQuetzalcoatl\nUNDONE\n9991\nBROKEN LIFE\nBUMPED HIS HEAD\nAND BELIEVE\nTHE BREATH\nNK6\nnastie\n\n-DJ-\nDJ 13Jr.(2+8+3)\nOKBOY\n\n\n\nSHIMADA pre.\nSOUND SLAVE\n@初台WALL
URL:https://nakano-dynamite.com/wall/event/2025-04-19/
LOCATION:初台WALL\, 西新宿　3-15-8-B1\, 新宿区\, 東京都\, 160-0023\, Japan
ATTACH;FMTTYPE=image/jpeg:https://nakano-dynamite.com/wall/wp-content/uploads/2025/03/20250419.jpg
END:VEVENT
BEGIN:VEVENT
DTSTART;TZID=Asia/Tokyo:20240630T163000
DTEND;TZID=Asia/Tokyo:20240630T220000
DTSTAMP:20260423T100845
CREATED:20240613T143451Z
LAST-MODIFIED:20240613T143451Z
UID:2621-1719765000-1719784800@nakano-dynamite.com
SUMMARY:CONVINIUM vol.9
DESCRIPTION:2024.06.30(sun)\nOPEN 16:30\nSTART 17:00\nADV ¥2400\nDOOR ¥2900\n+1D\n\nAbiuro\nBAHBOON\nBITCHEATER\nQUETZALCOATL\nSun Moon Holy Cult\ntattered the wall\n家畜\n\nAbiuro pre.\nCONVINIUM vol.9\n@初台WALL
URL:https://nakano-dynamite.com/wall/event/2024-06-30/
LOCATION:初台WALL\, 西新宿　3-15-8-B1\, 新宿区\, 東京都\, 160-0023\, Japan
ATTACH;FMTTYPE=image/jpeg:https://nakano-dynamite.com/wall/wp-content/uploads/2024/06/20240630.jpg
END:VEVENT
BEGIN:VEVENT
DTSTART;TZID=Asia/Tokyo:20230402T163000
DTEND;TZID=Asia/Tokyo:20230402T220000
DTSTAMP:20260423T100845
CREATED:20230302T063356Z
LAST-MODIFIED:20230302T063356Z
UID:1010-1680453000-1680472800@nakano-dynamite.com
SUMMARY:Loud & Proud Volume 4
DESCRIPTION:2023.04.02(sun)\nOPEN 16:30 START 17:15\nADV￥1500/DOOR￥2000+1D\n\n\nQUETZALCOATL\nYOUNG FOREVER\nCAL\nHOW\nSOMEOLD\nDISGUNDER\nUNDONE\n \nUNDONE Presents\nLoud & Proud Volume 4\n@初台WALL\n 
URL:https://nakano-dynamite.com/wall/event/20230402/
LOCATION:初台WALL\, 西新宿　3-15-8-B1\, 新宿区\, 東京都\, 160-0023\, Japan
ATTACH;FMTTYPE=image/jpeg:https://nakano-dynamite.com/wall/wp-content/uploads/2023/03/20230402.jpg
END:VEVENT
END:VCALENDAR