BEGIN:VCALENDAR
VERSION:2.0
PRODID:-//Livehouse Wall - ECPv6.15.20//NONSGML v1.0//EN
CALSCALE:GREGORIAN
METHOD:PUBLISH
X-WR-CALNAME:Livehouse Wall
X-ORIGINAL-URL:https://nakano-dynamite.com/wall
X-WR-CALDESC:Livehouse Wall のイベント
REFRESH-INTERVAL;VALUE=DURATION:PT1H
X-Robots-Tag:noindex
X-PUBLISHED-TTL:PT1H
BEGIN:VTIMEZONE
TZID:Asia/Tokyo
BEGIN:STANDARD
TZOFFSETFROM:+0900
TZOFFSETTO:+0900
TZNAME:JST
DTSTART:20240101T000000
END:STANDARD
END:VTIMEZONE
BEGIN:VEVENT
DTSTART;TZID=Asia/Tokyo:20251115T163000
DTEND;TZID=Asia/Tokyo:20251115T220000
DTSTAMP:20260422T172515
CREATED:20251009T133511Z
LAST-MODIFIED:20251009T133513Z
UID:4293-1763224200-1763244000@nakano-dynamite.com
SUMMARY:SLAM DOMINATE 2025 -Eruption-
DESCRIPTION:2025.11.15(sat)\nOPEN 16:30\nSTART 17:00\nADV ¥9000\nDOOR ¥10000\n+1D\n\nVirologist(USA)\nNecrotic Infibulation(USA)\n瘧鬼\nGorevent\nRest In Gore\nUmber Mist \n\n\n\n\n帝Production×デスメタル株式会社 pre.\nSLAM DOMINATE 2025 -Eruption-\n@初台WALL
URL:https://nakano-dynamite.com/wall/event/2025-11-15/
LOCATION:初台WALL\, 西新宿　3-15-8-B1\, 新宿区\, 東京都\, 160-0023\, Japan
ATTACH;FMTTYPE=image/jpeg:https://nakano-dynamite.com/wall/wp-content/uploads/2025/10/20251115.jpg
END:VEVENT
BEGIN:VEVENT
DTSTART;TZID=Asia/Tokyo:20260430T180000
DTEND;TZID=Asia/Tokyo:20260430T220000
DTSTAMP:20260422T172515
CREATED:20260328T023020Z
LAST-MODIFIED:20260328T023020Z
UID:4788-1777572000-1777586400@nakano-dynamite.com
SUMMARY:SEEPING PROTOPLASM pre. "Secrets of The Dead vol.5" 2nd album "Repugnant Entanglement" release party
DESCRIPTION:2026.04.30(Thu)\nOPEN 18:00\nSTART 18:30\nADV ¥2\,000\nDoor ¥2\,500\n+1drink charge\n\nSEEPING PROTOPLASM\nCOFFINS\nBROB\nREST IN GORE\n\n\n\nSEEPING PROTOPLASM pre.\n"Secrets of The Dead vol.5"\n2nd album "Repugnant Entanglement" release party\n@初台WALL
URL:https://nakano-dynamite.com/wall/event/2026-04-30/
LOCATION:初台WALL\, 西新宿　3-15-8-B1\, 新宿区\, 東京都\, 160-0023\, Japan
ATTACH;FMTTYPE=image/jpeg:https://nakano-dynamite.com/wall/wp-content/uploads/2026/03/20260430.jpg
END:VEVENT
END:VCALENDAR