BEGIN:VCALENDAR
VERSION:2.0
PRODID:-//Livehouse Wall - ECPv6.15.20//NONSGML v1.0//EN
CALSCALE:GREGORIAN
METHOD:PUBLISH
X-WR-CALNAME:Livehouse Wall
X-ORIGINAL-URL:https://nakano-dynamite.com/wall
X-WR-CALDESC:Livehouse Wall のイベント
REFRESH-INTERVAL;VALUE=DURATION:PT1H
X-Robots-Tag:noindex
X-PUBLISHED-TTL:PT1H
BEGIN:VTIMEZONE
TZID:Asia/Tokyo
BEGIN:STANDARD
TZOFFSETFROM:+0900
TZOFFSETTO:+0900
TZNAME:JST
DTSTART:20230101T000000
END:STANDARD
END:VTIMEZONE
BEGIN:VEVENT
DTSTART;TZID=Asia/Tokyo:20251214T140000
DTEND;TZID=Asia/Tokyo:20251214T220000
DTSTAMP:20260423T194236
CREATED:20251203T090941Z
LAST-MODIFIED:20251203T090941Z
UID:4391-1765720800-1765749600@nakano-dynamite.com
SUMMARY:OVERALL忘年会
DESCRIPTION:2025.12.14(sun)\nOPEN 14:00\nSTART 14:30\nADV ¥2900\nDOOR ¥3400\n+1D\n\nHOW\nMound Crash\nOWEAK\nTake Back The Beers!\nMEXICAN AGE\nTHE REX (神戸)\nROMEO ROCKS\nBecause I love it (福岡)\nMY SHOES MY CAP\nAudinaries\n\n-DJ-\nKxExMxEx\nセージーガガ\n\n-FOOD-\nバングイバオベ \n\n\n\nHOW pre.\nOVERALL\n@初台WALL
URL:https://nakano-dynamite.com/wall/event/2025-12-14/
LOCATION:初台WALL\, 西新宿　3-15-8-B1\, 新宿区\, 東京都\, 160-0023\, Japan
ATTACH;FMTTYPE=image/jpeg:https://nakano-dynamite.com/wall/wp-content/uploads/2025/12/20251214.jpg
END:VEVENT
BEGIN:VEVENT
DTSTART;TZID=Asia/Tokyo:20240803T163000
DTEND;TZID=Asia/Tokyo:20240803T220000
DTSTAMP:20260423T194236
CREATED:20240712T093759Z
LAST-MODIFIED:20240730T081436Z
UID:2780-1722702600-1722722400@nakano-dynamite.com
SUMMARY:痺れNIGHT vol.1
DESCRIPTION:2024.08.03(sat)\nOPEN 16:30\nSTART 17:00\nADV ¥2400\nDOOR ¥3000\n+1D\n\nHOW\nROMEO ROCKS\nTARAIRACCA\nHYPER DISORDER\nAudinaries\nエンヤコーラーズ\nfieldstuck\n\n-DJ-\nセージーガガ\nmamizow\n\n-FOOD-\nBaker麻婆豆腐\n\n\n\nWALL&wolverine pre.\n痺れNIGHT vol.1\n@初台WALL
URL:https://nakano-dynamite.com/wall/event/2024-08-03/
LOCATION:初台WALL\, 西新宿　3-15-8-B1\, 新宿区\, 東京都\, 160-0023\, Japan
ATTACH;FMTTYPE=image/jpeg:https://nakano-dynamite.com/wall/wp-content/uploads/2024/07/20240803.jpg
END:VEVENT
END:VCALENDAR