BEGIN:VCALENDAR
VERSION:2.0
PRODID:-//Livehouse Wall - ECPv6.15.20//NONSGML v1.0//EN
CALSCALE:GREGORIAN
METHOD:PUBLISH
X-WR-CALNAME:Livehouse Wall
X-ORIGINAL-URL:https://nakano-dynamite.com/wall
X-WR-CALDESC:Livehouse Wall のイベント
REFRESH-INTERVAL;VALUE=DURATION:PT1H
X-Robots-Tag:noindex
X-PUBLISHED-TTL:PT1H
BEGIN:VTIMEZONE
TZID:Asia/Tokyo
BEGIN:STANDARD
TZOFFSETFROM:+0900
TZOFFSETTO:+0900
TZNAME:JST
DTSTART:20220101T000000
END:STANDARD
END:VTIMEZONE
BEGIN:VEVENT
DTSTART;TZID=Asia/Tokyo:20251116T160000
DTEND;TZID=Asia/Tokyo:20251116T220000
DTSTAMP:20260422T092646
CREATED:20251022T093759Z
LAST-MODIFIED:20251022T093759Z
UID:4318-1763308800-1763330400@nakano-dynamite.com
SUMMARY:ALOHA VACATION VOL.1
DESCRIPTION:2025.11.16(sun)\nOPEN 16:00\nSTART 16:30\nADV ¥2400\nDOOR ¥2900\nU-20 ¥1000\n+1D\n\nVACATION WITH THE ALOHAS\nRelents\nHOW\nPelotan\nNEUTRAL\nROMEOROCKS\nTOO CLOSE TO SEE\n\n\n\nVACATION WITH THE ALOHAS pre.\nALOHA VACATION VOL.1\n@初台WALL
URL:https://nakano-dynamite.com/wall/event/2025-11-16/
LOCATION:初台WALL\, 西新宿　3-15-8-B1\, 新宿区\, 東京都\, 160-0023\, Japan
ATTACH;FMTTYPE=image/jpeg:https://nakano-dynamite.com/wall/wp-content/uploads/2025/10/20251116.jpg
END:VEVENT
BEGIN:VEVENT
DTSTART;TZID=Asia/Tokyo:20250622T173000
DTEND;TZID=Asia/Tokyo:20250622T220000
DTSTAMP:20260422T092646
CREATED:20250515T123811Z
LAST-MODIFIED:20250515T123811Z
UID:3764-1750613400-1750629600@nakano-dynamite.com
SUMMARY:" NEW OLD CHAPTER " -HATSUDAI WALL 26th ANNIVERSARY-
DESCRIPTION:2025.06.22(sun)\nOPEN TBA\nSTART TBA\nADV ¥2400\nDOOR ¥3000\n+1D\n\nTake out bright\ntact\nSTRIKE AGAIN\nsmoothy\nROMEOROCKS\nSTARVINGMAN \n\n\n\nTake out bright pre.\n" NEW OLD CHAPTER "\n-HATSUDAI WALL 26th ANNIVERSARY- \n@初台WALL
URL:https://nakano-dynamite.com/wall/event/2025-06-22/
LOCATION:初台WALL\, 西新宿　3-15-8-B1\, 新宿区\, 東京都\, 160-0023\, Japan
ATTACH;FMTTYPE=image/jpeg:https://nakano-dynamite.com/wall/wp-content/uploads/2025/05/20250622-2.jpg
END:VEVENT
BEGIN:VEVENT
DTSTART;TZID=Asia/Tokyo:20230910T170000
DTEND;TZID=Asia/Tokyo:20230910T220000
DTSTAMP:20260422T092646
CREATED:20230722T061451Z
LAST-MODIFIED:20230722T061451Z
UID:1456-1694365200-1694383200@nakano-dynamite.com
SUMMARY:“I'm PREGNANT -The 1st Baby- “
DESCRIPTION:2023.09.10 (sun)\nOPEN 17:00  START 17:30\nADV ￥2500　DOOR ￥3000 ＋1D\n\nROMEOROCKS\nAudinaries\nFOLMALIN\nFieldstuck (Acoustic)\nTHE PORTER\n\nand more…？\n\n\nROMEOROCKS＆Audinaries presents\n“I'm PREGNANT -The 1st Baby- “\n＠初台WALL
URL:https://nakano-dynamite.com/wall/event/2023-09-10/
LOCATION:初台WALL\, 西新宿　3-15-8-B1\, 新宿区\, 東京都\, 160-0023\, Japan
ATTACH;FMTTYPE=image/jpeg:https://nakano-dynamite.com/wall/wp-content/uploads/2023/07/20230910.jpg
END:VEVENT
END:VCALENDAR