BEGIN:VCALENDAR
VERSION:2.0
PRODID:-//Livehouse Wall - ECPv6.15.20//NONSGML v1.0//EN
CALSCALE:GREGORIAN
METHOD:PUBLISH
X-WR-CALNAME:Livehouse Wall
X-ORIGINAL-URL:https://nakano-dynamite.com/wall
X-WR-CALDESC:Livehouse Wall のイベント
REFRESH-INTERVAL;VALUE=DURATION:PT1H
X-Robots-Tag:noindex
X-PUBLISHED-TTL:PT1H
BEGIN:VTIMEZONE
TZID:Asia/Tokyo
BEGIN:STANDARD
TZOFFSETFROM:+0900
TZOFFSETTO:+0900
TZNAME:JST
DTSTART:20230101T000000
END:STANDARD
END:VTIMEZONE
BEGIN:VEVENT
DTSTART;TZID=Asia/Tokyo:20241204T180000
DTEND;TZID=Asia/Tokyo:20241204T220000
DTSTAMP:20260422T060058
CREATED:20241117T061422Z
LAST-MODIFIED:20241117T065454Z
UID:3158-1733335200-1733349600@nakano-dynamite.com
SUMMARY:Have No Heroes (ラトビア) Japan Tour 2024
DESCRIPTION:2024.12.04(wed)\nOPEN 18:00\nSTART 18:30\nADV ¥2000\nDOOR ¥2500\n+1D\n\nROSEMARY(インドネシア)\nAs We Like\nHave No Heroes(ラトビア)\nand more...\n\nWALL pre.\nHave No Heroes Japan Tour 2024\n@初台WALL
URL:https://nakano-dynamite.com/wall/event/2024-12-04/
LOCATION:初台WALL\, 西新宿　3-15-8-B1\, 新宿区\, 東京都\, 160-0023\, Japan
ATTACH;FMTTYPE=image/jpeg:https://nakano-dynamite.com/wall/wp-content/uploads/2024/11/20241204.jpg
END:VEVENT
END:VCALENDAR