BEGIN:VCALENDAR
VERSION:2.0
PRODID:-//Livehouse Wall - ECPv6.15.20//NONSGML v1.0//EN
CALSCALE:GREGORIAN
METHOD:PUBLISH
X-WR-CALNAME:Livehouse Wall
X-ORIGINAL-URL:https://nakano-dynamite.com/wall
X-WR-CALDESC:Livehouse Wall のイベント
REFRESH-INTERVAL;VALUE=DURATION:PT1H
X-Robots-Tag:noindex
X-PUBLISHED-TTL:PT1H
BEGIN:VTIMEZONE
TZID:Asia/Tokyo
BEGIN:STANDARD
TZOFFSETFROM:+0900
TZOFFSETTO:+0900
TZNAME:JST
DTSTART:20220101T000000
END:STANDARD
END:VTIMEZONE
BEGIN:VEVENT
DTSTART;TZID=Asia/Tokyo:20250104T153000
DTEND;TZID=Asia/Tokyo:20250104T220000
DTSTAMP:20260426T070842
CREATED:20241211T072127Z
LAST-MODIFIED:20241211T072127Z
UID:3226-1736004600-1736028000@nakano-dynamite.com
SUMMARY:OVERALL
DESCRIPTION:2025.01.04(sat)\nOPEN 15:30\nSTART 16:00\nDOOR ¥1400\n+1D\n\nHOW\nS.A.T.S\n達磨\n破壊光線\n0.001DAY\nまらじる(水戸)\nZん(静岡)\nSHOTGUN PLAYBOYZ\nノイジーマイノリティー\n\n-FOOD-\nバングイバオベ\n\n\n\n\nHOW pre.\nOVERALL\n@初台WALL
URL:https://nakano-dynamite.com/wall/event/2025-01-04/
LOCATION:初台WALL\, 西新宿　3-15-8-B1\, 新宿区\, 東京都\, 160-0023\, Japan
CATEGORIES:OVER ALL
ATTACH;FMTTYPE=image/jpeg:https://nakano-dynamite.com/wall/wp-content/uploads/2024/12/20250104.jpg
END:VEVENT
BEGIN:VEVENT
DTSTART;TZID=Asia/Tokyo:20241002T183000
DTEND;TZID=Asia/Tokyo:20241002T220000
DTSTAMP:20260426T070842
CREATED:20240925T130439Z
LAST-MODIFIED:20240925T130440Z
UID:2985-1727893800-1727906400@nakano-dynamite.com
SUMMARY:GET UP AND GO
DESCRIPTION:2024.10.02(wed)\nOPEN 18:30\nSTART 19:00\nDOOR ¥2000\n+1D\n\nS.A.T.S\nデッドバンビーズ\nPUNiK\nポコンチ斎藤\n\n\nWALL pre.\nGET UP AND GO\n@初台WALL
URL:https://nakano-dynamite.com/wall/event/2024-10-02/
LOCATION:初台WALL\, 西新宿　3-15-8-B1\, 新宿区\, 東京都\, 160-0023\, Japan
ATTACH;FMTTYPE=image/jpeg:https://nakano-dynamite.com/wall/wp-content/uploads/2024/09/20241002.jpg
END:VEVENT
BEGIN:VEVENT
DTSTART;TZID=Asia/Tokyo:20240424T183000
DTEND;TZID=Asia/Tokyo:20240424T220000
DTSTAMP:20260426T070842
CREATED:20240329T063845Z
LAST-MODIFIED:20240419T070145Z
UID:2494-1713983400-1713996000@nakano-dynamite.com
SUMMARY:砕けねぇ壁なんかねぇ vol.3
DESCRIPTION:2024.04.24(wed)\nOPEN 18:30\nSTART 19:00\nADV￥2000\nDOOR￥2500\n+1D\n\nS.A.T.S\nダーハマ\n月凍\nYASTAMAN\nBOOVIES\n\n\n\nダーハマ&WALL pre\n砕けねぇ壁なんかねぇ vol.3\n@初台WALL
URL:https://nakano-dynamite.com/wall/event/2024-04-24/
LOCATION:初台WALL\, 西新宿　3-15-8-B1\, 新宿区\, 東京都\, 160-0023\, Japan
ATTACH;FMTTYPE=image/jpeg:https://nakano-dynamite.com/wall/wp-content/uploads/2024/03/20240424.jpg
END:VEVENT
BEGIN:VEVENT
DTSTART;TZID=Asia/Tokyo:20240118T183000
DTEND;TZID=Asia/Tokyo:20240118T220000
DTSTAMP:20260426T070842
CREATED:20231216T131044Z
LAST-MODIFIED:20231216T131044Z
UID:2183-1705602600-1705615200@nakano-dynamite.com
SUMMARY:MAGICAL VIBES
DESCRIPTION:2024.01.18 (thu)\nOPEN 18:30  START 19:00\nDOOR ￥2000＋1D\n\nLEGEND OF TRUTH\nS.A.T.S\nHExSO\nねたのよい\n\n\nWALL pre\nMAGICAL VIBES\n@初台WALL
URL:https://nakano-dynamite.com/wall/event/2024-01-18/
LOCATION:初台WALL\, 西新宿　3-15-8-B1\, 新宿区\, 東京都\, 160-0023\, Japan
ATTACH;FMTTYPE=image/jpeg:https://nakano-dynamite.com/wall/wp-content/uploads/2023/12/2024-01-18.jpg
END:VEVENT
BEGIN:VEVENT
DTSTART;TZID=Asia/Tokyo:20231102T183000
DTEND;TZID=Asia/Tokyo:20231102T220000
DTSTAMP:20260426T070842
CREATED:20231006T110552Z
LAST-MODIFIED:20231006T110552Z
UID:1626-1698949800-1698962400@nakano-dynamite.com
SUMMARY:ALCOHOL BREAK
DESCRIPTION:2023.11.02 (thu)\nOPEN 18:30  START 19:00\nDOOR ¥2000+1D\n\nFRACTURE\ncalque\nツインバット\nS.A.T.S\nDEEPFREEZEMANIA\n\nWALL pre\nALCOHOL BREAK\n@初台WALL
URL:https://nakano-dynamite.com/wall/event/2023-11-02/
LOCATION:初台WALL\, 西新宿　3-15-8-B1\, 新宿区\, 東京都\, 160-0023\, Japan
ATTACH;FMTTYPE=image/jpeg:https://nakano-dynamite.com/wall/wp-content/uploads/2023/10/20231102.jpg
END:VEVENT
END:VCALENDAR