BEGIN:VCALENDAR
VERSION:2.0
PRODID:-//Livehouse Wall - ECPv6.15.20//NONSGML v1.0//EN
CALSCALE:GREGORIAN
METHOD:PUBLISH
X-WR-CALNAME:Livehouse Wall
X-ORIGINAL-URL:https://nakano-dynamite.com/wall
X-WR-CALDESC:Livehouse Wall のイベント
REFRESH-INTERVAL;VALUE=DURATION:PT1H
X-Robots-Tag:noindex
X-PUBLISHED-TTL:PT1H
BEGIN:VTIMEZONE
TZID:Asia/Tokyo
BEGIN:STANDARD
TZOFFSETFROM:+0900
TZOFFSETTO:+0900
TZNAME:JST
DTSTART:20220101T000000
END:STANDARD
END:VTIMEZONE
BEGIN:VEVENT
DTSTART;TZID=Asia/Tokyo:20230608T180000
DTEND;TZID=Asia/Tokyo:20230608T220000
DTSTAMP:20260420T161907
CREATED:20230516T084729Z
LAST-MODIFIED:20230516T084729Z
UID:1287-1686247200-1686261600@nakano-dynamite.com
SUMMARY:No Quarter JAPAN TOUR2023
DESCRIPTION:2023.06.08 (Thu)\nOPEN 18:00  START 18:30\nDOOR ￥2300+1D\n\nSHAKE HEAD \nSeeK \nGAKEMI\nPROM \nNo Quarter \n\n\nRNR TOURS pre\nNo Quarter JAPAN TOUR2023\n＠初台WALL
URL:https://nakano-dynamite.com/wall/event/2023-06-08/
LOCATION:初台WALL\, 西新宿　3-15-8-B1\, 新宿区\, 東京都\, 160-0023\, Japan
ATTACH;FMTTYPE=image/jpeg:https://nakano-dynamite.com/wall/wp-content/uploads/2023/05/20230608.jpg
END:VEVENT
END:VCALENDAR