BEGIN:VCALENDAR
VERSION:2.0
PRODID:-//Livehouse Wall - ECPv6.15.20//NONSGML v1.0//EN
CALSCALE:GREGORIAN
METHOD:PUBLISH
X-WR-CALNAME:Livehouse Wall
X-ORIGINAL-URL:https://nakano-dynamite.com/wall
X-WR-CALDESC:Livehouse Wall のイベント
REFRESH-INTERVAL;VALUE=DURATION:PT1H
X-Robots-Tag:noindex
X-PUBLISHED-TTL:PT1H
BEGIN:VTIMEZONE
TZID:Asia/Tokyo
BEGIN:STANDARD
TZOFFSETFROM:+0900
TZOFFSETTO:+0900
TZNAME:JST
DTSTART:20220101T000000
END:STANDARD
END:VTIMEZONE
BEGIN:VEVENT
DTSTART;TZID=Asia/Tokyo:20251005T160000
DTEND;TZID=Asia/Tokyo:20251005T220000
DTSTAMP:20260421T224640
CREATED:20250829T144444Z
LAST-MODIFIED:20250829T144444Z
UID:4161-1759680000-1759701600@nakano-dynamite.com
SUMMARY:PopWhizzee JAPAN TOUR 2025
DESCRIPTION:2025.10.05(sun)\nOPEN 16:00\nSTART 16:30\nADV ¥2400\nDOOR ¥2900\n+1D\nPopWhizzee(from Singapore)\nember\nAGE OF KID\nCrazyChameleon\nSmoothy\nmerci merci me\n\n\nWALL pre.\nPopWhizzee JAPAN TOUR 2025\n@初台WALL
URL:https://nakano-dynamite.com/wall/event/2025-10-05/
LOCATION:初台WALL\, 西新宿　3-15-8-B1\, 新宿区\, 東京都\, 160-0023\, Japan
ATTACH;FMTTYPE=image/jpeg:https://nakano-dynamite.com/wall/wp-content/uploads/2025/08/20251005.jpg
END:VEVENT
BEGIN:VEVENT
DTSTART;TZID=Asia/Tokyo:20250622T173000
DTEND;TZID=Asia/Tokyo:20250622T220000
DTSTAMP:20260421T224640
CREATED:20250515T123811Z
LAST-MODIFIED:20250515T123811Z
UID:3764-1750613400-1750629600@nakano-dynamite.com
SUMMARY:" NEW OLD CHAPTER " -HATSUDAI WALL 26th ANNIVERSARY-
DESCRIPTION:2025.06.22(sun)\nOPEN TBA\nSTART TBA\nADV ¥2400\nDOOR ¥3000\n+1D\n\nTake out bright\ntact\nSTRIKE AGAIN\nsmoothy\nROMEOROCKS\nSTARVINGMAN \n\n\n\nTake out bright pre.\n" NEW OLD CHAPTER "\n-HATSUDAI WALL 26th ANNIVERSARY- \n@初台WALL
URL:https://nakano-dynamite.com/wall/event/2025-06-22/
LOCATION:初台WALL\, 西新宿　3-15-8-B1\, 新宿区\, 東京都\, 160-0023\, Japan
ATTACH;FMTTYPE=image/jpeg:https://nakano-dynamite.com/wall/wp-content/uploads/2025/05/20250622-2.jpg
END:VEVENT
BEGIN:VEVENT
DTSTART;TZID=Asia/Tokyo:20250316T123000
DTEND;TZID=Asia/Tokyo:20250316T170000
DTSTAMP:20260421T224640
CREATED:20250214T165514Z
LAST-MODIFIED:20250222T065904Z
UID:3453-1742128200-1742144400@nakano-dynamite.com
SUMMARY:Loosey Goosey
DESCRIPTION:2025.03.16(sun)\nOPEN 12:30\nSTART 13:00\nADV ¥1400\nDOOR ¥1900\n+1D\n\nSmoothy\nHOW\nLEEFMAN\n2STRIKE3BALL \n\n\n\nSmoothy pre.\nLoosey Goosey\n@初台WALL
URL:https://nakano-dynamite.com/wall/event/2025-03-16/
LOCATION:初台WALL\, 西新宿　3-15-8-B1\, 新宿区\, 東京都\, 160-0023\, Japan
ATTACH;FMTTYPE=image/jpeg:https://nakano-dynamite.com/wall/wp-content/uploads/2025/02/20250316.jpg
END:VEVENT
BEGIN:VEVENT
DTSTART;TZID=Asia/Tokyo:20241201T180000
DTEND;TZID=Asia/Tokyo:20241201T220000
DTSTAMP:20260421T224640
CREATED:20241101T130116Z
LAST-MODIFIED:20241101T130116Z
UID:3118-1733076000-1733090400@nakano-dynamite.com
SUMMARY:La Fiesta Loco!!
DESCRIPTION:2024.12.01(sun)\nOPEN 18:00\nSTART 18:30\nADV ¥2000\nDOOR ¥2500\n+1D\nCatch and row(敦賀)\nFrisBeeDog\nFISHERMAN'S\nSmoothy\nyellow gang\n\n\nWALL pre.\nLa Fiesta Loco!!\n@初台WALL
URL:https://nakano-dynamite.com/wall/event/2024-12-01-2/
LOCATION:初台WALL\, 西新宿　3-15-8-B1\, 新宿区\, 東京都\, 160-0023\, Japan
ATTACH;FMTTYPE=image/jpeg:https://nakano-dynamite.com/wall/wp-content/uploads/2024/11/20241201-2.jpg
END:VEVENT
BEGIN:VEVENT
DTSTART;TZID=Asia/Tokyo:20240727T173000
DTEND;TZID=Asia/Tokyo:20240727T220000
DTSTAMP:20260421T224640
CREATED:20240712T083813Z
LAST-MODIFIED:20240712T083813Z
UID:2771-1722101400-1722117600@nakano-dynamite.com
SUMMARY:"The Maestro" Vol.10 CAL - EP ”超道” Release SxGxS - 1st Full Album "Trajectory" Release tour
DESCRIPTION:2024.07.27(sat)\nOPEN 17:30\nSTART 18:00\nADV ¥2500\nDOOR ¥3000\n+1D\nAudinaries\nBLASTER KID\nCAL\nKYOUDAI\nSmoothy\nSxGxS\n\nAudinaries pre.\n"The Maestro" Vol.10\nCAL - EP ”超道” Release\nSxGxS - 1st Full Album "Trajectory" Release tour \n@初台WALL
URL:https://nakano-dynamite.com/wall/event/2024-07-27/
LOCATION:初台WALL\, 西新宿　3-15-8-B1\, 新宿区\, 東京都\, 160-0023\, Japan
ATTACH;FMTTYPE=image/jpeg:https://nakano-dynamite.com/wall/wp-content/uploads/2024/07/20240727.jpg
END:VEVENT
BEGIN:VEVENT
DTSTART;TZID=Asia/Tokyo:20240629T130000
DTEND;TZID=Asia/Tokyo:20240629T163000
DTSTAMP:20260421T224640
CREATED:20240613T141108Z
LAST-MODIFIED:20240613T141108Z
UID:2615-1719666000-1719678600@nakano-dynamite.com
SUMMARY:LA BASTARDA
DESCRIPTION:2024.06.29(sat)\nOPEN 13:00\nSTART 13:30\nDOOR ¥1400\n+1D\n\nIL BASTARDO\nBAUMKUCHEN\nRatchild\nSmoothy\n\nIL BASTARDO pre.\nLA BASTARDA\n@初台WALL
URL:https://nakano-dynamite.com/wall/event/2024-06-29/
LOCATION:初台WALL\, 西新宿　3-15-8-B1\, 新宿区\, 東京都\, 160-0023\, Japan
ATTACH;FMTTYPE=image/jpeg:https://nakano-dynamite.com/wall/wp-content/uploads/2024/06/20240629.jpg
END:VEVENT
BEGIN:VEVENT
DTSTART;TZID=Asia/Tokyo:20240203T163000
DTEND;TZID=Asia/Tokyo:20240203T220000
DTSTAMP:20260421T224640
CREATED:20240121T125820Z
LAST-MODIFIED:20240121T125924Z
UID:2261-1706977800-1706997600@nakano-dynamite.com
SUMMARY:Root Down
DESCRIPTION:2024.02.03(sat)\nOPEN 16:30  START 17:00\nADV ￥2500 DOOR ￥3000 ＋1D\nSmoothy\nank\nBEAGLE(名古屋)\nHOW\nNINJA BOYZ\nSABANNAMAN\n+Secret Band(前日発表)\n\n\nSmoothy pre\n "Root Down"\n@初台WALL
URL:https://nakano-dynamite.com/wall/event/2024-02-03/
LOCATION:初台WALL\, 西新宿　3-15-8-B1\, 新宿区\, 東京都\, 160-0023\, Japan
ATTACH;FMTTYPE=image/jpeg:https://nakano-dynamite.com/wall/wp-content/uploads/2024/01/20240203.jpg
END:VEVENT
BEGIN:VEVENT
DTSTART;TZID=Asia/Tokyo:20230813T170000
DTEND;TZID=Asia/Tokyo:20230813T220000
DTSTAMP:20260421T224640
CREATED:20230720T081428Z
LAST-MODIFIED:20230720T081428Z
UID:1416-1691946000-1691964000@nakano-dynamite.com
SUMMARY:OVER ALL
DESCRIPTION:2023.08.13 (sun)\nOPEN 17:00 START 17:30\nADV ¥2000 DOOR ¥2400 +1D\n\nHOW \nFling Thing \nCOQUETTISH \nrootrunk \nsmoothy \nZん(静岡)\n\n\nOVER ALL CREW pre\nOVER ALL\n@初台WALL
URL:https://nakano-dynamite.com/wall/event/2023-08-13-2/
LOCATION:初台WALL\, 西新宿　3-15-8-B1\, 新宿区\, 東京都\, 160-0023\, Japan
ATTACH;FMTTYPE=image/jpeg:https://nakano-dynamite.com/wall/wp-content/uploads/2023/07/20230813.jpg
END:VEVENT
BEGIN:VEVENT
DTSTART;TZID=Asia/Tokyo:20230624T160000
DTEND;TZID=Asia/Tokyo:20230624T220000
DTSTAMP:20260421T224640
CREATED:20230525T131436Z
LAST-MODIFIED:20230525T131436Z
UID:1311-1687622400-1687644000@nakano-dynamite.com
SUMMARY:"Fuck’in this show"   WALL24th ANNIVERSARY
DESCRIPTION:2023.06.24 (sat)\nOPEN 16:00  START 16:30\nADV ￥2500  DOOR ￥3000 +1D\n\nTake out bright\nVELOCITY\nANTINICE\nAudinaries\nSABANNAMAN\nSMOOTHY\nANCHOR\n\nTake out bright pre\n"Fuck’in this show" WALL24th ANNIVERSARY\n@初台WALL
URL:https://nakano-dynamite.com/wall/event/2023-06-24/
LOCATION:初台WALL\, 西新宿　3-15-8-B1\, 新宿区\, 東京都\, 160-0023\, Japan
ATTACH;FMTTYPE=image/jpeg:https://nakano-dynamite.com/wall/wp-content/uploads/2023/05/20230624.jpg
END:VEVENT
END:VCALENDAR