BEGIN:VCALENDAR
VERSION:2.0
PRODID:-//Livehouse Wall - ECPv6.15.20//NONSGML v1.0//EN
CALSCALE:GREGORIAN
METHOD:PUBLISH
X-WR-CALNAME:Livehouse Wall
X-ORIGINAL-URL:https://nakano-dynamite.com/wall
X-WR-CALDESC:Livehouse Wall のイベント
REFRESH-INTERVAL;VALUE=DURATION:PT1H
X-Robots-Tag:noindex
X-PUBLISHED-TTL:PT1H
BEGIN:VTIMEZONE
TZID:Asia/Tokyo
BEGIN:STANDARD
TZOFFSETFROM:+0900
TZOFFSETTO:+0900
TZNAME:JST
DTSTART:20220101T000000
END:STANDARD
END:VTIMEZONE
BEGIN:VEVENT
DTSTART;TZID=Asia/Tokyo:20250614T153000
DTEND;TZID=Asia/Tokyo:20250614T220000
DTSTAMP:20260422T102607
CREATED:20250515T113752Z
LAST-MODIFIED:20250524T124947Z
UID:3751-1749915000-1749938400@nakano-dynamite.com
SUMMARY:haruna pre. 【Reason To Be】 WALL 26th Anniversary Party
DESCRIPTION:2025.06.14(sat)\nOPEN 15:30\nSTART 16:00\nADV ¥3000\nDOOR ¥3400\n+1D\n\nT.J.MAXX\nETERNAL B\nDOMINATE\n090\nVICE CITY SLAVE\nSPEAKEASY\n9991\nTear da club up\n\n-DJ-\nMarcus\nHarmblot\n\n\nharuna pre. \nReason To Be\n-WALL 26th Anniversary Party- \n@初台WALL
URL:https://nakano-dynamite.com/wall/event/2025-06-14/
LOCATION:初台WALL\, 西新宿　3-15-8-B1\, 新宿区\, 東京都\, 160-0023\, Japan
ATTACH;FMTTYPE=image/jpeg:https://nakano-dynamite.com/wall/wp-content/uploads/2025/05/20250614-1.jpg
END:VEVENT
BEGIN:VEVENT
DTSTART;TZID=Asia/Tokyo:20250223T170000
DTEND;TZID=Asia/Tokyo:20250223T220000
DTSTAMP:20260422T102607
CREATED:20250129T110043Z
LAST-MODIFIED:20250128T155835Z
UID:3371-1740330000-1740348000@nakano-dynamite.com
SUMMARY:CONVINIUM vol.11
DESCRIPTION:2025.02.23(sun)\nOPEN 17:00\nSTART 17:30\nADV ¥1900\nDOOR ¥2400\n+1D\n\nAbiuro\nDISTENPER\nGOREVENT\nHOSTILE EYES\nSPEAKEASY\n9991\n\n\n\nAbiuro pre.\nCONVINIUM vol.11\n@初台WALL
URL:https://nakano-dynamite.com/wall/event/2025-02-23/
LOCATION:初台WALL\, 西新宿　3-15-8-B1\, 新宿区\, 東京都\, 160-0023\, Japan
ATTACH;FMTTYPE=image/jpeg:https://nakano-dynamite.com/wall/wp-content/uploads/2025/01/20250223.jpg
END:VEVENT
BEGIN:VEVENT
DTSTART;TZID=Asia/Tokyo:20240615T180000
DTEND;TZID=Asia/Tokyo:20240615T220000
DTSTAMP:20260422T102607
CREATED:20240607T142942Z
LAST-MODIFIED:20240607T142942Z
UID:2579-1718474400-1718488800@nakano-dynamite.com
SUMMARY:東京カタストロフィ
DESCRIPTION:2024.06.15(sat)\nOPEN 18:00\nSTART 18:30\nCHARGE ¥2000+1D\nU-23 ¥1000+1D\n\nHIMO\nMORE NOISE FOR LIFE\nSUN CHILDREN SUN\nプンクボイ\nSPEAKEASY\n高倉健\n\n-FOOD-\nヘルズxベルズ(a.k.a 高倉健) \n\n\n\n高倉健 pre.\n東京カタストロフィ\n@初台WALL
URL:https://nakano-dynamite.com/wall/event/2024-06-15/
LOCATION:初台WALL\, 西新宿　3-15-8-B1\, 新宿区\, 東京都\, 160-0023\, Japan
ATTACH;FMTTYPE=image/jpeg:https://nakano-dynamite.com/wall/wp-content/uploads/2024/06/20240615.jpg
END:VEVENT
BEGIN:VEVENT
DTSTART;TZID=Asia/Tokyo:20240423T180000
DTEND;TZID=Asia/Tokyo:20240423T220000
DTSTAMP:20260422T102607
CREATED:20240329T062832Z
LAST-MODIFIED:20240419T070151Z
UID:2490-1713895200-1713909600@nakano-dynamite.com
SUMMARY:MEANING to be here...vol.61 "Revenge toward myself"
DESCRIPTION:2024.04.23(tue)\nOPEN 18:00\nSTART 18:30\nADV￥3000\nDOOR￥3500\n+1D\n\nMEANING\nSHADOWS\nTEMPLE\nSpeakeasy\n\n\n\nMEANING Pre.\nMEANING to be here...vol.61\n"Revenge toward myself"\n@初台WALL
URL:https://nakano-dynamite.com/wall/event/2024-04-23/
LOCATION:初台WALL\, 西新宿　3-15-8-B1\, 新宿区\, 東京都\, 160-0023\, Japan
ATTACH;FMTTYPE=image/jpeg:https://nakano-dynamite.com/wall/wp-content/uploads/2024/03/20240423.jpg
END:VEVENT
BEGIN:VEVENT
DTSTART;TZID=Asia/Tokyo:20231007T173000
DTEND;TZID=Asia/Tokyo:20231007T220000
DTSTAMP:20260422T102607
CREATED:20230917T095912Z
LAST-MODIFIED:20230917T095912Z
UID:1568-1696699800-1696716000@nakano-dynamite.com
SUMMARY:PERSEVERE AND OVERCOME vol.9
DESCRIPTION:2023.10.7 (sat)\nOPEN 17:30  START 18:00\nDOOR ¥2000+1D\n\nAK-47(札幌)\nTHINK ABOUT TODAY(札幌)\nnoy\nSECONDARMS\nSHINING MOMENTS\nSPEAKEASY\n\nSHINING MOMENTS pre \nPERSEVERE AND OVERCOME vol.9 \n@初台WALL
URL:https://nakano-dynamite.com/wall/event/2023-10-07/
LOCATION:初台WALL\, 西新宿　3-15-8-B1\, 新宿区\, 東京都\, 160-0023\, Japan
ATTACH;FMTTYPE=image/jpeg:https://nakano-dynamite.com/wall/wp-content/uploads/2023/09/20231007.jpg
END:VEVENT
BEGIN:VEVENT
DTSTART;TZID=Asia/Tokyo:20230129T000000
DTEND;TZID=Asia/Tokyo:20230129T235959
DTSTAMP:20260422T102607
CREATED:20221130T150017Z
LAST-MODIFIED:20221216T023629Z
UID:230-1674950400-1675036799@nakano-dynamite.com
SUMMARY:SPEAKEASY pre. No!!No!!No!!
DESCRIPTION:2023.01.29(sun)\nOPEN / START TBA\nTICKET: ¥1\,500+1D\nFIGHT IT OUT \nTEMPLE(大阪) \nSOILED HATE \nBELMADIGULA \nPENIS BOYS \nSLUGGER \nSPEAKEASY\n\nSPEAKEASY pre. No!!No!!No!!\n@初台WALL
URL:https://nakano-dynamite.com/wall/event/2023-01-29/
LOCATION:初台WALL\, 西新宿　3-15-8-B1\, 新宿区\, 東京都\, 160-0023\, Japan
ATTACH;FMTTYPE=image/jpeg:https://nakano-dynamite.com/wall/wp-content/uploads/2022/12/2023-01-29.jpeg
END:VEVENT
END:VCALENDAR