BEGIN:VCALENDAR
VERSION:2.0
PRODID:-//Livehouse Wall - ECPv6.15.20//NONSGML v1.0//EN
CALSCALE:GREGORIAN
METHOD:PUBLISH
X-WR-CALNAME:Livehouse Wall
X-ORIGINAL-URL:https://nakano-dynamite.com/wall
X-WR-CALDESC:Livehouse Wall のイベント
REFRESH-INTERVAL;VALUE=DURATION:PT1H
X-Robots-Tag:noindex
X-PUBLISHED-TTL:PT1H
BEGIN:VTIMEZONE
TZID:Asia/Tokyo
BEGIN:STANDARD
TZOFFSETFROM:+0900
TZOFFSETTO:+0900
TZNAME:JST
DTSTART:20220101T000000
END:STANDARD
END:VTIMEZONE
BEGIN:VEVENT
DTSTART;TZID=Asia/Tokyo:20241027T153000
DTEND;TZID=Asia/Tokyo:20241027T220000
DTSTAMP:20260422T090722
CREATED:20241003T125743Z
LAST-MODIFIED:20241003T125743Z
UID:3041-1730043000-1730066400@nakano-dynamite.com
SUMMARY:A Ray of Hope vol.07
DESCRIPTION:2024.10.27(sun)\nOPEN 15:30\nSTART 16:00\nADV ¥3000\nDOOR ¥4000\nU22 ¥2400\n+1D\n\nFIGHT IT OUT\nIT'S ALL GOOD\nuniverse last a ward\nTive\nmindcrime\nLIBRO\nBBBBBBB\nsugar\n仙人掌\n\n\neri pre.\nA Ray of Hope vol.07\n@初台WALL
URL:https://nakano-dynamite.com/wall/event/2024-10-27/
LOCATION:初台WALL\, 西新宿　3-15-8-B1\, 新宿区\, 東京都\, 160-0023\, Japan
ATTACH;FMTTYPE=image/jpeg:https://nakano-dynamite.com/wall/wp-content/uploads/2024/10/20241027.jpg
END:VEVENT
BEGIN:VEVENT
DTSTART;TZID=Asia/Tokyo:20231223T173000
DTEND;TZID=Asia/Tokyo:20231223T220000
DTSTAMP:20260422T090722
CREATED:20231208T085603Z
LAST-MODIFIED:20231208T085900Z
UID:2138-1703352600-1703368800@nakano-dynamite.com
SUMMARY:No!! No!! No!!
DESCRIPTION:2023.12.23 (sat)\nOPEN 17:30  START 18:00\nADV ￥1500  DOOR ￥2500　＋1D\n\n混沌クラッシャー\nHETH\nABOS\nSugar\nFIGHT IT OUT\n高倉健\nSPEAK EASY\n\n\nSPEAK EASY pre\nNo!! No!! No!!\n@初台WALL
URL:https://nakano-dynamite.com/wall/event/2023-12-23-2/
LOCATION:初台WALL\, 西新宿　3-15-8-B1\, 新宿区\, 東京都\, 160-0023\, Japan
ATTACH;FMTTYPE=image/jpeg:https://nakano-dynamite.com/wall/wp-content/uploads/2023/12/20231223.jpg
END:VEVENT
BEGIN:VEVENT
DTSTART;TZID=Asia/Tokyo:20230603T180000
DTEND;TZID=Asia/Tokyo:20230603T220000
DTSTAMP:20260422T090722
CREATED:20230525T114544Z
LAST-MODIFIED:20230525T114544Z
UID:1306-1685815200-1685829600@nakano-dynamite.com
SUMMARY:Without Defeat “Absurd World” EP record release
DESCRIPTION:2023.06.03 (sat)\nOPEN 18:00  START 18:30\nADV ￥2000  DOOR ￥2500 +1D\n\nWITHOUT DEFEAT \nFIGHT IT OUT\nHETH \nMORTIFY \nSUGAR\n\n\nCKS Productions presents\nWithout Defeat “Absurd World” EP record release\n＠初台WALL
URL:https://nakano-dynamite.com/wall/event/2023-06-03-2/
LOCATION:初台WALL\, 西新宿　3-15-8-B1\, 新宿区\, 東京都\, 160-0023\, Japan
ATTACH;FMTTYPE=image/jpeg:https://nakano-dynamite.com/wall/wp-content/uploads/2023/05/20230603.jpg
END:VEVENT
END:VCALENDAR