BEGIN:VCALENDAR
VERSION:2.0
PRODID:-//Livehouse Wall - ECPv6.15.20//NONSGML v1.0//EN
CALSCALE:GREGORIAN
METHOD:PUBLISH
X-WR-CALNAME:Livehouse Wall
X-ORIGINAL-URL:https://nakano-dynamite.com/wall
X-WR-CALDESC:Livehouse Wall のイベント
REFRESH-INTERVAL;VALUE=DURATION:PT1H
X-Robots-Tag:noindex
X-PUBLISHED-TTL:PT1H
BEGIN:VTIMEZONE
TZID:Asia/Tokyo
BEGIN:STANDARD
TZOFFSETFROM:+0900
TZOFFSETTO:+0900
TZNAME:JST
DTSTART:20230101T000000
END:STANDARD
END:VTIMEZONE
BEGIN:VEVENT
DTSTART;TZID=Asia/Tokyo:20240802T180000
DTEND;TZID=Asia/Tokyo:20240802T220000
DTSTAMP:20260420T111600
CREATED:20240712T091114Z
LAST-MODIFIED:20240730T081442Z
UID:2777-1722621600-1722636000@nakano-dynamite.com
SUMMARY:FRIDAY NIGHT FEVER
DESCRIPTION:2024.08.02(fri)\nOPEN 18:00\nSTART 18:40\nADV ¥2400\nDOOR ¥3000\n+1D\n\n夜行性動物園\nTable\n王\nSLEDS\nTEENAGE AFTER PARTY\n\nWALL FRIENDS pre.\nFRIDAY NIGHT FEVER\n@初台WALL
URL:https://nakano-dynamite.com/wall/event/2024-08-02/
LOCATION:初台WALL\, 西新宿　3-15-8-B1\, 新宿区\, 東京都\, 160-0023\, Japan
ATTACH;FMTTYPE=image/jpeg:https://nakano-dynamite.com/wall/wp-content/uploads/2024/07/20240802.jpg
END:VEVENT
END:VCALENDAR