BEGIN:VCALENDAR
VERSION:2.0
PRODID:-//Livehouse Wall - ECPv6.15.20//NONSGML v1.0//EN
CALSCALE:GREGORIAN
METHOD:PUBLISH
X-WR-CALNAME:Livehouse Wall
X-ORIGINAL-URL:https://nakano-dynamite.com/wall
X-WR-CALDESC:Livehouse Wall のイベント
REFRESH-INTERVAL;VALUE=DURATION:PT1H
X-Robots-Tag:noindex
X-PUBLISHED-TTL:PT1H
BEGIN:VTIMEZONE
TZID:Asia/Tokyo
BEGIN:STANDARD
TZOFFSETFROM:+0900
TZOFFSETTO:+0900
TZNAME:JST
DTSTART:20240101T000000
END:STANDARD
END:VTIMEZONE
BEGIN:VEVENT
DTSTART;TZID=Asia/Tokyo:20250524T173000
DTEND;TZID=Asia/Tokyo:20250524T220000
DTSTAMP:20260426T131625
CREATED:20250424T110040Z
LAST-MODIFIED:20250424T110040Z
UID:3692-1748107800-1748124000@nakano-dynamite.com
SUMMARY:ZOUROKU vol.8
DESCRIPTION:2025.05.24(sat)\nOPEN 17:30\nSTART 18:00\nADV ¥2000\nDOOR ¥2500\n+1D\n\nDOINGLIFE\n30%LESSFAT\nthe arounds\nember\nTOMBOTORI\n\n\n\nTOMBOTORI pre.\nZOUROKU vol.8\n@初台WALL
URL:https://nakano-dynamite.com/wall/event/2025-05-24/
LOCATION:初台WALL\, 西新宿　3-15-8-B1\, 新宿区\, 東京都\, 160-0023\, Japan
ATTACH;FMTTYPE=image/jpeg:https://nakano-dynamite.com/wall/wp-content/uploads/2025/04/20250524.jpg
END:VEVENT
BEGIN:VEVENT
DTSTART;TZID=Asia/Tokyo:20260505T173000
DTEND;TZID=Asia/Tokyo:20260505T220000
DTSTAMP:20260426T131625
CREATED:20260408T145823Z
LAST-MODIFIED:20260408T145823Z
UID:4822-1778002200-1778018400@nakano-dynamite.com
SUMMARY:VINTAGE vol.3
DESCRIPTION:2026.05.05(Tue)\nOPEN 17:30\nSTART 18:00\nADV ¥2900\nDOOR ¥3400\n+1D\n\nTHE EVESCAPE\nRIDDLE\nFIVE NO RISK\nHOW\n三浦健太郎(ANCHOR)\nthe arounds\n\n\ngndm&yasui pre.\nVINTAGE vol.3\n@初台WALL
URL:https://nakano-dynamite.com/wall/event/2026-05-05/
LOCATION:初台WALL\, 西新宿　3-15-8-B1\, 新宿区\, 東京都\, 160-0023\, Japan
ATTACH;FMTTYPE=image/jpeg:https://nakano-dynamite.com/wall/wp-content/uploads/2026/04/20260505.jpg
END:VEVENT
END:VCALENDAR