BEGIN:VCALENDAR
VERSION:2.0
PRODID:-//Livehouse Wall - ECPv6.15.20//NONSGML v1.0//EN
CALSCALE:GREGORIAN
METHOD:PUBLISH
X-WR-CALNAME:Livehouse Wall
X-ORIGINAL-URL:https://nakano-dynamite.com/wall
X-WR-CALDESC:Livehouse Wall のイベント
REFRESH-INTERVAL;VALUE=DURATION:PT1H
X-Robots-Tag:noindex
X-PUBLISHED-TTL:PT1H
BEGIN:VTIMEZONE
TZID:Asia/Tokyo
BEGIN:STANDARD
TZOFFSETFROM:+0900
TZOFFSETTO:+0900
TZNAME:JST
DTSTART:20210101T000000
END:STANDARD
END:VTIMEZONE
BEGIN:VEVENT
DTSTART;TZID=Asia/Tokyo:20241215T133000
DTEND;TZID=Asia/Tokyo:20241215T220000
DTSTAMP:20260422T065846
CREATED:20241120T110747Z
LAST-MODIFIED:20241120T110747Z
UID:3174-1734269400-1734300000@nakano-dynamite.com
SUMMARY:OVERALL忘年会
DESCRIPTION:2024.12.15(sun)\nOPEN 13:30\nSTART 14:00\nADV ¥1900\nDOOR ¥2900\n+1D\nHOW\nTHRASHOUT\nDEVASTATORS\nOJO ROJO\nAudinaries\nHEXO\nupstairs\nSEETHING OF LIFE\nJACK MINDS\nKYOUDAI\n2STRIKE3BALL\n\n-DJ-\nセージーガガ\nKxExMxEx\n\n-FOOD-\nひなこフーズ\n\nOVERALL忘年会\n@初台WALL
URL:https://nakano-dynamite.com/wall/event/2024-12-15/
LOCATION:初台WALL\, 西新宿　3-15-8-B1\, 新宿区\, 東京都\, 160-0023\, Japan
ATTACH;FMTTYPE=image/jpeg:https://nakano-dynamite.com/wall/wp-content/uploads/2024/11/20241215.jpg
END:VEVENT
BEGIN:VEVENT
DTSTART;TZID=Asia/Tokyo:20240127T153000
DTEND;TZID=Asia/Tokyo:20240127T220000
DTSTAMP:20260422T065846
CREATED:20240106T065024Z
LAST-MODIFIED:20240106T065024Z
UID:2224-1706369400-1706392800@nakano-dynamite.com
SUMMARY:PUNCH IN THE FACE vol.2
DESCRIPTION:2024.01.27 (sat)\nOPEN 15:30  START 16:00\nADV ￥2500  DOOR ￥3000　＋1D\n\nMEXICAN AGE \nTHE SENSATIONS \nBURL \nTHRASHOUT \nyellow gang \nFLINGTHING \nコールスロー \nTAKE BACK THE BEERS!\n\n\nMEXICAN AGE × THE SENSATIONS pre\nPUNCH IN THE FACE vol.2\n＠初台WALL
URL:https://nakano-dynamite.com/wall/event/2024-01-27/
LOCATION:初台WALL\, 西新宿　3-15-8-B1\, 新宿区\, 東京都\, 160-0023\, Japan
ATTACH;FMTTYPE=image/jpeg:https://nakano-dynamite.com/wall/wp-content/uploads/2024/01/20240127.jpg
END:VEVENT
BEGIN:VEVENT
DTSTART;TZID=Asia/Tokyo:20221217T180000
DTEND;TZID=Asia/Tokyo:20221217T220000
DTSTAMP:20260422T065846
CREATED:20221122T030954Z
LAST-MODIFIED:20221216T020519Z
UID:135-1671300000-1671314400@nakano-dynamite.com
SUMMARY:MEXICAN AGE & QUICKDEAD pre: LOWLIFE vol.1
DESCRIPTION:2022.12.17(sat)\nOPEN: 18:00 / START: 18:30\nADV: ¥3000 / DOOR: ¥3500\nMEXICAN AGE\nQUICKDEAD\nTOO CLOSE TO SEE\nTHRASHOUT\n \nWALL MEXICAN AGE & QUICKDEAD pre.\n“LOWLIFE” vol.1\n@初台
URL:https://nakano-dynamite.com/wall/event/2022-12-17/
LOCATION:初台WALL\, 西新宿　3-15-8-B1\, 新宿区\, 東京都\, 160-0023\, Japan
ATTACH;FMTTYPE=image/jpeg:https://nakano-dynamite.com/wall/wp-content/uploads/2022/11/2022-12-17.jpeg
END:VEVENT
END:VCALENDAR