BEGIN:VCALENDAR
VERSION:2.0
PRODID:-//Livehouse Wall - ECPv6.15.20//NONSGML v1.0//EN
CALSCALE:GREGORIAN
METHOD:PUBLISH
X-WR-CALNAME:Livehouse Wall
X-ORIGINAL-URL:https://nakano-dynamite.com/wall
X-WR-CALDESC:Livehouse Wall のイベント
REFRESH-INTERVAL;VALUE=DURATION:PT1H
X-Robots-Tag:noindex
X-PUBLISHED-TTL:PT1H
BEGIN:VTIMEZONE
TZID:Asia/Tokyo
BEGIN:STANDARD
TZOFFSETFROM:+0900
TZOFFSETTO:+0900
TZNAME:JST
DTSTART:20230101T000000
END:STANDARD
END:VTIMEZONE
BEGIN:VEVENT
DTSTART;TZID=Asia/Tokyo:20250820T185000
DTEND;TZID=Asia/Tokyo:20250820T220000
DTSTAMP:20260421T183924
CREATED:20250727T133720Z
LAST-MODIFIED:20250727T133720Z
UID:4018-1755715800-1755727200@nakano-dynamite.com
SUMMARY:PUNK ROCK ELITE
DESCRIPTION:2025.08.20(wed)\nOPEN 18:50\nSTART 19:20\nADV ¥1900\nDOOR ¥2400\n+1D\n\nHUDSON\nDENY ONESELF\nTHREEQUARTER\nJ-BOYz\n344 (from HYPER DISORDER) \n\n\nWALL pre.\nPUNK ROCK ELITE\n@初台WALL
URL:https://nakano-dynamite.com/wall/event/2025-08-20/
LOCATION:初台WALL\, 西新宿　3-15-8-B1\, 新宿区\, 東京都\, 160-0023\, Japan
ATTACH;FMTTYPE=image/jpeg:https://nakano-dynamite.com/wall/wp-content/uploads/2025/07/20250820.jpg
END:VEVENT
BEGIN:VEVENT
DTSTART;TZID=Asia/Tokyo:20250521T183000
DTEND;TZID=Asia/Tokyo:20250521T220000
DTSTAMP:20260421T183924
CREATED:20250424T102759Z
LAST-MODIFIED:20250424T102759Z
UID:3686-1747852200-1747864800@nakano-dynamite.com
SUMMARY:OVERALL 2STAGE GIG
DESCRIPTION:2025.05.21(wed)\nOPEN 18:30\nSTART 19:00\nDOOR ¥1900\n+1D\n\nHEXO\nTHREEQUARTER\nASTROATOM\n344\nCAECUM\nsecret band\n\n-DJ-\nとんぺい太\n\n\nWALL pre.\nOVERALL 2STAGE GIG\n@初台WALL
URL:https://nakano-dynamite.com/wall/event/2025-05-21/
LOCATION:初台WALL\, 西新宿　3-15-8-B1\, 新宿区\, 東京都\, 160-0023\, Japan
ATTACH;FMTTYPE=image/jpeg:https://nakano-dynamite.com/wall/wp-content/uploads/2025/04/20250521.jpg
END:VEVENT
BEGIN:VEVENT
DTSTART;TZID=Asia/Tokyo:20250221T180000
DTEND;TZID=Asia/Tokyo:20250221T220000
DTSTAMP:20260421T183924
CREATED:20250127T142128Z
LAST-MODIFIED:20250127T142128Z
UID:3365-1740160800-1740175200@nakano-dynamite.com
SUMMARY:PUNK ROCK ELITE
DESCRIPTION:2025.02.21(fri)\nOPEN TBA\nSTART TBA\nADV ¥1900\nDOOR ¥2400\n+1D\n\nVacation with the ALOHAS\nTHREEQUARTER\nGrimy Day\nTARAIRACCA\nsynergy\n\nand more...\n\n\nWALL pre.\nPUNK ROCK ELITE\n@初台WALL
URL:https://nakano-dynamite.com/wall/event/2025-02-21/
LOCATION:初台WALL\, 西新宿　3-15-8-B1\, 新宿区\, 東京都\, 160-0023\, Japan
ATTACH;FMTTYPE=image/jpeg:https://nakano-dynamite.com/wall/wp-content/uploads/2025/01/20250221.jpg
END:VEVENT
BEGIN:VEVENT
DTSTART;TZID=Asia/Tokyo:20241216T190000
DTEND;TZID=Asia/Tokyo:20241216T220000
DTSTAMP:20260421T183924
CREATED:20241120T114442Z
LAST-MODIFIED:20241120T114442Z
UID:3177-1734375600-1734386400@nakano-dynamite.com
SUMMARY:Walla Walla ~LOW CHARGE SHOW~
DESCRIPTION:2024.12.16(mon)\nOPEN 19:00\nSTART 19:30\nADV ¥1000\nDOOR ¥1500\n+1D\n\nNEATZ\nRelents\nTHREEQUARTER \n\nand more...\n\nWALL pre.\nWalla Walla\n@初台WALL
URL:https://nakano-dynamite.com/wall/event/2024-12-16/
LOCATION:初台WALL\, 西新宿　3-15-8-B1\, 新宿区\, 東京都\, 160-0023\, Japan
ATTACH;FMTTYPE=image/jpeg:https://nakano-dynamite.com/wall/wp-content/uploads/2024/11/20241216.jpg
END:VEVENT
END:VCALENDAR