BEGIN:VCALENDAR
VERSION:2.0
PRODID:-//Livehouse Wall - ECPv6.15.20//NONSGML v1.0//EN
CALSCALE:GREGORIAN
METHOD:PUBLISH
X-WR-CALNAME:Livehouse Wall
X-ORIGINAL-URL:https://nakano-dynamite.com/wall
X-WR-CALDESC:Livehouse Wall のイベント
REFRESH-INTERVAL;VALUE=DURATION:PT1H
X-Robots-Tag:noindex
X-PUBLISHED-TTL:PT1H
BEGIN:VTIMEZONE
TZID:Asia/Tokyo
BEGIN:STANDARD
TZOFFSETFROM:+0900
TZOFFSETTO:+0900
TZNAME:JST
DTSTART:20220101T000000
END:STANDARD
END:VTIMEZONE
BEGIN:VEVENT
DTSTART;TZID=Asia/Tokyo:20240621T180000
DTEND;TZID=Asia/Tokyo:20240621T220000
DTSTAMP:20260420T081425
CREATED:20240609T130437Z
LAST-MODIFIED:20240609T130632Z
UID:2594-1718992800-1719007200@nakano-dynamite.com
SUMMARY:出張！Too Hot！〜初台WALL25周年記念スペシャル〜
DESCRIPTION:2024.06.21(fri)\nOPEN 18:00\nSTART 18:30\nADV ¥2400\nDOOR ¥2900\n+1D\n\nTHRH\nMELT4\nTobie\n逃した魚\nGRIMY DAY\n\n-DJ-\n乗り鉄\nたかぎジェ(JasonAndrew)\n\n\nBuzzFront pre.\n出張！Too Hot！〜初台WALL25周年記念スペシャル〜\n@初台WALL
URL:https://nakano-dynamite.com/wall/event/2024-06-21/
LOCATION:初台WALL\, 西新宿　3-15-8-B1\, 新宿区\, 東京都\, 160-0023\, Japan
ATTACH;FMTTYPE=image/jpeg:https://nakano-dynamite.com/wall/wp-content/uploads/2024/06/20240621.jpg
END:VEVENT
BEGIN:VEVENT
DTSTART;TZID=Asia/Tokyo:20240414T140000
DTEND;TZID=Asia/Tokyo:20240414T220000
DTSTAMP:20260420T081425
CREATED:20240310T142540Z
LAST-MODIFIED:20240310T142540Z
UID:2456-1713103200-1713132000@nakano-dynamite.com
SUMMARY:BABA2
DESCRIPTION:2024.04.14(sun)\nOPEN 14:00\nSTART 14:30\nADV￥3000\nDOOR￥3500\n+1D\n\nwaterweed\nRatchild\nCODE AXE\nneko!\nTHRH\nTAKE BACK THE BEERS!\nVELOCITY\nWith A Splash\n\n-DJ- \ndjbagworm\n後藤(to overflow evidence)\n\n-FOOD-\nなおきシェフ\n\n\n\nwaterweed × Ratchild pre\n"BABA2"\n@初台WALL
URL:https://nakano-dynamite.com/wall/event/2024-04-14/
LOCATION:初台WALL\, 西新宿　3-15-8-B1\, 新宿区\, 東京都\, 160-0023\, Japan
ATTACH;FMTTYPE=image/jpeg:https://nakano-dynamite.com/wall/wp-content/uploads/2024/03/20240414.jpg
END:VEVENT
BEGIN:VEVENT
DTSTART;TZID=Asia/Tokyo:20230617T160000
DTEND;TZID=Asia/Tokyo:20230617T220000
DTSTAMP:20260420T081425
CREATED:20230430T140013Z
LAST-MODIFIED:20230430T140013Z
UID:1233-1687017600-1687039200@nakano-dynamite.com
SUMMARY:沈黙の西新宿
DESCRIPTION:2023.06.17(sat)\nOPEN 16:00  START 16:30\nDOOR ￥3000+1D\n\nAND BELIVE \nREDNECKS \nＥＦ　 \nGRIND　SHAFT \nSLIDE \nTHRH \nKILLOUT \n\nDJ KEI\n\nWALL pre\n沈黙の西新宿\n@初台WALL
URL:https://nakano-dynamite.com/wall/event/2023-06-17/
LOCATION:初台WALL\, 西新宿　3-15-8-B1\, 新宿区\, 東京都\, 160-0023\, Japan
ATTACH;FMTTYPE=image/jpeg:https://nakano-dynamite.com/wall/wp-content/uploads/2023/04/20230617.jpg
END:VEVENT
END:VCALENDAR