BEGIN:VCALENDAR
VERSION:2.0
PRODID:-//Livehouse Wall - ECPv6.15.20//NONSGML v1.0//EN
CALSCALE:GREGORIAN
METHOD:PUBLISH
X-WR-CALNAME:Livehouse Wall
X-ORIGINAL-URL:https://nakano-dynamite.com/wall
X-WR-CALDESC:Livehouse Wall のイベント
REFRESH-INTERVAL;VALUE=DURATION:PT1H
X-Robots-Tag:noindex
X-PUBLISHED-TTL:PT1H
BEGIN:VTIMEZONE
TZID:Asia/Tokyo
BEGIN:STANDARD
TZOFFSETFROM:+0900
TZOFFSETTO:+0900
TZNAME:JST
DTSTART:20210101T000000
END:STANDARD
END:VTIMEZONE
BEGIN:VEVENT
DTSTART;TZID=Asia/Tokyo:20251218T180000
DTEND;TZID=Asia/Tokyo:20251218T220000
DTSTAMP:20260420T111813
CREATED:20251203T091436Z
LAST-MODIFIED:20251203T091436Z
UID:4394-1766080800-1766095200@nakano-dynamite.com
SUMMARY:NATURAL NEO TRAFFIC
DESCRIPTION:2025.12.18(thu)\nOPEN 18:00\nSTART 18:30\nDOOR ¥1000\n+1D\n\nTORO\nBUMPED HIS HEAD\ncalque\nノイジーマイノリティー\nFVK\n\n\nShiyu & Yasui pre.\nNATURAL NEO TRAFFIC\n@初台WALL
URL:https://nakano-dynamite.com/wall/event/2025-12-18/
LOCATION:初台WALL\, 西新宿　3-15-8-B1\, 新宿区\, 東京都\, 160-0023\, Japan
ATTACH;FMTTYPE=image/jpeg:https://nakano-dynamite.com/wall/wp-content/uploads/2025/12/20251218.jpg
END:VEVENT
BEGIN:VEVENT
DTSTART;TZID=Asia/Tokyo:20250904T183000
DTEND;TZID=Asia/Tokyo:20250904T220000
DTSTAMP:20260420T111813
CREATED:20250810T133146Z
LAST-MODIFIED:20250810T133146Z
UID:4100-1757010600-1757023200@nakano-dynamite.com
SUMMARY:千葉史雄生誕緊急企画“HEY YOU”
DESCRIPTION:2025.09.04(thu)\nOPEN/START 18:30\nDOOR ¥1000\n+1D\n\nLIVE:\nroom10.4\nTORO\n家畜\nand more…\n\nDJ’s:\noqbo\n瞬足\n\n\nWALL pre.\n千葉史雄生誕緊急企画“HEY YOU”\n@初台WALL
URL:https://nakano-dynamite.com/wall/event/2025-09-04/
LOCATION:初台WALL\, 西新宿　3-15-8-B1\, 新宿区\, 東京都\, 160-0023\, Japan
ATTACH;FMTTYPE=image/jpeg:https://nakano-dynamite.com/wall/wp-content/uploads/2025/08/20250904-2.jpg
END:VEVENT
BEGIN:VEVENT
DTSTART;TZID=Asia/Tokyo:20250528T190000
DTEND;TZID=Asia/Tokyo:20250528T220000
DTSTAMP:20260420T111813
CREATED:20250508T090351Z
LAST-MODIFIED:20250508T090352Z
UID:3725-1748458800-1748469600@nakano-dynamite.com
SUMMARY:MAGICAL VIBES
DESCRIPTION:2025.05.28(wed)\nOPEN 19:00\nSTART 19:00\nDOOR ¥1900\n+1D\n\nTORO\nポップコーン汗\noqbo\nOBAKE CHANT\nRUGGED PEEL \n\n\nWALL pre.\nMAGICAL VIBES\n@初台WALL
URL:https://nakano-dynamite.com/wall/event/2025-05-28/
LOCATION:初台WALL\, 西新宿　3-15-8-B1\, 新宿区\, 東京都\, 160-0023\, Japan
ATTACH;FMTTYPE=image/jpeg:https://nakano-dynamite.com/wall/wp-content/uploads/2025/05/20250528.jpg
END:VEVENT
BEGIN:VEVENT
DTSTART;TZID=Asia/Tokyo:20241123T160000
DTEND;TZID=Asia/Tokyo:20241123T220000
DTSTAMP:20260420T111813
CREATED:20241108T080807Z
LAST-MODIFIED:20241120T124407Z
UID:3124-1732377600-1732399200@nakano-dynamite.com
SUMMARY:MIRAGE FOREST
DESCRIPTION:2024.11.23(sat)\nOPEN 16:00\nSTART 16:30\nADV/DOOR ¥2400\n+1D\n\nBANGLANG(苫小牧)\nTORO\nFRACTURE\nTRES\nNASTIE\nQHOQ\ngloptin\n1/8計画\n\n\n\nMorishima&Shinki pre.\nMIRAGE FOREST\n@初台WALL
URL:https://nakano-dynamite.com/wall/event/2024-11-23/
LOCATION:初台WALL\, 西新宿　3-15-8-B1\, 新宿区\, 東京都\, 160-0023\, Japan
ATTACH;FMTTYPE=image/jpeg:https://nakano-dynamite.com/wall/wp-content/uploads/2024/11/20241123-1.jpg
END:VEVENT
BEGIN:VEVENT
DTSTART;TZID=Asia/Tokyo:20240606T180000
DTEND;TZID=Asia/Tokyo:20240606T220000
DTSTAMP:20260420T111813
CREATED:20240602T092616Z
LAST-MODIFIED:20240602T092704Z
UID:2549-1717696800-1717711200@nakano-dynamite.com
SUMMARY:蜃気楼~PAシンキvol.28~
DESCRIPTION:2024.06.06(thu)\nOPEN 18:00\nSTART 18:30\nDOOR￥2000\n+1D\n\nnastie\nMassMan(台湾)\nTRES\nRYDEEN\nTORO \n\n\nWALL pre.\n蜃気楼-PAシンキ生誕祭vol.28-\n@初台WALL
URL:https://nakano-dynamite.com/wall/event/2024-06-06/
LOCATION:初台WALL\, 西新宿　3-15-8-B1\, 新宿区\, 東京都\, 160-0023\, Japan
ATTACH;FMTTYPE=image/jpeg:https://nakano-dynamite.com/wall/wp-content/uploads/2024/06/20240606.jpg
END:VEVENT
BEGIN:VEVENT
DTSTART;TZID=Asia/Tokyo:20240502T170000
DTEND;TZID=Asia/Tokyo:20240502T220000
DTSTAMP:20260420T111813
CREATED:20240329T075429Z
LAST-MODIFIED:20240419T065616Z
UID:2509-1714669200-1714687200@nakano-dynamite.com
SUMMARY:DUB CONNECTION
DESCRIPTION:2024.05.02(thu)\nOPEN 17:00\nSTART 17:45\nDOOR￥2000\n+1D\n\nLos Tequila Cokes\nTORO\nNinja wi Ninja\nOJO ROJO\n天狗ROCKERS\n\n-DJ-\nJr.Kim\nAniki\n\n天狗ROCKERS pre\nDUB CONNECTION\n@初台WALL
URL:https://nakano-dynamite.com/wall/event/2024-05-02/
LOCATION:初台WALL\, 西新宿　3-15-8-B1\, 新宿区\, 東京都\, 160-0023\, Japan
ATTACH;FMTTYPE=image/jpeg:https://nakano-dynamite.com/wall/wp-content/uploads/2024/03/20240502.jpg
END:VEVENT
BEGIN:VEVENT
DTSTART;TZID=Asia/Tokyo:20240222T183000
DTEND;TZID=Asia/Tokyo:20240222T220000
DTSTAMP:20260420T111813
CREATED:20240209T093524Z
LAST-MODIFIED:20240209T093524Z
UID:2309-1708626600-1708639200@nakano-dynamite.com
SUMMARY:222
DESCRIPTION:2024.02.22(thu)\nOPEN 18:30 \nSTART 19:00\nDOOR￥2000+1D\n\nTRES\nTORO\nIL BASTARDO\nサヨナラボーイ\n9991\n\n\n\nSHIMADA pre\n222\n@初台WALL
URL:https://nakano-dynamite.com/wall/event/2024-02-22/
LOCATION:初台WALL\, 西新宿　3-15-8-B1\, 新宿区\, 東京都\, 160-0023\, Japan
ATTACH;FMTTYPE=image/jpeg:https://nakano-dynamite.com/wall/wp-content/uploads/2024/02/20240222.jpg
END:VEVENT
BEGIN:VEVENT
DTSTART;TZID=Asia/Tokyo:20230409T173000
DTEND;TZID=Asia/Tokyo:20230409T220000
DTSTAMP:20260420T111813
CREATED:20230315T105650Z
LAST-MODIFIED:20230315T105650Z
UID:1072-1681061400-1681077600@nakano-dynamite.com
SUMMARY:GOTHAM
DESCRIPTION:2023.04.09 (sun)\nOPEN 17:30 START 18:00\nDOOR ￥2000+1D\n\nNASTIE\n#STDRUMS\nTHE WAMEKI\n天狗ロッカーズ\nTORO\n\nWALL pre\nGOTHAM\n@初台WALL
URL:https://nakano-dynamite.com/wall/event/2023-4-09/
LOCATION:初台WALL\, 西新宿　3-15-8-B1\, 新宿区\, 東京都\, 160-0023\, Japan
ATTACH;FMTTYPE=image/png:https://nakano-dynamite.com/wall/wp-content/uploads/2023/03/202304099.png
END:VEVENT
BEGIN:VEVENT
DTSTART;TZID=Asia/Tokyo:20221125T180000
DTEND;TZID=Asia/Tokyo:20221125T220000
DTSTAMP:20260420T111813
CREATED:20221121T030245Z
LAST-MODIFIED:20221129T091501Z
UID:45-1669399200-1669413600@nakano-dynamite.com
SUMMARY:Wall pre: GOTHAM
DESCRIPTION:2022.11.25(FRI)\nOPEN18:00 / START18:30\n¥1500+1D\n►ＢＡＮＤ\nTORO\nGloptin\n母親文化村\n鋭児\nNASTIE\n►DJ\nNATURAL PSYCHO BASTARD\noqub\nＭＵＭ\n \nＷＡＬＬ　pre!!!! 【GOTHAM】\n@初台WALL
URL:https://nakano-dynamite.com/wall/event/2022-11-25/
LOCATION:初台WALL\, 西新宿　3-15-8-B1\, 新宿区\, 東京都\, 160-0023\, Japan
ATTACH;FMTTYPE=image/jpeg:https://nakano-dynamite.com/wall/wp-content/uploads/2022/11/2022-11-25.jpeg
END:VEVENT
END:VCALENDAR