BEGIN:VCALENDAR
VERSION:2.0
PRODID:-//Livehouse Wall - ECPv6.15.20//NONSGML v1.0//EN
CALSCALE:GREGORIAN
METHOD:PUBLISH
X-ORIGINAL-URL:https://nakano-dynamite.com/wall
X-WR-CALDESC:Livehouse Wall のイベント
REFRESH-INTERVAL;VALUE=DURATION:PT1H
X-Robots-Tag:noindex
X-PUBLISHED-TTL:PT1H
BEGIN:VTIMEZONE
TZID:Asia/Tokyo
BEGIN:STANDARD
TZOFFSETFROM:+0900
TZOFFSETTO:+0900
TZNAME:JST
DTSTART:20220101T000000
END:STANDARD
END:VTIMEZONE
BEGIN:VEVENT
DTSTART;TZID=Asia/Tokyo:20260308T113000
DTEND;TZID=Asia/Tokyo:20260308T170000
DTSTAMP:20260422T125058
CREATED:20260206T144853Z
LAST-MODIFIED:20260227T044929Z
UID:4627-1772969400-1772989200@nakano-dynamite.com
SUMMARY:OVERALL
DESCRIPTION:2026.03.08(sun)\nOPEN 12:00\nSTART 12:30\nADV ¥2400\nDOOR ¥2900\n+1D\n\nThe Dahlia(Osaka)\nTrash of Acorn(Osaka)\nBecause I love it(Fukuoka)\nGOOD PERV KID\nPATROLTIME\nHOW\nQUICKDEAD\nNOT SO HARD WORK(Sapporo)\n\n-DJs-\nセージーガガ\n\n\n\nHOW pre.\nOVERALL\n@初台WALL
URL:https://nakano-dynamite.com/wall/event/2026-03-08-1/
LOCATION:初台WALL\, 西新宿　3-15-8-B1\, 新宿区\, 東京都\, 160-0023\, Japan
ATTACH;FMTTYPE=image/jpeg:https://nakano-dynamite.com/wall/wp-content/uploads/2026/02/20260308-1.jpg
END:VEVENT
BEGIN:VEVENT
DTSTART;TZID=Asia/Tokyo:20240406T150000
DTEND;TZID=Asia/Tokyo:20240406T220000
DTSTAMP:20260422T125058
CREATED:20240310T133724Z
LAST-MODIFIED:20240310T133724Z
UID:2447-1712415600-1712440800@nakano-dynamite.com
SUMMARY:HEAVY RECOMMEND
DESCRIPTION:2024.04.06(sat)\nOPEN 15:00\nSTART 15:30\nADV￥2900\nDOOR￥3400\n+1D\n\nMEXICAN AGE\nNAFT\nJolly Bobby SEX\nBad Attack\nTake Back The Beers!\nTrash of Acorn\nHOW\nはいから\nJERSEY DEVIL\n\n\nMEXICAN AGE pre\nHEAVY RECOMMEND\n@初台WALL
URL:https://nakano-dynamite.com/wall/event/2024-04-06/
LOCATION:初台WALL\, 西新宿　3-15-8-B1\, 新宿区\, 東京都\, 160-0023\, Japan
ATTACH;FMTTYPE=image/jpeg:https://nakano-dynamite.com/wall/wp-content/uploads/2024/03/20240406.jpg
END:VEVENT
BEGIN:VEVENT
DTSTART;TZID=Asia/Tokyo:20240204T140000
DTEND;TZID=Asia/Tokyo:20240204T220000
DTSTAMP:20260422T125058
CREATED:20240106T065730Z
LAST-MODIFIED:20240121T130354Z
UID:2228-1707055200-1707084000@nakano-dynamite.com
SUMMARY:OVER ALL
DESCRIPTION:2024.02.04 (sun)\nOPEN 14:00  START 14:30\nADV ￥2400 DOOR ￥2900 ＋1D\n\nSLANG BOOGIE\nFIVE NO RISK(大坂) \n大王ヤリイカさん(大阪)\nTrash of Acorn(大阪)\nHOW \nBad Attack \nCRISPY NUTS \nMyベストテープ \nTHE RODEOS \nMEXICAN AGE\n\n \nOVER ALL CREW pre\nOVERALL\n@初台WALL
URL:https://nakano-dynamite.com/wall/event/2024-02-04/
LOCATION:初台WALL\, 西新宿　3-15-8-B1\, 新宿区\, 東京都\, 160-0023\, Japan
CATEGORIES:OVER ALL
ATTACH;FMTTYPE=image/jpeg:https://nakano-dynamite.com/wall/wp-content/uploads/2024/01/20240204-2.jpg
END:VEVENT
BEGIN:VEVENT
DTSTART;TZID=Asia/Tokyo:20231216T160000
DTEND;TZID=Asia/Tokyo:20231216T220000
DTSTAMP:20260422T125058
CREATED:20231123T072026Z
LAST-MODIFIED:20231123T093917Z
UID:2070-1702742400-1702764000@nakano-dynamite.com
SUMMARY:MEXICAN AGE 　2nd Full album Release A Little Tour  Fin
DESCRIPTION:2023.12.16 (sat)\nOPEN 16:00\nADV ￥2400  DOOR ￥2600 ＋1D\n\n-BAND-\nMEXICAN AGE\nwater weed\nHOW\nTHE AUTOCRATICS\nRatchild\nTrash of Acorn\n\n-DJ-\nREADY TO DANCE (山一書店)\nセージーガガ\nIDE＆Johnny (B.O.T)\n\n-FOOD-\nva nguoi bao ve\n\n\nMEXICAN AGE pre\nMEXICAN AGE 　2nd Full album Release A Little Tour Fin\n@初台WALL
URL:https://nakano-dynamite.com/wall/event/2023-12-16/
LOCATION:初台WALL\, 西新宿　3-15-8-B1\, 新宿区\, 東京都\, 160-0023\, Japan
ATTACH;FMTTYPE=image/jpeg:https://nakano-dynamite.com/wall/wp-content/uploads/2023/11/20231216.jpg
END:VEVENT
END:VCALENDAR